{"text_format":"1","workbook":"xlsx","n_sheets":7,"sheets":["LİSTE","M","HB","TR","BO","MZ","GS"],"not_rendered":{"charts":0,"images":3,"macros":1,"external_links":0,"defined_names":14,"comments":0,"pivot_tables":0},"unopened":[],"bounds":{"document_bytes":16777216,"sheet_cells":100000,"rows_first":2000,"rows_last":500,"rows_between":2000,"halvings":0,"cell_chars":16384,"cell_head_chars":4096},"cells_cut":0,"cells_raw":0,"read":"whole","date_system":"1900"}

{"sheet":"LİSTE","index":0,"n_rows":13,"n_cols":5,"rows_kept":13,"cut":false,"hidden":false,"merged":[[13,2,13,3],[8,4,10,7],[14,2,14,7],[12,2,12,7],[0,0,1,0],[0,1,1,1]]}
["ÖĞRENCİ NO","ADI SOYADI"]
[null,null,"Eğitim Öğretim Yılı","2022-2023 EĞİTİM ÖĞRETİM YILI"]
[null,null,"OKULU:","ATATÜRK İLKOKULU"]
[null,null,"SINIF ÖĞRETMENİ:"]
[null,null,"SINIFI:","2-"]
[]
[null,null,"TÜRKÇE FORM","MÜZİK FORM"]
[null,null,"MATEMATİK FORM","BEDEN EĞİTİMİ VE OYUN FORM"]
[null,null,"HAYAT BİLGİSİ FORM","GÖRSEL SANATLAR FORM","FORMLARIN TAMAMINDA PUANLAMA 3 OLARAK GELECEKTİR.DEĞİŞİKLİK YAPABİLİRSİNİZ."]
[]
[]
[]
[null,null,"BİLGİLER OTOMATİK FORMLARA EKLENECEKTİR."]

{"sheet":"M","index":1,"n_rows":31,"n_cols":42,"rows_kept":31,"cut":false,"hidden":false,"merged":[[26,1,27,1],[28,3,28,10],[28,11,28,14],[29,20,29,29],[30,20,30,29]]}
[null,"BU SATIRDAN ÖĞRENCİNİN NOTUNU TAKİP EDEBİLİRSİNİZ è",{"$f":"C28","v":"Çok İyi"},"Çok İyi","Çok İyi","Çok İyi","Çok İyi","Çok İyi","Çok İyi","Çok İyi","Çok İyi","Çok İyi","Çok İyi","Çok İyi","Çok İyi","Çok İyi","Çok İyi","Çok İyi","Çok İyi","Çok İyi","Çok İyi","Çok İyi","Çok İyi","Çok İyi","Çok İyi","Çok İyi","Çok İyi","Çok İyi","Çok İyi","Çok İyi","Çok İyi","Çok İyi","Çok İyi","Çok İyi","Çok İyi","Çok İyi","Çok İyi","Çok İyi","Çok İyi","Çok İyi","Çok İyi","Çok İyi"]
[null,{"$f":"CONCATENATE(\" \",LİSTE!D2,\" \",LİSTE!D3,\" \",\" 1.DÖNEM\",\" \",LİSTE!D5,\" \",\"SINIFI\",\" \",\"MATEMATİK DERSİ KAZANIM DEĞERLENDİRME FORMU\")","v":" 2022-2023 EĞİTİM ÖĞRETİM YILI ATATÜRK İLKOKULU  1.DÖNEM 2- SINIFI MATEMATİK DERSİ KAZANIM DEĞERLENDİRME FORMU"},{"$f":"IF(LİSTE!$B3=0,\"\",LİSTE!$B3)","v":""},{"$f":"IF(LİSTE!$B4=0,\"\",LİSTE!$B4)","v":""},{"$f":"IF(LİSTE!$B5=0,\"\",LİSTE!$B5)","v":""},{"$f":"IF(LİSTE!$B6=0,\"\",LİSTE!$B6)","v":""},{"$f":"IF(LİSTE!$B7=0,\"\",LİSTE!$B7)","v":""},{"$f":"IF(LİSTE!$B8=0,\"\",LİSTE!$B8)","v":""},{"$f":"IF(LİSTE!$B9=0,\"\",LİSTE!$B9)","v":""},{"$f":"IF(LİSTE!$B10=0,\"\",LİSTE!$B10)","v":""},{"$f":"IF(LİSTE!$B11=0,\"\",LİSTE!$B11)","v":""},{"$f":"IF(LİSTE!$B12=0,\"\",LİSTE!$B12)","v":""},{"$f":"IF(LİSTE!$B13=0,\"\",LİSTE!$B13)","v":""},{"$f":"IF(LİSTE!$B14=0,\"\",LİSTE!$B14)","v":""},{"$f":"IF(LİSTE!$B15=0,\"\",LİSTE!$B15)","v":""},{"$f":"IF(LİSTE!$B16=0,\"\",LİSTE!$B16)","v":""},{"$f":"IF(LİSTE!$B17=0,\"\",LİSTE!$B17)","v":""},{"$f":"IF(LİSTE!$B18=0,\"\",LİSTE!$B18)","v":""},{"$f":"IF(LİSTE!$B19=0,\"\",LİSTE!$B19)","v":""},{"$f":"IF(LİSTE!$B20=0,\"\",LİSTE!$B20)","v":""},{"$f":"IF(LİSTE!$B21=0,\"\",LİSTE!$B21)","v":""},{"$f":"IF(LİSTE!$B22=0,\"\",LİSTE!$B22)","v":""},{"$f":"IF(LİSTE!$B23=0,\"\",LİSTE!$B23)","v":""},{"$f":"IF(LİSTE!$B24=0,\"\",LİSTE!$B24)","v":""},{"$f":"IF(LİSTE!$B25=0,\"\",LİSTE!$B25)","v":""},{"$f":"IF(LİSTE!$B26=0,\"\",LİSTE!$B26)","v":""},{"$f":"IF(LİSTE!$B27=0,\"\",LİSTE!$B27)","v":""},{"$f":"IF(LİSTE!$B28=0,\"\",LİSTE!$B28)","v":""},{"$f":"IF(LİSTE!$B29=0,\"\",LİSTE!$B29)","v":""},{"$f":"IF(LİSTE!$B$30=0,\"\",LİSTE!$B$30)","v":""},{"$f":"IF(LİSTE!$B$31=0,\"\",LİSTE!$B$31)","v":""},{"$f":"IF(LİSTE!$B$32=0,\"\",LİSTE!$B$32)","v":""},{"$f":"IF(LİSTE!$B$33=0,\"\",LİSTE!$B$33)","v":""},{"$f":"IF(LİSTE!$B$34=0,\"\",LİSTE!$B$34)","v":""},{"$f":"IF(LİSTE!$B$35=0,\"\",LİSTE!$B$35)","v":""},{"$f":"IF(LİSTE!$B$36=0,\"\",LİSTE!$B$36)","v":""},{"$f":"IF(LİSTE!$B$37=0,\"\",LİSTE!$B$37)","v":""},{"$f":"IF(LİSTE!$B$38=0,\"\",LİSTE!$B$38)","v":""},{"$f":"IF(LİSTE!$B$39=0,\"\",LİSTE!$B$39)","v":""},{"$f":"IF(LİSTE!$B$40=0,\"\",LİSTE!$B$40)","v":""},{"$f":"IF(LİSTE!$B$41=0,\"\",LİSTE!$B$41)","v":""},{"$f":"IF(LİSTE!$B$42=0,\"\",LİSTE!$B$42)","v":""}]
[null,"KAZANIMLAR",{"$f":"IF(LİSTE!$A3=0,\"\",LİSTE!$A3)","v":""},{"$f":"IF(LİSTE!$A4=0,\"\",LİSTE!$A4)","v":""},{"$f":"IF(LİSTE!$A5=0,\"\",LİSTE!$A5)","v":""},{"$f":"IF(LİSTE!$A6=0,\"\",LİSTE!$A6)","v":""},{"$f":"IF(LİSTE!$A7=0,\"\",LİSTE!$A7)","v":""},{"$f":"IF(LİSTE!$A8=0,\"\",LİSTE!$A8)","v":""},{"$f":"IF(LİSTE!$A9=0,\"\",LİSTE!$A9)","v":""},{"$f":"IF(LİSTE!$A10=0,\"\",LİSTE!$A10)","v":""},{"$f":"IF(LİSTE!$A11=0,\"\",LİSTE!$A11)","v":""},{"$f":"IF(LİSTE!$A12=0,\"\",LİSTE!$A12)","v":""},{"$f":"IF(LİSTE!$A13=0,\"\",LİSTE!$A13)","v":""},{"$f":"IF(LİSTE!$A14=0,\"\",LİSTE!$A14)","v":""},{"$f":"IF(LİSTE!$A15=0,\"\",LİSTE!$A15)","v":""},{"$f":"IF(LİSTE!$A16=0,\"\",LİSTE!$A16)","v":""},{"$f":"IF(LİSTE!$A17=0,\"\",LİSTE!$A17)","v":""},{"$f":"IF(LİSTE!$A18=0,\"\",LİSTE!$A18)","v":""},{"$f":"IF(LİSTE!$A19=0,\"\",LİSTE!$A19)","v":""},{"$f":"IF(LİSTE!$A20=0,\"\",LİSTE!$A20)","v":""},{"$f":"IF(LİSTE!$A21=0,\"\",LİSTE!$A21)","v":""},{"$f":"IF(LİSTE!$A22=0,\"\",LİSTE!$A22)","v":""},{"$f":"IF(LİSTE!$A23=0,\"\",LİSTE!$A23)","v":""},{"$f":"IF(LİSTE!$A24=0,\"\",LİSTE!$A24)","v":""},{"$f":"IF(LİSTE!$A25=0,\"\",LİSTE!$A25)","v":""},{"$f":"IF(LİSTE!$A26=0,\"\",LİSTE!$A26)","v":""},{"$f":"IF(LİSTE!$A27=0,\"\",LİSTE!$A27)","v":""},{"$f":"IF(LİSTE!$A28=0,\"\",LİSTE!$A28)","v":""},{"$f":"IF(LİSTE!$A29=0,\"\",LİSTE!$A29)","v":""},{"$f":"IF(LİSTE!$A30=0,\"\",LİSTE!$A30)","v":""},{"$f":"IF(LİSTE!$A31=0,\"\",LİSTE!$A31)","v":""},{"$f":"IF(LİSTE!$A32=0,\"\",LİSTE!$A32)","v":""},{"$f":"IF(LİSTE!$A33=0,\"\",LİSTE!$A33)","v":""},{"$f":"IF(LİSTE!$A34=0,\"\",LİSTE!$A34)","v":""},{"$f":"IF(LİSTE!$A35=0,\"\",LİSTE!$A35)","v":""},{"$f":"IF(LİSTE!$A36=0,\"\",LİSTE!$A36)","v":""},{"$f":"IF(LİSTE!$A37=0,\"\",LİSTE!$A37)","v":""},{"$f":"IF(LİSTE!$A38=0,\"\",LİSTE!$A38)","v":""},{"$f":"IF(LİSTE!$A39=0,\"\",LİSTE!$A39)","v":""},{"$f":"IF(LİSTE!$A40=0,\"\",LİSTE!$A40)","v":""},{"$f":"IF(LİSTE!$A41=0,\"\",LİSTE!$A41)","v":""},{"$f":"IF(LİSTE!$A42=0,\"\",LİSTE!$A42)","v":""}]
[null,"Nesne sayısı 100’e kadar (100 dâhil) olan bir topluluktaki nesnelerin sayısını belirler ve bu sayıyı rakamlarla yazar.",3,3,3,3,3,3,3,3,3,3,3,3,3,3,3,3,3,3,3,3,3,3,3,3,3,3,3,3,3,3,3,3,3,3,3,3,3,3,3,3]
[null,"Nesne sayısı 100’den az olan bir çokluğu model kullanarak onluk ve birlik gruplara ayırır, sayı ile ifade eder.",3,3,3,3,3,3,3,3,3,3,3,3,3,3,3,3,3,3,3,3,3,3,3,3,3,3,3,3,3,3,3,3,3,3,3,3,3,3,3,3]
[null,"Verilen bir çokluktaki nesne sayısını tahmin eder, tahminini sayarak kontrol eder.",3,3,3,3,3,3,3,3,3,3,3,3,3,3,3,3,3,3,3,3,3,3,3,3,3,3,3,3,3,3,3,3,3,3,3,3,3,3,3,3]
[null,"100’den küçük doğal sayıların basamaklarını modeller üzerinde adlandırır, basamaklardaki rakamların basamak değerlerini belirtir.",3,3,3,3,3,3,3,3,3,3,3,3,3,3,3,3,3,3,3,3,3,3,3,3,3,3,3,3,3,3,3,3,3,3,3,3,3,3,3,3]
[null,"100 içinde ikişer, beşer ve onar; 30 içinde üçer; 40 içinde dörder ileriye ve geriye doğru sayar.",3,3,3,3,3,3,3,3,3,3,3,3,3,3,3,3,3,3,3,3,3,3,3,3,3,3,3,3,3,3,3,3,3,3,3,3,3,3,3,3]
[null,"Aralarındaki fark sabit olan sayı örüntülerini tanır, örüntünün kuralını bulur ve eksik bırakılan ögeyi belirleyerek örüntüyü tamamlar",3,3,3,3,3,3,3,3,3,3,3,3,3,3,3,3,3,3,3,3,3,3,3,3,3,3,3,3,3,3,3,3,3,3,3,3,3,3,3,3]
[null,"100’den küçük doğal sayılar arasında karşılaştırma ve sıralama yapar.",3,3,3,3,3,3,3,3,3,3,3,3,3,3,3,3,3,3,3,3,3,3,3,3,3,3,3,3,3,3,3,3,3,3,3,3,3,3,3,3]
[null,"Toplamları 100’e kadar (100 dâhil) olan doğal sayılarla eldesiz ve eldeli toplama işlemini yapar.",3,3,3,3,3,3,3,3,3,3,3,3,3,3,3,3,3,3,3,3,3,3,3,3,3,3,3,3,3,3,3,3,3,3,3,3,3,3,3,3]
[null,"100’e kadar olan doğal sayılarla onluk bozmayı gerektiren ve gerektirmeyen çıkarma işlemini yapar.",3,3,3,3,3,3,3,3,3,3,3,3,3,3,3,3,3,3,3,3,3,3,3,3,3,3,3,3,3,3,3,3,3,3,3,3,3,3,3,3]
[null,"100 içinde 10’un katı olan iki doğal sayının farkını zihinden bulur.",3,3,3,3,3,3,3,3,3,3,3,3,3,3,3,3,3,3,3,3,3,3,3,3,3,3,3,3,3,3,3,3,3,3,3,3,3,3,3,3]
[null,"İki sayının toplamında verilmeyen toplananı bulur.",3,3,3,3,3,3,3,3,3,3,3,3,3,3,3,3,3,3,3,3,3,3,3,3,3,3,3,3,3,3,3,3,3,3,3,3,3,3,3,3]
[null,"İki doğal sayının toplamını tahmin eder ve tahminini işlem sonucuyla karşılaştırır.",3,3,3,3,3,3,3,3,3,3,3,3,3,3,3,3,3,3,3,3,3,3,3,3,3,3,3,3,3,3,3,3,3,3,3,3,3,3,3,3]
[null,"Zihinden toplama işlemi yapar.",3,3,3,3,3,3,3,3,3,3,3,3,3,3,3,3,3,3,3,3,3,3,3,3,3,3,3,3,3,3,3,3,3,3,3,3,3,3,3,3]
[null,"Doğal sayılarla toplama işlemini gerektiren problemleri çözer.",3,3,3,3,3,3,3,3,3,3,3,3,3,3,3,3,3,3,3,3,3,3,3,3,3,3,3,3,3,3,3,3,3,3,3,3,3,3,3,3]
[null,"Doğal sayılarla yapılan çıkarma işleminin sonucunu tahmin eder ve tahminini işlem sonucuyla karşılaştırır.",3,3,3,3,3,3,3,3,3,3,3,3,3,3,3,3,3,3,3,3,3,3,3,3,3,3,3,3,3,3,3,3,3,3,3,3,3,3,3,3]
[null,"Toplama ve çıkarma işlemleri arasındaki ilişkiyi fark eder.",3,3,3,3,3,3,3,3,3,3,3,3,3,3,3,3,3,3,3,3,3,3,3,3,3,3,3,3,3,3,3,3,3,3,3,3,3,3,3,3]
[null,"Eşit işaretinin matematiksel ifadeler arasındaki \"eşitlik\" anlamını fark eder",3,3,3,3,3,3,3,3,3,3,3,3,3,3,3,3,3,3,3,3,3,3,3,3,3,3,3,3,3,3,3,3,3,3,3,3,3,3,3,3]
[null,"Doğal sayılarla toplama ve çıkarma işlemini gerektiren problemleri çözer.",3,3,3,3,3,3,3,3,3,3,3,3,3,3,3,3,3,3,3,3,3,3,3,3,3,3,3,3,3,3,3,3,3,3,3,3,3,3,3,3]
[null,"Standart olmayan sıvı ölçme birimlerini kullanarak sıvıların miktarını ölçer ve karşılaştırır.",3,3,3,3,3,3,3,3,3,3,3,3,3,3,3,3,3,3,3,3,3,3,3,3,3,3,3,3,3,3,3,3,3,3,3,3,3,3,3,3]
[null,"Standart olmayan sıvı ölçme birimleriyle ilgili problemleri çözer.",3,3,3,3,3,3,3,3,3,3,3,3,3,3,3,3,3,3,3,3,3,3,3,3,3,3,3,3,3,3,3,3,3,3,3,3,3,3,3,3]
[null,"Geometrik şekilleri kenar ve köşe sayılarına göre sınıflandırır.",3,3,3,3,3,3,3,3,3,3,3,3,3,3,3,3,3,3,3,3,3,3,3,3,3,3,3,3,3,3,3,3,3,3,3,3,3,3,3,3]
[null,"Şekil modelleri kullanarak yapılar oluşturur, oluşturduğu yapıları çizer.",3,3,3,3,3,3,3,3,3,3,3,3,3,3,3,3,3,3,3,3,3,3,3,3,3,3,3,3,3,3,3,3,3,3,3,3,3,3,3,3]
[null,"Küp, kare prizma, dikdörtgen prizma, üçgen prizma, silindir ve küreyi modeller üstünde tanır ve ayırt eder.",3,3,3,3,3,3,3,3,3,3,3,3,3,3,3,3,3,3,3,3,3,3,3,3,3,3,3,3,3,3,3,3,3,3,3,3,3,3,3,3]
[null,"SONUÇ",{"$f":"IFERROR(ROUND(AVERAGE(C4:C26),0),\"\")","v":3},3,3,3,3,3,3,3,3,3,3,3,3,3,3,3,3,3,3,3,3,3,3,3,3,3,3,3,3,3,3,3,3,3,3,3,3,3,3,3]
[null,null,{"$f":"IF(C27=\"\",\"\",IF(C27<1.5,\"Geliştirilmeli\",IF(C27>2.44,\"Çok İyi\",\"İyi\")))","v":"Çok İyi"},{"$f":"IF(D27=\"\",\"\",IF(D27<1.5,\"Geliştirilmeli\",IF(D27>2.44,\"Çok İyi\",\"İyi\")))","v":"Çok İyi"},"Çok İyi","Çok İyi","Çok İyi","Çok İyi","Çok İyi","Çok İyi","Çok İyi","Çok İyi","Çok İyi","Çok İyi","Çok İyi","Çok İyi","Çok İyi","Çok İyi","Çok İyi","Çok İyi","Çok İyi","Çok İyi","Çok İyi","Çok İyi","Çok İyi","Çok İyi","Çok İyi","Çok İyi","Çok İyi","Çok İyi","Çok İyi","Çok İyi","Çok İyi","Çok İyi","Çok İyi","Çok İyi","Çok İyi","Çok İyi","Çok İyi","Çok İyi","Çok İyi","Çok İyi"]
[]
[null,null,null,null,null,null,null,null,null,null,null,null,null,null,null,null,null,null,null,null,{"$f":"IF(LİSTE!$D4=0,\"\",LİSTE!$D4)","v":""}]
[null,null,null,null,null,null,null,null,null,null,null,null,null,null,null,null,null,null,null,null,{"$f":"CONCATENATE(LİSTE!D5,\" \",\"Sınıf Öğretmeni\")","v":"2- Sınıf Öğretmeni"}]

{"sheet":"HB","index":2,"n_rows":29,"n_cols":42,"rows_kept":29,"cut":false,"hidden":false,"merged":[[24,1,25,1],[26,3,26,10],[26,11,26,14],[27,20,27,29],[28,20,28,29]]}
[null,"BU SATIRDAN ÖĞRENCİNİN NOTUNU TAKİP EDEBİLİRSİNİZ è",{"$f":"C26","v":"Çok İyi"},"Çok İyi","Çok İyi","Çok İyi","Çok İyi","Çok İyi","Çok İyi","Çok İyi","Çok İyi","Çok İyi","Çok İyi","Çok İyi","Çok İyi","Çok İyi","Çok İyi","Çok İyi","Çok İyi","Çok İyi","Çok İyi","Çok İyi","Çok İyi","Çok İyi","Çok İyi","Çok İyi","Çok İyi","Çok İyi","Çok İyi","Çok İyi","Çok İyi","Çok İyi","Çok İyi","Çok İyi","Çok İyi","Çok İyi","Çok İyi","Çok İyi","Çok İyi","Çok İyi","Çok İyi","Çok İyi"]
[null,{"$f":"CONCATENATE(\" \",LİSTE!D2,\" \",LİSTE!D3,\" \",\" 1.DÖNEM\",\" \",LİSTE!D5,\" \",\"SINIFI\",\" \",\"HAYAT BİLGİSİ DERSİ KAZANIM DEĞERLENDİRME FORMU\")","v":" 2022-2023 EĞİTİM ÖĞRETİM YILI ATATÜRK İLKOKULU  1.DÖNEM 2- SINIFI HAYAT BİLGİSİ DERSİ KAZANIM DEĞERLENDİRME FORMU"},{"$f":"IF(LİSTE!$B3=0,\"\",LİSTE!$B3)","v":""},{"$f":"IF(LİSTE!$B4=0,\"\",LİSTE!$B4)","v":""},{"$f":"IF(LİSTE!$B5=0,\"\",LİSTE!$B5)","v":""},{"$f":"IF(LİSTE!$B6=0,\"\",LİSTE!$B6)","v":""},{"$f":"IF(LİSTE!$B7=0,\"\",LİSTE!$B7)","v":""},{"$f":"IF(LİSTE!$B8=0,\"\",LİSTE!$B8)","v":""},{"$f":"IF(LİSTE!$B9=0,\"\",LİSTE!$B9)","v":""},{"$f":"IF(LİSTE!$B10=0,\"\",LİSTE!$B10)","v":""},{"$f":"IF(LİSTE!$B11=0,\"\",LİSTE!$B11)","v":""},{"$f":"IF(LİSTE!$B12=0,\"\",LİSTE!$B12)","v":""},{"$f":"IF(LİSTE!$B13=0,\"\",LİSTE!$B13)","v":""},{"$f":"IF(LİSTE!$B14=0,\"\",LİSTE!$B14)","v":""},{"$f":"IF(LİSTE!$B15=0,\"\",LİSTE!$B15)","v":""},{"$f":"IF(LİSTE!$B16=0,\"\",LİSTE!$B16)","v":""},{"$f":"IF(LİSTE!$B17=0,\"\",LİSTE!$B17)","v":""},{"$f":"IF(LİSTE!$B18=0,\"\",LİSTE!$B18)","v":""},{"$f":"IF(LİSTE!$B19=0,\"\",LİSTE!$B19)","v":""},{"$f":"IF(LİSTE!$B20=0,\"\",LİSTE!$B20)","v":""},{"$f":"IF(LİSTE!$B21=0,\"\",LİSTE!$B21)","v":""},{"$f":"IF(LİSTE!$B22=0,\"\",LİSTE!$B22)","v":""},{"$f":"IF(LİSTE!$B23=0,\"\",LİSTE!$B23)","v":""},{"$f":"IF(LİSTE!$B24=0,\"\",LİSTE!$B24)","v":""},{"$f":"IF(LİSTE!$B25=0,\"\",LİSTE!$B25)","v":""},{"$f":"IF(LİSTE!$B26=0,\"\",LİSTE!$B26)","v":""},{"$f":"IF(LİSTE!$B27=0,\"\",LİSTE!$B27)","v":""},{"$f":"IF(LİSTE!$B28=0,\"\",LİSTE!$B28)","v":""},{"$f":"IF(LİSTE!$B29=0,\"\",LİSTE!$B29)","v":""},{"$f":"IF(LİSTE!$B$30=0,\"\",LİSTE!$B$30)","v":""},{"$f":"IF(LİSTE!$B$31=0,\"\",LİSTE!$B$31)","v":""},{"$f":"IF(LİSTE!$B$32=0,\"\",LİSTE!$B$32)","v":""},{"$f":"IF(LİSTE!$B$33=0,\"\",LİSTE!$B$33)","v":""},{"$f":"IF(LİSTE!$B$34=0,\"\",LİSTE!$B$34)","v":""},{"$f":"IF(LİSTE!$B$35=0,\"\",LİSTE!$B$35)","v":""},{"$f":"IF(LİSTE!$B$36=0,\"\",LİSTE!$B$36)","v":""},{"$f":"IF(LİSTE!$B$37=0,\"\",LİSTE!$B$37)","v":""},{"$f":"IF(LİSTE!$B$38=0,\"\",LİSTE!$B$38)","v":""},{"$f":"IF(LİSTE!$B$39=0,\"\",LİSTE!$B$39)","v":""},{"$f":"IF(LİSTE!$B$40=0,\"\",LİSTE!$B$40)","v":""},{"$f":"IF(LİSTE!$B$41=0,\"\",LİSTE!$B$41)","v":""},{"$f":"IF(LİSTE!$B$42=0,\"\",LİSTE!$B$42)","v":""}]
[null,"KAZANIMLAR",{"$f":"IF(LİSTE!$A3=0,\"\",LİSTE!$A3)","v":""},{"$f":"IF(LİSTE!$A4=0,\"\",LİSTE!$A4)","v":""},{"$f":"IF(LİSTE!$A5=0,\"\",LİSTE!$A5)","v":""},{"$f":"IF(LİSTE!$A6=0,\"\",LİSTE!$A6)","v":""},{"$f":"IF(LİSTE!$A7=0,\"\",LİSTE!$A7)","v":""},{"$f":"IF(LİSTE!$A8=0,\"\",LİSTE!$A8)","v":""},{"$f":"IF(LİSTE!$A9=0,\"\",LİSTE!$A9)","v":""},{"$f":"IF(LİSTE!$A10=0,\"\",LİSTE!$A10)","v":""},{"$f":"IF(LİSTE!$A11=0,\"\",LİSTE!$A11)","v":""},{"$f":"IF(LİSTE!$A12=0,\"\",LİSTE!$A12)","v":""},{"$f":"IF(LİSTE!$A13=0,\"\",LİSTE!$A13)","v":""},{"$f":"IF(LİSTE!$A14=0,\"\",LİSTE!$A14)","v":""},{"$f":"IF(LİSTE!$A15=0,\"\",LİSTE!$A15)","v":""},{"$f":"IF(LİSTE!$A16=0,\"\",LİSTE!$A16)","v":""},{"$f":"IF(LİSTE!$A17=0,\"\",LİSTE!$A17)","v":""},{"$f":"IF(LİSTE!$A18=0,\"\",LİSTE!$A18)","v":""},{"$f":"IF(LİSTE!$A19=0,\"\",LİSTE!$A19)","v":""},{"$f":"IF(LİSTE!$A20=0,\"\",LİSTE!$A20)","v":""},{"$f":"IF(LİSTE!$A21=0,\"\",LİSTE!$A21)","v":""},{"$f":"IF(LİSTE!$A22=0,\"\",LİSTE!$A22)","v":""},{"$f":"IF(LİSTE!$A23=0,\"\",LİSTE!$A23)","v":""},{"$f":"IF(LİSTE!$A24=0,\"\",LİSTE!$A24)","v":""},{"$f":"IF(LİSTE!$A25=0,\"\",LİSTE!$A25)","v":""},{"$f":"IF(LİSTE!$A26=0,\"\",LİSTE!$A26)","v":""},{"$f":"IF(LİSTE!$A27=0,\"\",LİSTE!$A27)","v":""},{"$f":"IF(LİSTE!$A28=0,\"\",LİSTE!$A28)","v":""},{"$f":"IF(LİSTE!$A29=0,\"\",LİSTE!$A29)","v":""},{"$f":"IF(LİSTE!$A30=0,\"\",LİSTE!$A30)","v":""},{"$f":"IF(LİSTE!$A31=0,\"\",LİSTE!$A31)","v":""},{"$f":"IF(LİSTE!$A32=0,\"\",LİSTE!$A32)","v":""},{"$f":"IF(LİSTE!$A33=0,\"\",LİSTE!$A33)","v":""},{"$f":"IF(LİSTE!$A34=0,\"\",LİSTE!$A34)","v":""},{"$f":"IF(LİSTE!$A35=0,\"\",LİSTE!$A35)","v":""},{"$f":"IF(LİSTE!$A36=0,\"\",LİSTE!$A36)","v":""},{"$f":"IF(LİSTE!$A37=0,\"\",LİSTE!$A37)","v":""},{"$f":"IF(LİSTE!$A38=0,\"\",LİSTE!$A38)","v":""},{"$f":"IF(LİSTE!$A39=0,\"\",LİSTE!$A39)","v":""},{"$f":"IF(LİSTE!$A40=0,\"\",LİSTE!$A40)","v":""},{"$f":"IF(LİSTE!$A41=0,\"\",LİSTE!$A41)","v":""},{"$f":"IF(LİSTE!$A42=0,\"\",LİSTE!$A42)","v":""}]
[null,"Kendini farklı özellikleriyle tanıtır.",3,3,3,3,3,3,3,3,3,3,3,3,3,3,3,3,3,3,3,3,3,3,3,3,3,3,3,3,3,3,3,3,3,3,3,3,3,3,3,3]
[null,"Bireysel farklılıklara saygı duyar.",3,3,3,3,3,3,3,3,3,3,3,3,3,3,3,3,3,3,3,3,3,3,3,3,3,3,3,3,3,3,3,3,3,3,3,3,3,3,3,3]
[null,"Ders araç ve gereçlerini günlük ders programına göre hazırlar.",3,3,3,3,3,3,3,3,3,3,3,3,3,3,3,3,3,3,3,3,3,3,3,3,3,3,3,3,3,3,3,3,3,3,3,3,3,3,3,3]
[null,"Sınıfla ilgili konularda karar alma süreçlerine katılır.",3,3,3,3,3,3,3,3,3,3,3,3,3,3,3,3,3,3,3,3,3,3,3,3,3,3,3,3,3,3,3,3,3,3,3,3,3,3,3,3]
[null,"Okulunun yakın çevresini tanıtır.",3,3,3,3,3,3,3,3,3,3,3,3,3,3,3,3,3,3,3,3,3,3,3,3,3,3,3,3,3,3,3,3,3,3,3,3,3,3,3,3]
[null,"Okul kaynaklarını ve eşyalarını kullanırken özen gösterir.",3,3,3,3,3,3,3,3,3,3,3,3,3,3,3,3,3,3,3,3,3,3,3,3,3,3,3,3,3,3,3,3,3,3,3,3,3,3,3,3]
[null,"Sınıfta ve okulda yapılan etkinliklerde grupla çalışma kurallarına uyar.",3,3,3,3,3,3,3,3,3,3,3,3,3,3,3,3,3,3,3,3,3,3,3,3,3,3,3,3,3,3,3,3,3,3,3,3,3,3,3,3]
[null,"Okulda iletişim kurarken kendini anlaşılır ve açık bir dille ifade eder.",3,3,3,3,3,3,3,3,3,3,3,3,3,3,3,3,3,3,3,3,3,3,3,3,3,3,3,3,3,3,3,3,3,3,3,3,3,3,3,3]
[null,"Okulda iletişim kurarken dinleme kurallarına uyar.",3,3,3,3,3,3,3,3,3,3,3,3,3,3,3,3,3,3,3,3,3,3,3,3,3,3,3,3,3,3,3,3,3,3,3,3,3,3,3,3]
[null,"Okulda arkadaşlarıyla oyun oynarken kurallara uyar.",3,3,3,3,3,3,3,3,3,3,3,3,3,3,3,3,3,3,3,3,3,3,3,3,3,3,3,3,3,3,3,3,3,3,3,3,3,3,3,3]
[null,"Okulda parasını ihtiyaçları doğrultusunda bilinçli bir şekilde harcar.",3,3,3,3,3,3,3,3,3,3,3,3,3,3,3,3,3,3,3,3,3,3,3,3,3,3,3,3,3,3,3,3,3,3,3,3,3,3,3,3]
[null,"Yakın akrabalarını tanıtır.",3,3,3,3,3,3,3,3,3,3,3,3,3,3,3,3,3,3,3,3,3,3,3,3,3,3,3,3,3,3,3,3,3,3,3,3,3,3,3,3]
[null,"Akrabalık ilişkilerinin önemini kavrar.",3,3,3,3,3,3,3,3,3,3,3,3,3,3,3,3,3,3,3,3,3,3,3,3,3,3,3,3,3,3,3,3,3,3,3,3,3,3,3,3]
[null,"Yaşadığı evin adresini bilir.",3,3,3,3,3,3,3,3,3,3,3,3,3,3,3,3,3,3,3,3,3,3,3,3,3,3,3,3,3,3,3,3,3,3,3,3,3,3,3,3]
[null,"Aile içi karar alma süreçlerine katılır.",3,3,3,3,3,3,3,3,3,3,3,3,3,3,3,3,3,3,3,3,3,3,3,3,3,3,3,3,3,3,3,3,3,3,3,3,3,3,3,3]
[null,"Evdeki kaynakları tasarruflu kullanmanın aile bütçesine katkılarını araştırır.",3,3,3,3,3,3,3,3,3,3,3,3,3,3,3,3,3,3,3,3,3,3,3,3,3,3,3,3,3,3,3,3,3,3,3,3,3,3,3,3]
[null,"Yakın çevresindeki yardıma ihtiyaç duyan insanlara karşı duyarlı olur.",3,3,3,3,3,3,3,3,3,3,3,3,3,3,3,3,3,3,3,3,3,3,3,3,3,3,3,3,3,3,3,3,3,3,3,3,3,3,3,3]
[null,"Gün içerisinde planladığı işleri uygular.",3,3,3,3,3,3,3,3,3,3,3,3,3,3,3,3,3,3,3,3,3,3,3,3,3,3,3,3,3,3,3,3,3,3,3,3,3,3,3,3]
[null,"İstek ve ihtiyaçlarını öncelik sırasına göre listeler.",3,3,3,3,3,3,3,3,3,3,3,3,3,3,3,3,3,3,3,3,3,3,3,3,3,3,3,3,3,3,3,3,3,3,3,3,3,3,3,3]
[null,"Sağlıklı büyüme ve gelişme ile kişisel bakım, spor, uyku ve beslenme arasındaki ilişkiyi fark eder.",3,3,3,3,3,3,3,3,3,3,3,3,3,3,3,3,3,3,3,3,3,3,3,3,3,3,3,3,3,3,3,3,3,3,3,3,3,3,3,3]
[null,"Dengeli beslenmeye uygun öğün listesi hazırlar.",3,3,3,3,3,3,3,3,3,3,3,3,3,3,3,3,3,3,3,3,3,3,3,3,3,3,3,3,3,3,3,3,3,3,3,3,3,3,3,3]
[null,"SONUÇ",{"$f":"IFERROR(ROUND(AVERAGE(C4:C24),0),\"\")","v":3},3,3,3,3,3,3,3,3,3,3,3,3,3,3,3,3,3,3,3,3,3,3,3,3,3,3,3,3,3,3,3,3,3,3,3,3,3,3,3]
[null,null,{"$f":"IF(C25=\"\",\"\",IF(C25<1.5,\"Geliştirilmeli\",IF(C25>2.44,\"Çok İyi\",\"İyi\")))","v":"Çok İyi"},{"$f":"IF(D25=\"\",\"\",IF(D25<1.5,\"Geliştirilmeli\",IF(D25>2.44,\"Çok İyi\",\"İyi\")))","v":"Çok İyi"},{"$f":"IF(E25=\"\",\"\",IF(E25<1.5,\"Geliştirilmeli\",IF(E25>2.44,\"Çok İyi\",\"İyi\")))","v":"Çok İyi"},"Çok İyi","Çok İyi","Çok İyi","Çok İyi","Çok İyi","Çok İyi","Çok İyi","Çok İyi","Çok İyi","Çok İyi","Çok İyi","Çok İyi","Çok İyi","Çok İyi","Çok İyi","Çok İyi","Çok İyi","Çok İyi","Çok İyi","Çok İyi","Çok İyi","Çok İyi","Çok İyi","Çok İyi","Çok İyi","Çok İyi","Çok İyi","Çok İyi","Çok İyi","Çok İyi","Çok İyi","Çok İyi","Çok İyi","Çok İyi","Çok İyi","Çok İyi","Çok İyi"]
[]
[null,null,null,null,null,null,null,null,null,null,null,null,null,null,null,null,null,null,null,null,{"$f":"IF(LİSTE!$D4=0,\"\",LİSTE!$D4)","v":""}]
[null,null,null,null,null,null,null,null,null,null,null,null,null,null,null,null,null,null,null,null,{"$f":"CONCATENATE(LİSTE!D5,\" \",\"Sınıf Öğretmeni\")","v":"2- Sınıf Öğretmeni"}]

{"sheet":"TR","index":3,"n_rows":36,"n_cols":42,"rows_kept":36,"cut":false,"hidden":false,"merged":[[31,1,32,1],[33,3,33,10],[33,11,33,14],[34,20,34,29],[35,20,35,29]]}
[null,"BU SATIRDAN ÖĞRENCİNİN NOTUNU TAKİP EDEBİLİRSİNİZ è",{"$f":"C33","v":"Çok İyi"},"Çok İyi","Çok İyi","Çok İyi","Çok İyi","Çok İyi","Çok İyi",{"$f":"J33","v":"Çok İyi"},"Çok İyi","Çok İyi","Çok İyi","Çok İyi","Çok İyi","Çok İyi","Çok İyi","Çok İyi","Çok İyi","Çok İyi","Çok İyi","Çok İyi","Çok İyi","Çok İyi","Çok İyi","Çok İyi","Çok İyi","Çok İyi","Çok İyi","Çok İyi","Çok İyi","Çok İyi","Çok İyi","Çok İyi","Çok İyi","Çok İyi","Çok İyi","Çok İyi","Çok İyi","Çok İyi","Çok İyi","Çok İyi"]
[null,{"$f":"CONCATENATE(\" \",LİSTE!D2,\" \",LİSTE!D3,\" \",\" 1.DÖNEM\",\" \",LİSTE!D5,\" \",\"SINIFI\",\" \",\"TÜRKÇE DERSİ KAZANIM DEĞERLENDİRME FORMU\")","v":" 2022-2023 EĞİTİM ÖĞRETİM YILI ATATÜRK İLKOKULU  1.DÖNEM 2- SINIFI TÜRKÇE DERSİ KAZANIM DEĞERLENDİRME FORMU"},{"$f":"IF(LİSTE!$B3=0,\"\",LİSTE!$B3)","v":""},{"$f":"IF(LİSTE!$B4=0,\"\",LİSTE!$B4)","v":""},{"$f":"IF(LİSTE!$B5=0,\"\",LİSTE!$B5)","v":""},{"$f":"IF(LİSTE!$B6=0,\"\",LİSTE!$B6)","v":""},{"$f":"IF(LİSTE!$B7=0,\"\",LİSTE!$B7)","v":""},{"$f":"IF(LİSTE!$B8=0,\"\",LİSTE!$B8)","v":""},{"$f":"IF(LİSTE!$B9=0,\"\",LİSTE!$B9)","v":""},{"$f":"IF(LİSTE!$B10=0,\"\",LİSTE!$B10)","v":""},{"$f":"IF(LİSTE!$B11=0,\"\",LİSTE!$B11)","v":""},{"$f":"IF(LİSTE!$B12=0,\"\",LİSTE!$B12)","v":""},{"$f":"IF(LİSTE!$B13=0,\"\",LİSTE!$B13)","v":""},{"$f":"IF(LİSTE!$B14=0,\"\",LİSTE!$B14)","v":""},{"$f":"IF(LİSTE!$B15=0,\"\",LİSTE!$B15)","v":""},{"$f":"IF(LİSTE!$B16=0,\"\",LİSTE!$B16)","v":""},{"$f":"IF(LİSTE!$B17=0,\"\",LİSTE!$B17)","v":""},{"$f":"IF(LİSTE!$B18=0,\"\",LİSTE!$B18)","v":""},{"$f":"IF(LİSTE!$B19=0,\"\",LİSTE!$B19)","v":""},{"$f":"IF(LİSTE!$B20=0,\"\",LİSTE!$B20)","v":""},{"$f":"IF(LİSTE!$B21=0,\"\",LİSTE!$B21)","v":""},{"$f":"IF(LİSTE!$B22=0,\"\",LİSTE!$B22)","v":""},{"$f":"IF(LİSTE!$B23=0,\"\",LİSTE!$B23)","v":""},{"$f":"IF(LİSTE!$B24=0,\"\",LİSTE!$B24)","v":""},{"$f":"IF(LİSTE!$B25=0,\"\",LİSTE!$B25)","v":""},{"$f":"IF(LİSTE!$B26=0,\"\",LİSTE!$B26)","v":""},{"$f":"IF(LİSTE!$B27=0,\"\",LİSTE!$B27)","v":""},{"$f":"IF(LİSTE!$B28=0,\"\",LİSTE!$B28)","v":""},{"$f":"IF(LİSTE!$B29=0,\"\",LİSTE!$B29)","v":""},{"$f":"IF(LİSTE!$B$30=0,\"\",LİSTE!$B$30)","v":""},{"$f":"IF(LİSTE!$B$31=0,\"\",LİSTE!$B$31)","v":""},{"$f":"IF(LİSTE!$B$32=0,\"\",LİSTE!$B$32)","v":""},{"$f":"IF(LİSTE!$B$33=0,\"\",LİSTE!$B$33)","v":""},{"$f":"IF(LİSTE!$B$34=0,\"\",LİSTE!$B$34)","v":""},{"$f":"IF(LİSTE!$B$35=0,\"\",LİSTE!$B$35)","v":""},{"$f":"IF(LİSTE!$B$36=0,\"\",LİSTE!$B$36)","v":""},{"$f":"IF(LİSTE!$B$37=0,\"\",LİSTE!$B$37)","v":""},{"$f":"IF(LİSTE!$B$38=0,\"\",LİSTE!$B$38)","v":""},{"$f":"IF(LİSTE!$B$39=0,\"\",LİSTE!$B$39)","v":""},{"$f":"IF(LİSTE!$B$40=0,\"\",LİSTE!$B$40)","v":""},{"$f":"IF(LİSTE!$B$41=0,\"\",LİSTE!$B$41)","v":""},{"$f":"IF(LİSTE!$B$42=0,\"\",LİSTE!$B$42)","v":""}]
[null,"KAZANIMLAR",{"$f":"IF(LİSTE!$A3=0,\"\",LİSTE!$A3)","v":""},{"$f":"IF(LİSTE!$A4=0,\"\",LİSTE!$A4)","v":""},{"$f":"IF(LİSTE!$A5=0,\"\",LİSTE!$A5)","v":""},{"$f":"IF(LİSTE!$A6=0,\"\",LİSTE!$A6)","v":""},{"$f":"IF(LİSTE!$A7=0,\"\",LİSTE!$A7)","v":""},{"$f":"IF(LİSTE!$A8=0,\"\",LİSTE!$A8)","v":""},{"$f":"IF(LİSTE!$A9=0,\"\",LİSTE!$A9)","v":""},{"$f":"IF(LİSTE!$A10=0,\"\",LİSTE!$A10)","v":""},{"$f":"IF(LİSTE!$A11=0,\"\",LİSTE!$A11)","v":""},{"$f":"IF(LİSTE!$A12=0,\"\",LİSTE!$A12)","v":""},{"$f":"IF(LİSTE!$A13=0,\"\",LİSTE!$A13)","v":""},{"$f":"IF(LİSTE!$A14=0,\"\",LİSTE!$A14)","v":""},{"$f":"IF(LİSTE!$A15=0,\"\",LİSTE!$A15)","v":""},{"$f":"IF(LİSTE!$A16=0,\"\",LİSTE!$A16)","v":""},{"$f":"IF(LİSTE!$A17=0,\"\",LİSTE!$A17)","v":""},{"$f":"IF(LİSTE!$A18=0,\"\",LİSTE!$A18)","v":""},{"$f":"IF(LİSTE!$A19=0,\"\",LİSTE!$A19)","v":""},{"$f":"IF(LİSTE!$A20=0,\"\",LİSTE!$A20)","v":""},{"$f":"IF(LİSTE!$A21=0,\"\",LİSTE!$A21)","v":""},{"$f":"IF(LİSTE!$A22=0,\"\",LİSTE!$A22)","v":""},{"$f":"IF(LİSTE!$A23=0,\"\",LİSTE!$A23)","v":""},{"$f":"IF(LİSTE!$A24=0,\"\",LİSTE!$A24)","v":""},{"$f":"IF(LİSTE!$A25=0,\"\",LİSTE!$A25)","v":""},{"$f":"IF(LİSTE!$A26=0,\"\",LİSTE!$A26)","v":""},{"$f":"IF(LİSTE!$A27=0,\"\",LİSTE!$A27)","v":""},{"$f":"IF(LİSTE!$A28=0,\"\",LİSTE!$A28)","v":""},{"$f":"IF(LİSTE!$A29=0,\"\",LİSTE!$A29)","v":""},{"$f":"IF(LİSTE!$A30=0,\"\",LİSTE!$A30)","v":""},{"$f":"IF(LİSTE!$A31=0,\"\",LİSTE!$A31)","v":""},{"$f":"IF(LİSTE!$A32=0,\"\",LİSTE!$A32)","v":""},{"$f":"IF(LİSTE!$A33=0,\"\",LİSTE!$A33)","v":""},{"$f":"IF(LİSTE!$A34=0,\"\",LİSTE!$A34)","v":""},{"$f":"IF(LİSTE!$A35=0,\"\",LİSTE!$A35)","v":""},{"$f":"IF(LİSTE!$A36=0,\"\",LİSTE!$A36)","v":""},{"$f":"IF(LİSTE!$A37=0,\"\",LİSTE!$A37)","v":""},{"$f":"IF(LİSTE!$A38=0,\"\",LİSTE!$A38)","v":""},{"$f":"IF(LİSTE!$A39=0,\"\",LİSTE!$A39)","v":""},{"$f":"IF(LİSTE!$A40=0,\"\",LİSTE!$A40)","v":""},{"$f":"IF(LİSTE!$A41=0,\"\",LİSTE!$A41)","v":""},{"$f":"IF(LİSTE!$A42=0,\"\",LİSTE!$A42)","v":""}]
[null,"Görselden/görsellerden hareketle dinleyeceği/izleyeceği metnin konusunu tahmin eder.",3,3,3,3,3,3,3,3,3,3,3,3,3,3,3,3,3,3,3,3,3,3,3,3,3,3,3,3,3,3,3,3,3,3,3,3,3,3,3,3]
[null,"Dinlediği/izlediği metni anlatır.",3,3,3,3,3,3,3,3,3,3,3,3,3,3,3,3,3,3,3,3,3,3,3,3,3,3,3,3,3,3,3,3,3,3,3,3,3,3,3,3]
[null,"Dinlediklerinin/izlediklerinin konusunu belirler.",3,3,3,3,3,3,3,3,3,3,3,3,3,3,3,3,3,3,3,3,3,3,3,3,3,3,3,3,3,3,3,3,3,3,3,3,3,3,3,3]
[null,"Dinlediklerine/izlediklerine yönelik sorulara cevap verir.",3,3,3,3,3,3,3,3,3,3,3,3,3,3,3,3,3,3,3,3,3,3,3,3,3,3,3,3,3,3,3,3,3,3,3,3,3,3,3,3]
[null,"Dinlediklerine/izlediklerine farklı başlıklar önerir.",3,3,3,3,3,3,3,3,3,3,3,3,3,3,3,3,3,3,3,3,3,3,3,3,3,3,3,3,3,3,3,3,3,3,3,3,3,3,3,3]
[null,"Kelimeleri anlamlarına uygun kullanır.",3,3,3,3,3,3,3,3,3,3,3,3,3,3,3,3,3,3,3,3,3,3,3,3,3,3,3,3,3,3,3,3,3,3,3,3,3,3,3,3]
[null,"Çerçevesi belirli bir konu hakkında konuşur.",3,3,3,3,3,3,3,3,3,3,3,3,3,3,3,3,3,3,3,3,3,3,3,3,3,3,3,3,3,3,3,3,3,3,3,3,3,3,3,3]
[null,"Noktalama işaretlerine dikkat ederek okur.",3,3,3,3,3,3,3,3,3,3,3,3,3,3,3,3,3,3,3,3,3,3,3,3,3,3,3,3,3,3,3,3,3,3,3,3,3,3,3,3]
[null,"Vurgu, tonlama ve telaffuza dikkat ederek okur.",3,3,3,3,3,3,3,3,3,3,3,3,3,3,3,3,3,3,3,3,3,3,3,3,3,3,3,3,3,3,3,3,3,3,3,3,3,3,3,3]
[null,"Şiir okur.",3,3,3,3,3,3,3,3,3,3,3,3,3,3,3,3,3,3,3,3,3,3,3,3,3,3,3,3,3,3,3,3,3,3,3,3,3,3,3,3]
[null,"Farklı yazı karakterleri ile yazılmış yazıları okur.",3,3,3,3,3,3,3,3,3,3,3,3,3,3,3,3,3,3,3,3,3,3,3,3,3,3,3,3,3,3,3,3,3,3,3,3,3,3,3,3]
[null,"Görselden/görsellerden hareketle bilmediği kelimeleri ve anlamlarını tahmin eder.",3,3,3,3,3,3,3,3,3,3,3,3,3,3,3,3,3,3,3,3,3,3,3,3,3,3,3,3,3,3,3,3,3,3,3,3,3,3,3,3]
[null,"Kelimelerin zıt anlamlılarını tahmin eder.",3,3,3,3,3,3,3,3,3,3,3,3,3,3,3,3,3,3,3,3,3,3,3,3,3,3,3,3,3,3,3,3,3,3,3,3,3,3,3,3]
[null,"Kelimelerin eş anlamlılarını tahmin eder.",3,3,3,3,3,3,3,3,3,3,3,3,3,3,3,3,3,3,3,3,3,3,3,3,3,3,3,3,3,3,3,3,3,3,3,3,3,3,3,3]
[null,"Okuduklarını ana hatlarıyla anlatır.",3,3,3,3,3,3,3,3,3,3,3,3,3,3,3,3,3,3,3,3,3,3,3,3,3,3,3,3,3,3,3,3,3,3,3,3,3,3,3,3]
[null,"Okuduğu metnin konusunu belirler.",3,3,3,3,3,3,3,3,3,3,3,3,3,3,3,3,3,3,3,3,3,3,3,3,3,3,3,3,3,3,3,3,3,3,3,3,3,3,3,3]
[null,"Okuduğu metinle ilgili soruları cevaplar.",3,3,3,3,3,3,3,3,3,3,3,3,3,3,3,3,3,3,3,3,3,3,3,3,3,3,3,3,3,3,3,3,3,3,3,3,3,3,3,3]
[null,"Metin türlerini tanır.",3,3,3,3,3,3,3,3,3,3,3,3,3,3,3,3,3,3,3,3,3,3,3,3,3,3,3,3,3,3,3,3,3,3,3,3,3,3,3,3]
[null,"Okuduğu metindeki hikâye unsurlarını belirler.",3,3,3,3,3,3,3,3,3,3,3,3,3,3,3,3,3,3,3,3,3,3,3,3,3,3,3,3,3,3,3,3,3,3,3,3,3,3,3,3]
[null,"Anlamlı ve kurallı cümleler yazar.",3,3,3,3,3,3,3,3,3,3,3,3,3,3,3,3,3,3,3,3,3,3,3,3,3,3,3,3,3,3,3,3,3,3,3,3,3,3,3,3]
[null,"Şiir yazar.",3,3,3,3,3,3,3,3,3,3,3,3,3,3,3,3,3,3,3,3,3,3,3,3,3,3,3,3,3,3,3,3,3,3,3,3,3,3,3,3]
[null,"Kısa metinler yazar.",3,3,3,3,3,3,3,3,3,3,3,3,3,3,3,3,3,3,3,3,3,3,3,3,3,3,3,3,3,3,3,3,3,3,3,3,3,3,3,3]
[null,"Formları yönergelerine uygun doldurur.",3,3,3,3,3,3,3,3,3,3,3,3,3,3,3,3,3,3,3,3,3,3,3,3,3,3,3,3,3,3,3,3,3,3,3,3,3,3,3,3]
[null,"Yazdıklarının içeriğine uygun başlık belirler.",3,3,3,3,3,3,3,3,3,3,3,3,3,3,3,3,3,3,3,3,3,3,3,3,3,3,3,3,3,3,3,3,3,3,3,3,3,3,3,3]
[null,"Büyük harf ve noktalama işaretlerini uygun yerlerde kullanır.",3,3,3,3,3,3,3,3,3,3,3,3,3,3,3,3,3,3,3,3,3,3,3,3,3,3,3,3,3,3,3,3,3,3,3,3,3,3,3,3]
[null,"Harfler, kelimeler ve cümleler arasında uygun boşluklar bırakır.",3,3,3,3,3,3,3,3,3,3,3,3,3,3,3,3,3,3,3,3,3,3,3,3,3,3,3,3,3,3,3,3,3,3,3,3,3,3,3,3]
[null,"Yazdıklarını paylaşır.",3,3,3,3,3,3,3,3,3,3,3,3,3,3,3,3,3,3,3,3,3,3,3,3,3,3,3,3,3,3,3,3,3,3,3,3,3,3,3,3]
[null,"Soru ekini kuralına uygun yazar.",3,3,3,3,3,3,3,3,3,3,3,3,3,3,3,3,3,3,3,3,3,3,3,3,3,3,3,3,3,3,3,3,3,3,3,3,3,3,3,3]
[null,"SONUÇ",{"$f":"IFERROR(ROUND(AVERAGE(C4:C31),0),\"\")","v":3},3,3,3,3,3,3,3,3,3,3,3,3,3,3,3,3,3,3,3,3,3,3,3,3,3,3,3,{"$f":"IFERROR(ROUND(AVERAGE(AE4:AE31),0),\"\")","v":3},{"$f":"IFERROR(ROUND(AVERAGE(AF4:AF31),0),\"\")","v":3},{"$f":"IFERROR(ROUND(AVERAGE(AG4:AG31),0),\"\")","v":3},{"$f":"IFERROR(ROUND(AVERAGE(AH4:AH31),0),\"\")","v":3},{"$f":"IFERROR(ROUND(AVERAGE(AI4:AI31),0),\"\")","v":3},{"$f":"IFERROR(ROUND(AVERAGE(AJ4:AJ31),0),\"\")","v":3},{"$f":"IFERROR(ROUND(AVERAGE(AK4:AK31),0),\"\")","v":3},{"$f":"IFERROR(ROUND(AVERAGE(AL4:AL31),0),\"\")","v":3},{"$f":"IFERROR(ROUND(AVERAGE(AM4:AM31),0),\"\")","v":3},{"$f":"IFERROR(ROUND(AVERAGE(AN4:AN31),0),\"\")","v":3},{"$f":"IFERROR(ROUND(AVERAGE(AO4:AO31),0),\"\")","v":3},{"$f":"IFERROR(ROUND(AVERAGE(AP4:AP31),0),\"\")","v":3}]
[null,null,{"$f":"IF(C32=\"\",\"\",IF(C32<1.5,\"Geliştirilmeli\",IF(C32>2.44,\"Çok İyi\",\"İyi\")))","v":"Çok İyi"},{"$f":"IF(D32=\"\",\"\",IF(D32<1.5,\"Geliştirilmeli\",IF(D32>2.44,\"Çok İyi\",\"İyi\")))","v":"Çok İyi"},{"$f":"IF(E32=\"\",\"\",IF(E32<1.5,\"Geliştirilmeli\",IF(E32>2.44,\"Çok İyi\",\"İyi\")))","v":"Çok İyi"},"Çok İyi","Çok İyi","Çok İyi","Çok İyi","Çok İyi","Çok İyi","Çok İyi","Çok İyi","Çok İyi","Çok İyi","Çok İyi","Çok İyi","Çok İyi","Çok İyi","Çok İyi","Çok İyi","Çok İyi","Çok İyi","Çok İyi","Çok İyi","Çok İyi","Çok İyi","Çok İyi","Çok İyi","Çok İyi","Çok İyi","Çok İyi","Çok İyi","Çok İyi","Çok İyi","Çok İyi","Çok İyi","Çok İyi","Çok İyi","Çok İyi","Çok İyi","Çok İyi"]
[]
[null,null,null,null,null,null,null,null,null,null,null,null,null,null,null,null,null,null,null,null,{"$f":"IF(LİSTE!$D4=0,\"\",LİSTE!$D4)","v":""}]
[null,null,null,null,null,null,null,null,null,null,null,null,null,null,null,null,null,null,null,null,{"$f":"CONCATENATE(LİSTE!D5,\" \",\"Sınıf Öğretmeni\")","v":"2- Sınıf Öğretmeni"}]

{"sheet":"BO","index":4,"n_rows":22,"n_cols":42,"rows_kept":22,"cut":false,"hidden":false,"merged":[[17,1,18,1],[19,3,19,10],[19,11,19,14],[20,20,20,29],[21,20,21,29]]}
[null,"BU SATIRDAN ÖĞRENCİNİN NOTUNU TAKİP EDEBİLİRSİNİZ è",{"$f":"C19","v":"Çok İyi"},"Çok İyi","Çok İyi","Çok İyi","Çok İyi","Çok İyi","Çok İyi","Çok İyi","Çok İyi","Çok İyi","Çok İyi","Çok İyi","Çok İyi","Çok İyi","Çok İyi","Çok İyi","Çok İyi","Çok İyi","Çok İyi","Çok İyi","Çok İyi","Çok İyi","Çok İyi","Çok İyi","Çok İyi","Çok İyi","Çok İyi","Çok İyi","Çok İyi","Çok İyi","Çok İyi","Çok İyi","Çok İyi","Çok İyi","Çok İyi","Çok İyi","Çok İyi","Çok İyi","Çok İyi","Çok İyi"]
[null,{"$f":"CONCATENATE(\" \",LİSTE!D2,\" \",LİSTE!D3,\" \",\" 1.DÖNEM\",\" \",LİSTE!D5,\" \",\"SINIFI\",\" \",\"BEDEN EĞİTİMİ VE OYUN DERSİ KAZANIM DEĞERLENDİRME FORMU\")","v":" 2022-2023 EĞİTİM ÖĞRETİM YILI ATATÜRK İLKOKULU  1.DÖNEM 2- SINIFI BEDEN EĞİTİMİ VE OYUN DERSİ KAZANIM DEĞERLENDİRME FORMU"},{"$f":"IF(LİSTE!$B3=0,\"\",LİSTE!$B3)","v":""},{"$f":"IF(LİSTE!$B4=0,\"\",LİSTE!$B4)","v":""},{"$f":"IF(LİSTE!$B5=0,\"\",LİSTE!$B5)","v":""},{"$f":"IF(LİSTE!$B6=0,\"\",LİSTE!$B6)","v":""},{"$f":"IF(LİSTE!$B7=0,\"\",LİSTE!$B7)","v":""},{"$f":"IF(LİSTE!$B8=0,\"\",LİSTE!$B8)","v":""},{"$f":"IF(LİSTE!$B9=0,\"\",LİSTE!$B9)","v":""},{"$f":"IF(LİSTE!$B10=0,\"\",LİSTE!$B10)","v":""},{"$f":"IF(LİSTE!$B11=0,\"\",LİSTE!$B11)","v":""},{"$f":"IF(LİSTE!$B12=0,\"\",LİSTE!$B12)","v":""},{"$f":"IF(LİSTE!$B13=0,\"\",LİSTE!$B13)","v":""},{"$f":"IF(LİSTE!$B14=0,\"\",LİSTE!$B14)","v":""},{"$f":"IF(LİSTE!$B15=0,\"\",LİSTE!$B15)","v":""},{"$f":"IF(LİSTE!$B16=0,\"\",LİSTE!$B16)","v":""},{"$f":"IF(LİSTE!$B17=0,\"\",LİSTE!$B17)","v":""},{"$f":"IF(LİSTE!$B18=0,\"\",LİSTE!$B18)","v":""},{"$f":"IF(LİSTE!$B19=0,\"\",LİSTE!$B19)","v":""},{"$f":"IF(LİSTE!$B20=0,\"\",LİSTE!$B20)","v":""},{"$f":"IF(LİSTE!$B21=0,\"\",LİSTE!$B21)","v":""},{"$f":"IF(LİSTE!$B22=0,\"\",LİSTE!$B22)","v":""},{"$f":"IF(LİSTE!$B23=0,\"\",LİSTE!$B23)","v":""},{"$f":"IF(LİSTE!$B24=0,\"\",LİSTE!$B24)","v":""},{"$f":"IF(LİSTE!$B25=0,\"\",LİSTE!$B25)","v":""},{"$f":"IF(LİSTE!$B26=0,\"\",LİSTE!$B26)","v":""},{"$f":"IF(LİSTE!$B27=0,\"\",LİSTE!$B27)","v":""},{"$f":"IF(LİSTE!$B28=0,\"\",LİSTE!$B28)","v":""},{"$f":"IF(LİSTE!$B29=0,\"\",LİSTE!$B29)","v":""},{"$f":"IF(LİSTE!$B$30=0,\"\",LİSTE!$B$30)","v":""},{"$f":"IF(LİSTE!$B$31=0,\"\",LİSTE!$B$31)","v":""},{"$f":"IF(LİSTE!$B$32=0,\"\",LİSTE!$B$32)","v":""},{"$f":"IF(LİSTE!$B$33=0,\"\",LİSTE!$B$33)","v":""},{"$f":"IF(LİSTE!$B$34=0,\"\",LİSTE!$B$34)","v":""},{"$f":"IF(LİSTE!$B$35=0,\"\",LİSTE!$B$35)","v":""},{"$f":"IF(LİSTE!$B$36=0,\"\",LİSTE!$B$36)","v":""},{"$f":"IF(LİSTE!$B$37=0,\"\",LİSTE!$B$37)","v":""},{"$f":"IF(LİSTE!$B$38=0,\"\",LİSTE!$B$38)","v":""},{"$f":"IF(LİSTE!$B$39=0,\"\",LİSTE!$B$39)","v":""},{"$f":"IF(LİSTE!$B$40=0,\"\",LİSTE!$B$40)","v":""},{"$f":"IF(LİSTE!$B$41=0,\"\",LİSTE!$B$41)","v":""},{"$f":"IF(LİSTE!$B$42=0,\"\",LİSTE!$B$42)","v":""}]
[null,"KAZANIMLAR",{"$f":"IF(LİSTE!$A3=0,\"\",LİSTE!$A3)","v":""},{"$f":"IF(LİSTE!$A4=0,\"\",LİSTE!$A4)","v":""},{"$f":"IF(LİSTE!$A5=0,\"\",LİSTE!$A5)","v":""},{"$f":"IF(LİSTE!$A6=0,\"\",LİSTE!$A6)","v":""},{"$f":"IF(LİSTE!$A7=0,\"\",LİSTE!$A7)","v":""},{"$f":"IF(LİSTE!$A8=0,\"\",LİSTE!$A8)","v":""},{"$f":"IF(LİSTE!$A9=0,\"\",LİSTE!$A9)","v":""},{"$f":"IF(LİSTE!$A10=0,\"\",LİSTE!$A10)","v":""},{"$f":"IF(LİSTE!$A11=0,\"\",LİSTE!$A11)","v":""},{"$f":"IF(LİSTE!$A12=0,\"\",LİSTE!$A12)","v":""},{"$f":"IF(LİSTE!$A13=0,\"\",LİSTE!$A13)","v":""},{"$f":"IF(LİSTE!$A14=0,\"\",LİSTE!$A14)","v":""},{"$f":"IF(LİSTE!$A15=0,\"\",LİSTE!$A15)","v":""},{"$f":"IF(LİSTE!$A16=0,\"\",LİSTE!$A16)","v":""},{"$f":"IF(LİSTE!$A17=0,\"\",LİSTE!$A17)","v":""},{"$f":"IF(LİSTE!$A18=0,\"\",LİSTE!$A18)","v":""},{"$f":"IF(LİSTE!$A19=0,\"\",LİSTE!$A19)","v":""},{"$f":"IF(LİSTE!$A20=0,\"\",LİSTE!$A20)","v":""},{"$f":"IF(LİSTE!$A21=0,\"\",LİSTE!$A21)","v":""},{"$f":"IF(LİSTE!$A22=0,\"\",LİSTE!$A22)","v":""},{"$f":"IF(LİSTE!$A23=0,\"\",LİSTE!$A23)","v":""},{"$f":"IF(LİSTE!$A24=0,\"\",LİSTE!$A24)","v":""},{"$f":"IF(LİSTE!$A25=0,\"\",LİSTE!$A25)","v":""},{"$f":"IF(LİSTE!$A26=0,\"\",LİSTE!$A26)","v":""},{"$f":"IF(LİSTE!$A27=0,\"\",LİSTE!$A27)","v":""},{"$f":"IF(LİSTE!$A28=0,\"\",LİSTE!$A28)","v":""},{"$f":"IF(LİSTE!$A29=0,\"\",LİSTE!$A29)","v":""},{"$f":"IF(LİSTE!$A30=0,\"\",LİSTE!$A30)","v":""},{"$f":"IF(LİSTE!$A31=0,\"\",LİSTE!$A31)","v":""},{"$f":"IF(LİSTE!$A32=0,\"\",LİSTE!$A32)","v":""},{"$f":"IF(LİSTE!$A33=0,\"\",LİSTE!$A33)","v":""},{"$f":"IF(LİSTE!$A34=0,\"\",LİSTE!$A34)","v":""},{"$f":"IF(LİSTE!$A35=0,\"\",LİSTE!$A35)","v":""},{"$f":"IF(LİSTE!$A36=0,\"\",LİSTE!$A36)","v":""},{"$f":"IF(LİSTE!$A37=0,\"\",LİSTE!$A37)","v":""},{"$f":"IF(LİSTE!$A38=0,\"\",LİSTE!$A38)","v":""},{"$f":"IF(LİSTE!$A39=0,\"\",LİSTE!$A39)","v":""},{"$f":"IF(LİSTE!$A40=0,\"\",LİSTE!$A40)","v":""},{"$f":"IF(LİSTE!$A41=0,\"\",LİSTE!$A41)","v":""},{"$f":"IF(LİSTE!$A42=0,\"\",LİSTE!$A42)","v":""}]
[null,"Yer değiştirme hareketlerini artan bir doğrulukla yapar.",3,3,3,3,3,3,3,3,3,3,3,3,3,3,3,3,3,3,3,3,3,3,3,3,3,3,3,3,3,3,3,3,3,3,3,3,3,3,3,3]
[null,"Yer değiştirme hareketlerini vücut, alan farkındalığı ve hareket ilişkilerini kullanarak yapar.",3,3,3,3,3,3,3,3,3,3,3,3,3,3,3,3,3,3,3,3,3,3,3,3,3,3,3,3,3,3,3,3,3,3,3,3,3,3,3,3]
[null,"Dengeleme hareketlerini artan bir doğrulukla yapar.",3,3,3,3,3,3,3,3,3,3,3,3,3,3,3,3,3,3,3,3,3,3,3,3,3,3,3,3,3,3,3,3,3,3,3,3,3,3,3,3]
[null,"Dengeleme hareketlerini vücut, alan farkındalığı ve hareket ilişkilerini kullanarak yapar.",3,3,3,3,3,3,3,3,3,3,3,3,3,3,3,3,3,3,3,3,3,3,3,3,3,3,3,3,3,3,3,3,3,3,3,3,3,3,3,3]
[null,"Nesne kontrolü gerektiren hareketleri artan bir doğrulukla yapar.",3,3,3,3,3,3,3,3,3,3,3,3,3,3,3,3,3,3,3,3,3,3,3,3,3,3,3,3,3,3,3,3,3,3,3,3,3,3,3,3]
[null,"Nesne kontrolü gereken hareketleri alan, efor farkındalığı ve hareket ilişkilerini kullanarak yapar.",3,3,3,3,3,3,3,3,3,3,3,3,3,3,3,3,3,3,3,3,3,3,3,3,3,3,3,3,3,3,3,3,3,3,3,3,3,3,3,3]
[null,"İki ve daha fazla hareket becerisini birleştirerek artan doğrulukla uygular.",3,3,3,3,3,3,3,3,3,3,3,3,3,3,3,3,3,3,3,3,3,3,3,3,3,3,3,3,3,3,3,3,3,3,3,3,3,3,3,3]
[null,"Bayram, kutlama ve törenlere istekle katılır.",3,3,3,3,3,3,3,3,3,3,3,3,3,3,3,3,3,3,3,3,3,3,3,3,3,3,3,3,3,3,3,3,3,3,3,3,3,3,3,3]
[null,"Verilen ritim ve müziğe uygun hareket eder.",3,3,3,3,3,3,3,3,3,3,3,3,3,3,3,3,3,3,3,3,3,3,3,3,3,3,3,3,3,3,3,3,3,3,3,3,3,3,3,3]
[null,"Temel ve birleştirilmiş hareket becerilerini içeren basit kurallı oyunlar oynar.",3,3,3,3,3,3,3,3,3,3,3,3,3,3,3,3,3,3,3,3,3,3,3,3,3,3,3,3,3,3,3,3,3,3,3,3,3,3,3,3]
[null,"Temel hareket becerilerini uygularken hareketin tekniğine ait özellikleri söyler.",3,3,3,3,3,3,3,3,3,3,3,3,3,3,3,3,3,3,3,3,3,3,3,3,3,3,3,3,3,3,3,3,3,3,3,3,3,3,3,3]
[null,"Vücut bölümlerinin hareketlerini açıklar.",3,3,3,3,3,3,3,3,3,3,3,3,3,3,3,3,3,3,3,3,3,3,3,3,3,3,3,3,3,3,3,3,3,3,3,3,3,3,3,3]
[null,"Efor kavramına göre vücudunun nasıl hareket edeceğini açıklar.",3,3,3,3,3,3,3,3,3,3,3,3,3,3,3,3,3,3,3,3,3,3,3,3,3,3,3,3,3,3,3,3,3,3,3,3,3,3,3,3]
[null,"Oyunda basit stratejileri ve taktikleri kullanır.",3,3,3,3,3,3,3,3,3,3,3,3,3,3,3,3,3,3,3,3,3,3,3,3,3,3,3,3,3,3,3,3,3,3,3,3,3,3,3,3]
[null,"SONUÇ",{"$f":"IFERROR(ROUND(AVERAGE(C4:C17),0),\"\")","v":3},3,3,3,3,3,3,3,3,3,3,3,3,3,3,3,3,3,3,3,3,3,3,3,3,3,3,3,3,3,3,3,3,3,3,3,3,3,3,3]
[null,null,{"$f":"IF(C18=\"\",\"\",IF(C18<1.5,\"Geliştirilmeli\",IF(C18>2.44,\"Çok İyi\",\"İyi\")))","v":"Çok İyi"},{"$f":"IF(D18=\"\",\"\",IF(D18<1.5,\"Geliştirilmeli\",IF(D18>2.44,\"Çok İyi\",\"İyi\")))","v":"Çok İyi"},{"$f":"IF(E18=\"\",\"\",IF(E18<1.5,\"Geliştirilmeli\",IF(E18>2.44,\"Çok İyi\",\"İyi\")))","v":"Çok İyi"},"Çok İyi","Çok İyi","Çok İyi","Çok İyi","Çok İyi","Çok İyi","Çok İyi","Çok İyi","Çok İyi","Çok İyi","Çok İyi","Çok İyi","Çok İyi","Çok İyi","Çok İyi","Çok İyi","Çok İyi","Çok İyi","Çok İyi","Çok İyi","Çok İyi","Çok İyi","Çok İyi","Çok İyi","Çok İyi","Çok İyi","Çok İyi","Çok İyi","Çok İyi","Çok İyi","Çok İyi","Çok İyi","Çok İyi","Çok İyi","Çok İyi","Çok İyi","Çok İyi"]
[]
[null,null,null,null,null,null,null,null,null,null,null,null,null,null,null,null,null,null,null,null,{"$f":"IF(LİSTE!$D4=0,\"\",LİSTE!$D4)","v":""}]
[null,null,null,null,null,null,null,null,null,null,null,null,null,null,null,null,null,null,null,null,{"$f":"CONCATENATE(LİSTE!D5,\" \",\"Sınıf Öğretmeni\")","v":"2- Sınıf Öğretmeni"}]

{"sheet":"MZ","index":5,"n_rows":18,"n_cols":42,"rows_kept":18,"cut":false,"hidden":false,"merged":[[13,1,14,1],[15,3,15,10],[15,11,15,14],[16,20,16,29],[17,20,17,29]]}
[null,"BU SATIRDAN ÖĞRENCİNİN NOTUNU TAKİP EDEBİLİRSİNİZ è",{"$f":"C15","v":"Çok İyi"},"Çok İyi","Çok İyi","Çok İyi","Çok İyi","Çok İyi","Çok İyi","Çok İyi","Çok İyi","Çok İyi","Çok İyi","Çok İyi","Çok İyi","Çok İyi","Çok İyi","Çok İyi","Çok İyi","Çok İyi","Çok İyi","Çok İyi","Çok İyi","Çok İyi","Çok İyi","Çok İyi","Çok İyi","Çok İyi","Çok İyi","Çok İyi","Çok İyi","Çok İyi","Çok İyi","Çok İyi","Çok İyi","Çok İyi","Çok İyi","Çok İyi","Çok İyi","Çok İyi","Çok İyi","Çok İyi"]
[null,{"$f":"CONCATENATE(\" \",LİSTE!D2,\" \",LİSTE!D3,\" \",\" 1.DÖNEM\",\" \",LİSTE!D5,\" \",\"SINIFI\",\" \",\"MÜZİK DERSİ KAZANIM DEĞERLENDİRME FORMU\")","v":" 2022-2023 EĞİTİM ÖĞRETİM YILI ATATÜRK İLKOKULU  1.DÖNEM 2- SINIFI MÜZİK DERSİ KAZANIM DEĞERLENDİRME FORMU"},{"$f":"IF(LİSTE!$B3=0,\"\",LİSTE!$B3)","v":""},{"$f":"IF(LİSTE!$B4=0,\"\",LİSTE!$B4)","v":""},{"$f":"IF(LİSTE!$B5=0,\"\",LİSTE!$B5)","v":""},{"$f":"IF(LİSTE!$B6=0,\"\",LİSTE!$B6)","v":""},{"$f":"IF(LİSTE!$B7=0,\"\",LİSTE!$B7)","v":""},{"$f":"IF(LİSTE!$B8=0,\"\",LİSTE!$B8)","v":""},{"$f":"IF(LİSTE!$B9=0,\"\",LİSTE!$B9)","v":""},{"$f":"IF(LİSTE!$B10=0,\"\",LİSTE!$B10)","v":""},{"$f":"IF(LİSTE!$B11=0,\"\",LİSTE!$B11)","v":""},{"$f":"IF(LİSTE!$B12=0,\"\",LİSTE!$B12)","v":""},{"$f":"IF(LİSTE!$B13=0,\"\",LİSTE!$B13)","v":""},{"$f":"IF(LİSTE!$B14=0,\"\",LİSTE!$B14)","v":""},{"$f":"IF(LİSTE!$B15=0,\"\",LİSTE!$B15)","v":""},{"$f":"IF(LİSTE!$B16=0,\"\",LİSTE!$B16)","v":""},{"$f":"IF(LİSTE!$B17=0,\"\",LİSTE!$B17)","v":""},{"$f":"IF(LİSTE!$B18=0,\"\",LİSTE!$B18)","v":""},{"$f":"IF(LİSTE!$B19=0,\"\",LİSTE!$B19)","v":""},{"$f":"IF(LİSTE!$B20=0,\"\",LİSTE!$B20)","v":""},{"$f":"IF(LİSTE!$B21=0,\"\",LİSTE!$B21)","v":""},{"$f":"IF(LİSTE!$B22=0,\"\",LİSTE!$B22)","v":""},{"$f":"IF(LİSTE!$B23=0,\"\",LİSTE!$B23)","v":""},{"$f":"IF(LİSTE!$B24=0,\"\",LİSTE!$B24)","v":""},{"$f":"IF(LİSTE!$B25=0,\"\",LİSTE!$B25)","v":""},{"$f":"IF(LİSTE!$B26=0,\"\",LİSTE!$B26)","v":""},{"$f":"IF(LİSTE!$B27=0,\"\",LİSTE!$B27)","v":""},{"$f":"IF(LİSTE!$B28=0,\"\",LİSTE!$B28)","v":""},{"$f":"IF(LİSTE!$B29=0,\"\",LİSTE!$B29)","v":""},{"$f":"IF(LİSTE!$B$30=0,\"\",LİSTE!$B$30)","v":""},{"$f":"IF(LİSTE!$B$31=0,\"\",LİSTE!$B$31)","v":""},{"$f":"IF(LİSTE!$B$32=0,\"\",LİSTE!$B$32)","v":""},{"$f":"IF(LİSTE!$B$33=0,\"\",LİSTE!$B$33)","v":""},{"$f":"IF(LİSTE!$B$34=0,\"\",LİSTE!$B$34)","v":""},{"$f":"IF(LİSTE!$B$35=0,\"\",LİSTE!$B$35)","v":""},{"$f":"IF(LİSTE!$B$36=0,\"\",LİSTE!$B$36)","v":""},{"$f":"IF(LİSTE!$B$37=0,\"\",LİSTE!$B$37)","v":""},{"$f":"IF(LİSTE!$B$38=0,\"\",LİSTE!$B$38)","v":""},{"$f":"IF(LİSTE!$B$39=0,\"\",LİSTE!$B$39)","v":""},{"$f":"IF(LİSTE!$B$40=0,\"\",LİSTE!$B$40)","v":""},{"$f":"IF(LİSTE!$B$41=0,\"\",LİSTE!$B$41)","v":""},{"$f":"IF(LİSTE!$B$42=0,\"\",LİSTE!$B$42)","v":""}]
[null,"KAZANIMLAR",{"$f":"IF(LİSTE!$A3=0,\"\",LİSTE!$A3)","v":""},{"$f":"IF(LİSTE!$A4=0,\"\",LİSTE!$A4)","v":""},{"$f":"IF(LİSTE!$A5=0,\"\",LİSTE!$A5)","v":""},{"$f":"IF(LİSTE!$A6=0,\"\",LİSTE!$A6)","v":""},{"$f":"IF(LİSTE!$A7=0,\"\",LİSTE!$A7)","v":""},{"$f":"IF(LİSTE!$A8=0,\"\",LİSTE!$A8)","v":""},{"$f":"IF(LİSTE!$A9=0,\"\",LİSTE!$A9)","v":""},{"$f":"IF(LİSTE!$A10=0,\"\",LİSTE!$A10)","v":""},{"$f":"IF(LİSTE!$A11=0,\"\",LİSTE!$A11)","v":""},{"$f":"IF(LİSTE!$A12=0,\"\",LİSTE!$A12)","v":""},{"$f":"IF(LİSTE!$A13=0,\"\",LİSTE!$A13)","v":""},{"$f":"IF(LİSTE!$A14=0,\"\",LİSTE!$A14)","v":""},{"$f":"IF(LİSTE!$A15=0,\"\",LİSTE!$A15)","v":""},{"$f":"IF(LİSTE!$A16=0,\"\",LİSTE!$A16)","v":""},{"$f":"IF(LİSTE!$A17=0,\"\",LİSTE!$A17)","v":""},{"$f":"IF(LİSTE!$A18=0,\"\",LİSTE!$A18)","v":""},{"$f":"IF(LİSTE!$A19=0,\"\",LİSTE!$A19)","v":""},{"$f":"IF(LİSTE!$A20=0,\"\",LİSTE!$A20)","v":""},{"$f":"IF(LİSTE!$A21=0,\"\",LİSTE!$A21)","v":""},{"$f":"IF(LİSTE!$A22=0,\"\",LİSTE!$A22)","v":""},{"$f":"IF(LİSTE!$A23=0,\"\",LİSTE!$A23)","v":""},{"$f":"IF(LİSTE!$A24=0,\"\",LİSTE!$A24)","v":""},{"$f":"IF(LİSTE!$A25=0,\"\",LİSTE!$A25)","v":""},{"$f":"IF(LİSTE!$A26=0,\"\",LİSTE!$A26)","v":""},{"$f":"IF(LİSTE!$A27=0,\"\",LİSTE!$A27)","v":""},{"$f":"IF(LİSTE!$A28=0,\"\",LİSTE!$A28)","v":""},{"$f":"IF(LİSTE!$A29=0,\"\",LİSTE!$A29)","v":""},{"$f":"IF(LİSTE!$A30=0,\"\",LİSTE!$A30)","v":""},{"$f":"IF(LİSTE!$A31=0,\"\",LİSTE!$A31)","v":""},{"$f":"IF(LİSTE!$A32=0,\"\",LİSTE!$A32)","v":""},{"$f":"IF(LİSTE!$A33=0,\"\",LİSTE!$A33)","v":""},{"$f":"IF(LİSTE!$A34=0,\"\",LİSTE!$A34)","v":""},{"$f":"IF(LİSTE!$A35=0,\"\",LİSTE!$A35)","v":""},{"$f":"IF(LİSTE!$A36=0,\"\",LİSTE!$A36)","v":""},{"$f":"IF(LİSTE!$A37=0,\"\",LİSTE!$A37)","v":""},{"$f":"IF(LİSTE!$A38=0,\"\",LİSTE!$A38)","v":""},{"$f":"IF(LİSTE!$A39=0,\"\",LİSTE!$A39)","v":""},{"$f":"IF(LİSTE!$A40=0,\"\",LİSTE!$A40)","v":""},{"$f":"IF(LİSTE!$A41=0,\"\",LİSTE!$A41)","v":""},{"$f":"IF(LİSTE!$A42=0,\"\",LİSTE!$A42)","v":""}]
[null,"İstiklâl Marşı’nı anlamına uygun söyler.",3,3,3,3,3,3,3,3,3,3,3,3,3,3,3,3,3,3,3,3,3,3,3,3,3,3,3,3,3,3,3,3,3,3,3,3,3,3,3,3]
[null,"Belirli gün ve haftalarla ilgili müzik etkinliklerine katılır.",3,3,3,3,3,3,3,3,3,3,3,3,3,3,3,3,3,3,3,3,3,3,3,3,3,3,3,3,3,3,3,3,3,3,3,3,3,3,3,3]
[null,"Ses ve nefes çalışmaları yapar.",3,3,3,3,3,3,3,3,3,3,3,3,3,3,3,3,3,3,3,3,3,3,3,3,3,3,3,3,3,3,3,3,3,3,3,3,3,3,3,3]
[null,"Doğada duyduğu sesleri, gürlük özelliklerine göre farklı ses kaynakları kullanarak canlandırır.",3,3,3,3,3,3,3,3,3,3,3,3,3,3,3,3,3,3,3,3,3,3,3,3,3,3,3,3,3,3,3,3,3,3,3,3,3,3,3,3]
[null,"Dağarcığındaki müzikleri anlamlarına uygun hız ve gürlükte söyler.",3,3,3,3,3,3,3,3,3,3,3,3,3,3,3,3,3,3,3,3,3,3,3,3,3,3,3,3,3,3,3,3,3,3,3,3,3,3,3,3]
[null,"Duyduğu ince ve kalın sesleri ayırt eder.",3,3,3,3,3,3,3,3,3,3,3,3,3,3,3,3,3,3,3,3,3,3,3,3,3,3,3,3,3,3,3,3,3,3,3,3,3,3,3,3]
[null,"Öğrendiği müzikleri birlikte seslendirir.",3,3,3,3,3,3,3,3,3,3,3,3,3,3,3,3,3,3,3,3,3,3,3,3,3,3,3,3,3,3,3,3,3,3,3,3,3,3,3,3]
[null,"Konuşmalarında uzun ve kısa heceleri ayırt eder",3,3,3,3,3,3,3,3,3,3,3,3,3,3,3,3,3,3,3,3,3,3,3,3,3,3,3,3,3,3,3,3,3,3,3,3,3,3,3,3]
[null,"Çevresinde kullanılan çalgıları tanır.",3,3,3,3,3,3,3,3,3,3,3,3,3,3,3,3,3,3,3,3,3,3,3,3,3,3,3,3,3,3,3,3,3,3,3,3,3,3,3,3]
[null,"Vücudunu ritim çalgısı gibi kullanır.",3,3,3,3,3,3,3,3,3,3,3,3,3,3,3,3,3,3,3,3,3,3,3,3,3,3,3,3,3,3,3,3,3,3,3,3,3,3,3,3]
[null,"SONUÇ",{"$f":"IFERROR(ROUND(AVERAGE(C4:C13),0),\"\")","v":3},3,3,3,3,3,3,3,3,3,3,3,3,3,3,3,3,3,3,3,3,3,3,3,3,3,3,3,3,3,3,3,3,3,3,3,3,3,3,3]
[null,null,{"$f":"IF(C14=\"\",\"\",IF(C14<1.5,\"Geliştirilmeli\",IF(C14>2.44,\"Çok İyi\",\"İyi\")))","v":"Çok İyi"},{"$f":"IF(D14=\"\",\"\",IF(D14<1.5,\"Geliştirilmeli\",IF(D14>2.44,\"Çok İyi\",\"İyi\")))","v":"Çok İyi"},{"$f":"IF(E14=\"\",\"\",IF(E14<1.5,\"Geliştirilmeli\",IF(E14>2.44,\"Çok İyi\",\"İyi\")))","v":"Çok İyi"},"Çok İyi","Çok İyi","Çok İyi","Çok İyi","Çok İyi","Çok İyi","Çok İyi","Çok İyi","Çok İyi","Çok İyi","Çok İyi","Çok İyi","Çok İyi","Çok İyi","Çok İyi","Çok İyi","Çok İyi","Çok İyi","Çok İyi","Çok İyi","Çok İyi","Çok İyi","Çok İyi","Çok İyi","Çok İyi","Çok İyi","Çok İyi","Çok İyi","Çok İyi","Çok İyi","Çok İyi","Çok İyi","Çok İyi","Çok İyi","Çok İyi","Çok İyi","Çok İyi"]
[]
[null,null,null,null,null,null,null,null,null,null,null,null,null,null,null,null,null,null,null,null,{"$f":"IF(LİSTE!$D4=0,\"\",LİSTE!$D4)","v":""}]
[null,null,null,null,null,null,null,null,null,null,null,null,null,null,null,null,null,null,null,null,{"$f":"CONCATENATE(LİSTE!D5,\" \",\"Sınıf Öğretmeni\")","v":"2- Sınıf Öğretmeni"}]

{"sheet":"GS","index":6,"n_rows":17,"n_cols":42,"rows_kept":17,"cut":false,"hidden":false,"merged":[[12,1,13,1],[14,3,14,10],[14,11,14,14],[15,20,15,29],[16,20,16,29]]}
[null,"BU SATIRDAN ÖĞRENCİNİN NOTUNU TAKİP EDEBİLİRSİNİZ è",{"$f":"C14","v":"Çok İyi"},"Çok İyi","Çok İyi","Çok İyi","Çok İyi","Çok İyi","Çok İyi","Çok İyi","Çok İyi","Çok İyi","Çok İyi","Çok İyi","Çok İyi","Çok İyi","Çok İyi","Çok İyi","Çok İyi","Çok İyi","Çok İyi","Çok İyi","Çok İyi","Çok İyi","Çok İyi","Çok İyi","Çok İyi","Çok İyi","Çok İyi","Çok İyi","Çok İyi","Çok İyi","Çok İyi","Çok İyi","Çok İyi","Çok İyi","Çok İyi","Çok İyi","Çok İyi","Çok İyi","Çok İyi","Çok İyi"]
[null,{"$f":"CONCATENATE(\" \",LİSTE!D2,\" \",LİSTE!D3,\" \",\" 1.DÖNEM\",\" \",LİSTE!D5,\" \",\"SINIFI\",\" \",\"GÖRSEL SANATLAR DERSİ KAZANIM DEĞERLENDİRME FORMU\")","v":" 2022-2023 EĞİTİM ÖĞRETİM YILI ATATÜRK İLKOKULU  1.DÖNEM 2- SINIFI GÖRSEL SANATLAR DERSİ KAZANIM DEĞERLENDİRME FORMU"},{"$f":"IF(LİSTE!$B3=0,\"\",LİSTE!$B3)","v":""},{"$f":"IF(LİSTE!$B4=0,\"\",LİSTE!$B4)","v":""},{"$f":"IF(LİSTE!$B5=0,\"\",LİSTE!$B5)","v":""},{"$f":"IF(LİSTE!$B6=0,\"\",LİSTE!$B6)","v":""},{"$f":"IF(LİSTE!$B7=0,\"\",LİSTE!$B7)","v":""},{"$f":"IF(LİSTE!$B8=0,\"\",LİSTE!$B8)","v":""},{"$f":"IF(LİSTE!$B9=0,\"\",LİSTE!$B9)","v":""},{"$f":"IF(LİSTE!$B10=0,\"\",LİSTE!$B10)","v":""},{"$f":"IF(LİSTE!$B11=0,\"\",LİSTE!$B11)","v":""},{"$f":"IF(LİSTE!$B12=0,\"\",LİSTE!$B12)","v":""},{"$f":"IF(LİSTE!$B13=0,\"\",LİSTE!$B13)","v":""},{"$f":"IF(LİSTE!$B14=0,\"\",LİSTE!$B14)","v":""},{"$f":"IF(LİSTE!$B15=0,\"\",LİSTE!$B15)","v":""},{"$f":"IF(LİSTE!$B16=0,\"\",LİSTE!$B16)","v":""},{"$f":"IF(LİSTE!$B17=0,\"\",LİSTE!$B17)","v":""},{"$f":"IF(LİSTE!$B18=0,\"\",LİSTE!$B18)","v":""},{"$f":"IF(LİSTE!$B19=0,\"\",LİSTE!$B19)","v":""},{"$f":"IF(LİSTE!$B20=0,\"\",LİSTE!$B20)","v":""},{"$f":"IF(LİSTE!$B21=0,\"\",LİSTE!$B21)","v":""},{"$f":"IF(LİSTE!$B22=0,\"\",LİSTE!$B22)","v":""},{"$f":"IF(LİSTE!$B23=0,\"\",LİSTE!$B23)","v":""},{"$f":"IF(LİSTE!$B24=0,\"\",LİSTE!$B24)","v":""},{"$f":"IF(LİSTE!$B25=0,\"\",LİSTE!$B25)","v":""},{"$f":"IF(LİSTE!$B26=0,\"\",LİSTE!$B26)","v":""},{"$f":"IF(LİSTE!$B27=0,\"\",LİSTE!$B27)","v":""},{"$f":"IF(LİSTE!$B28=0,\"\",LİSTE!$B28)","v":""},{"$f":"IF(LİSTE!$B29=0,\"\",LİSTE!$B29)","v":""},{"$f":"IF(LİSTE!$B$30=0,\"\",LİSTE!$B$30)","v":""},{"$f":"IF(LİSTE!$B$31=0,\"\",LİSTE!$B$31)","v":""},{"$f":"IF(LİSTE!$B$32=0,\"\",LİSTE!$B$32)","v":""},{"$f":"IF(LİSTE!$B$33=0,\"\",LİSTE!$B$33)","v":""},{"$f":"IF(LİSTE!$B$34=0,\"\",LİSTE!$B$34)","v":""},{"$f":"IF(LİSTE!$B$35=0,\"\",LİSTE!$B$35)","v":""},{"$f":"IF(LİSTE!$B$36=0,\"\",LİSTE!$B$36)","v":""},{"$f":"IF(LİSTE!$B$37=0,\"\",LİSTE!$B$37)","v":""},{"$f":"IF(LİSTE!$B$38=0,\"\",LİSTE!$B$38)","v":""},{"$f":"IF(LİSTE!$B$39=0,\"\",LİSTE!$B$39)","v":""},{"$f":"IF(LİSTE!$B$40=0,\"\",LİSTE!$B$40)","v":""},{"$f":"IF(LİSTE!$B$41=0,\"\",LİSTE!$B$41)","v":""},{"$f":"IF(LİSTE!$B$42=0,\"\",LİSTE!$B$42)","v":""}]
[null,"KAZANIMLAR",{"$f":"IF(LİSTE!$A3=0,\"\",LİSTE!$A3)","v":""},{"$f":"IF(LİSTE!$A4=0,\"\",LİSTE!$A4)","v":""},{"$f":"IF(LİSTE!$A5=0,\"\",LİSTE!$A5)","v":""},{"$f":"IF(LİSTE!$A6=0,\"\",LİSTE!$A6)","v":""},{"$f":"IF(LİSTE!$A7=0,\"\",LİSTE!$A7)","v":""},{"$f":"IF(LİSTE!$A8=0,\"\",LİSTE!$A8)","v":""},{"$f":"IF(LİSTE!$A9=0,\"\",LİSTE!$A9)","v":""},{"$f":"IF(LİSTE!$A10=0,\"\",LİSTE!$A10)","v":""},{"$f":"IF(LİSTE!$A11=0,\"\",LİSTE!$A11)","v":""},{"$f":"IF(LİSTE!$A12=0,\"\",LİSTE!$A12)","v":""},{"$f":"IF(LİSTE!$A13=0,\"\",LİSTE!$A13)","v":""},{"$f":"IF(LİSTE!$A14=0,\"\",LİSTE!$A14)","v":""},{"$f":"IF(LİSTE!$A15=0,\"\",LİSTE!$A15)","v":""},{"$f":"IF(LİSTE!$A16=0,\"\",LİSTE!$A16)","v":""},{"$f":"IF(LİSTE!$A17=0,\"\",LİSTE!$A17)","v":""},{"$f":"IF(LİSTE!$A18=0,\"\",LİSTE!$A18)","v":""},{"$f":"IF(LİSTE!$A19=0,\"\",LİSTE!$A19)","v":""},{"$f":"IF(LİSTE!$A20=0,\"\",LİSTE!$A20)","v":""},{"$f":"IF(LİSTE!$A21=0,\"\",LİSTE!$A21)","v":""},{"$f":"IF(LİSTE!$A22=0,\"\",LİSTE!$A22)","v":""},{"$f":"IF(LİSTE!$A23=0,\"\",LİSTE!$A23)","v":""},{"$f":"IF(LİSTE!$A24=0,\"\",LİSTE!$A24)","v":""},{"$f":"IF(LİSTE!$A25=0,\"\",LİSTE!$A25)","v":""},{"$f":"IF(LİSTE!$A26=0,\"\",LİSTE!$A26)","v":""},{"$f":"IF(LİSTE!$A27=0,\"\",LİSTE!$A27)","v":""},{"$f":"IF(LİSTE!$A28=0,\"\",LİSTE!$A28)","v":""},{"$f":"IF(LİSTE!$A29=0,\"\",LİSTE!$A29)","v":""},{"$f":"IF(LİSTE!$A30=0,\"\",LİSTE!$A30)","v":""},{"$f":"IF(LİSTE!$A31=0,\"\",LİSTE!$A31)","v":""},{"$f":"IF(LİSTE!$A32=0,\"\",LİSTE!$A32)","v":""},{"$f":"IF(LİSTE!$A33=0,\"\",LİSTE!$A33)","v":""},{"$f":"IF(LİSTE!$A34=0,\"\",LİSTE!$A34)","v":""},{"$f":"IF(LİSTE!$A35=0,\"\",LİSTE!$A35)","v":""},{"$f":"IF(LİSTE!$A36=0,\"\",LİSTE!$A36)","v":""},{"$f":"IF(LİSTE!$A37=0,\"\",LİSTE!$A37)","v":""},{"$f":"IF(LİSTE!$A38=0,\"\",LİSTE!$A38)","v":""},{"$f":"IF(LİSTE!$A39=0,\"\",LİSTE!$A39)","v":""},{"$f":"IF(LİSTE!$A40=0,\"\",LİSTE!$A40)","v":""},{"$f":"IF(LİSTE!$A41=0,\"\",LİSTE!$A41)","v":""},{"$f":"IF(LİSTE!$A42=0,\"\",LİSTE!$A42)","v":""}]
[null,"Görsel sanat çalışmasını oluştururken karşılaştığı sorunlara çeşitli çözümler bulur.",3,3,3,3,3,3,3,3,3,3,3,3,3,3,3,3,3,3,3,3,3,3,3,3,3,3,3,3,3,3,3,3,3,3,3,3,3,3,3,3]
[null,"Görsel sanat çalışmasını oluştururken beklenmedik/öngörülemeyen sonuçların ortaya çıkabileceğini fark eder.",3,3,3,3,3,3,3,3,3,3,3,3,3,3,3,3,3,3,3,3,3,3,3,3,3,3,3,3,3,3,3,3,3,3,3,3,3,3,3,3]
[null,"Çalışmasına hayallerini yansıtır.",3,3,3,3,3,3,3,3,3,3,3,3,3,3,3,3,3,3,3,3,3,3,3,3,3,3,3,3,3,3,3,3,3,3,3,3,3,3,3,3]
[null,"Farklı yazılı kaynak, kavram ve temalardan esinlenerek görsel sanat çalışmasını oluşturur.",3,3,3,3,3,3,3,3,3,3,3,3,3,3,3,3,3,3,3,3,3,3,3,3,3,3,3,3,3,3,3,3,3,3,3,3,3,3,3,3]
[null,"Görsel sanat çalışmasında ön ve arka planı kullanır.",3,3,3,3,3,3,3,3,3,3,3,3,3,3,3,3,3,3,3,3,3,3,3,3,3,3,3,3,3,3,3,3,3,3,3,3,3,3,3,3]
[null,"Görsel sanat çalışmasında ölçü ve oran-orantıya göre objeleri yerleştirir",3,3,3,3,3,3,3,3,3,3,3,3,3,3,3,3,3,3,3,3,3,3,3,3,3,3,3,3,3,3,3,3,3,3,3,3,3,3,3,3]
[null,"Görsel sanat çalışmasını oluşturmak için gözleme dayalı çizimler yapar.",3,3,3,3,3,3,3,3,3,3,3,3,3,3,3,3,3,3,3,3,3,3,3,3,3,3,3,3,3,3,3,3,3,3,3,3,3,3,3,3]
[null,"Günlük yaşamından yola çıkarak görsel sanat çalışmasını oluşturur",3,3,3,3,3,3,3,3,3,3,3,3,3,3,3,3,3,3,3,3,3,3,3,3,3,3,3,3,3,3,3,3,3,3,3,3,3,3,3,3]
[null,"Farklı materyalleri kullanarak üç boyutlu çalışma yapar.",3,3,3,3,3,3,3,3,3,3,3,3,3,3,3,3,3,3,3,3,3,3,3,3,3,3,3,3,3,3,3,3,3,3,3,3,3,3,3,3]
[null,"SONUÇ",{"$f":"IFERROR(ROUND(AVERAGE(C4:C12),0),\"\")","v":3},3,3,3,3,3,3,3,3,3,3,3,3,3,3,3,3,3,3,3,3,3,3,3,3,3,3,3,3,3,3,3,3,3,3,3,3,3,3,3]
[null,null,{"$f":"IF(C13=\"\",\"\",IF(C13<1.5,\"Geliştirilmeli\",IF(C13>2.44,\"Çok İyi\",\"İyi\")))","v":"Çok İyi"},{"$f":"IF(D13=\"\",\"\",IF(D13<1.5,\"Geliştirilmeli\",IF(D13>2.44,\"Çok İyi\",\"İyi\")))","v":"Çok İyi"},{"$f":"IF(E13=\"\",\"\",IF(E13<1.5,\"Geliştirilmeli\",IF(E13>2.44,\"Çok İyi\",\"İyi\")))","v":"Çok İyi"},"Çok İyi","Çok İyi","Çok İyi","Çok İyi","Çok İyi","Çok İyi","Çok İyi","Çok İyi","Çok İyi","Çok İyi","Çok İyi","Çok İyi","Çok İyi","Çok İyi","Çok İyi","Çok İyi","Çok İyi","Çok İyi","Çok İyi","Çok İyi","Çok İyi","Çok İyi","Çok İyi","Çok İyi","Çok İyi","Çok İyi","Çok İyi","Çok İyi","Çok İyi","Çok İyi","Çok İyi","Çok İyi","Çok İyi","Çok İyi","Çok İyi","Çok İyi","Çok İyi"]
[]
[null,null,null,null,null,null,null,null,null,null,null,null,null,null,null,null,null,null,null,null,{"$f":"IF(LİSTE!$D4=0,\"\",LİSTE!$D4)","v":""}]
[null,null,null,null,null,null,null,null,null,null,null,null,null,null,null,null,null,null,null,null,{"$f":"CONCATENATE(LİSTE!D5,\" \",\"Sınıf Öğretmeni\")","v":"2- Sınıf Öğretmeni"}]