{"text_format":"1","workbook":"xlsx","n_sheets":26,"sheets":["SINIFLAR","LİSTE","TOPLU SONUÇ","TRF1","TRF2","O1","O2","G1","G2","G3","İN1","İN2","MZ1","MZ2","SB1","SB2","SB3","FB1","FB2","FB3","M1","M2","M3","TR1","TR2","TR3"],"not_rendered":{"charts":0,"images":4,"macros":1,"external_links":0,"defined_names":49,"comments":0,"pivot_tables":0},"unopened":[],"bounds":{"document_bytes":16777216,"sheet_cells":100000,"rows_first":2000,"rows_last":500,"rows_between":2000,"halvings":0,"cell_chars":16384,"cell_head_chars":4096},"cells_cut":0,"cells_raw":0,"read":"whole","date_system":"1900"}

{"sheet":"SINIFLAR","index":0,"n_rows":152,"n_cols":3,"rows_kept":152,"cut":false,"hidden":true,"merged":[]}
["ÖĞRENCİ  NO","ADI VE SOYADI","SINIFI"]
[1,"ZÜMRA CEYLİN KARASOY","4-A"]
[3,"BEYZA ERGÜN","4-A"]
[4,"ERDEM POLAT","4-A"]
[5,"ZEYNEP EDA KARATAŞ","4-A"]
[7,"AYÇA NAZ DAŞTEMİR","4-A"]
[8,"GÖKHAN EFE BALIKÇI","4-A"]
[9,"MERYEM KOÇ","4-A"]
[10,"KUDRET TAHA KALAYCI","4-A"]
[11,"DOĞA ÇETİN","4-A"]
[12,"MUHAMMED ENES KEVEK","4-A"]
[13,"ELA NUR ÇİÇEK","4-A"]
[14,"MUHAMMED FURKAN KALALI","4-A"]
[15,"AYŞE ERDOĞMUŞ","4-A"]
[16,"HAKKI BOZKAYA","4-A"]
[17,"TUĞÇE KEVİOĞLU","4-A"]
[18,"SAİD EFE SOYSAL","4-A"]
[19,"İREM ERDOĞAN","4-A"]
[20,"KADİR SUNER","4-A"]
[21,"RABİA BUSE YENİYURT","4-A"]
[22,"EMİRHAN KILAVUZ","4-A"]
[23,"SUDE NAZ HASBUTCU","4-A"]
[24,"EREN TAMER","4-A"]
[25,"ECRİN ESMA SARAÇOĞLU","4-A"]
[26,"YUSUF CAN ÇAKICI","4-A"]
[27,"ADA KARAKUŞ","4-A"]
[28,"MUHAMMED TAHA SIRMALI","4-A"]
[29,"ELİF NEHİR ÇITA","4-A"]
[30,"BERAT BUĞRA KILIÇ","4-A"]
[31,"CEREN YALÇIN","4-A"]
[33,"EMEL KEVİOĞLU","4-A"]
[35,"ESMA ECRİN ERDOĞAN","4-A"]
[37,"ZEYNEP SU TEMİZTÜRK","4-A"]
[38,"RAMİ KASIM","4-A"]
[41,"RENA ACCUM","4-A"]
[44,"ARDA TEMİRPOLAT","4-A"]
[46,"BARIŞ KILIÇ","4-A"]
[48,"ABDULLAH HALİS ŞENTÜRK","4-A"]
[]
[52,"MERVAN MUHAMMED GÖL","4-B"]
[53,"CEYLİN NUR ŞAHİN","4-B"]
[54,"EKİN KAYRA KOÇ","4-B"]
[55,"ÇİĞDEM YALÇIN","4-B"]
[56,"SALİH BEKİR YILDIZ","4-B"]
[57,"AYŞE ÇAĞIL","4-B"]
[58,"AHMET SEYDA CEYLAN","4-B"]
[59,"NİHAL SU TEMURBAŞ","4-B"]
[60,"AHMET KAYA","4-B"]
[61,"ÜMMÜGÜLSÜM BABADAĞI","4-B"]
[62,"EFE KAĞAN YILMAZ","4-B"]
[63,"YÜSRA KARAARSLAN","4-B"]
[64,"ŞAKİR EFE ÜNAL","4-B"]
[65,"ŞEYMA KARATAŞ","4-B"]
[66,"SEMİH ÖZKAN","4-B"]
[67,"BAHAR GAMSIZOĞLU","4-B"]
[68,"SALİM CEM BERK","4-B"]
[69,"NİSA DUDU FARAŞ","4-B"]
[70,"EMİRCAN ÖZDEMİR","4-B"]
[71,"RÜYA NUR SUBAY","4-B"]
[72,"MUAMMER ÖZKAN","4-B"]
[73,"REFİKA NUR KALKAN","4-B"]
[74,"HACI OSMAN KOÇYİĞİT","4-B"]
[75,"BELİNAY POLAT","4-B"]
[76,"İLKER EFE HERDEM","4-B"]
[77,"CANSU ALEYNA TÜFEKCİ","4-B"]
[79,"EDANUR MACİN","4-B"]
[80,"AHMET ENES UTLU","4-B"]
[81,"RABİA NUR KALKAN","4-B"]
[83,"SULTAN ŞERİFE KILIÇ","4-B"]
[84,"SEYİT AHAT ÖZBEK","4-B"]
[85,"İREM ÖZBEK","4-B"]
[86,"MUHAMMET ERKAN POLAT","4-B"]
[87,"YEM ALCARBA","4-B"]
[98,"İBRAHİM TALHA ERDOĞAN","4-B"]
[176,"ÖMER AYÇİÇEK","4-B"]
[685,"FADİME CEYLİN ERDEM","4-B"]
[]
[102,"MUHAMMED SAİD COŞGUN","4-C"]
[103,"GÖRKEM ÜNALAN","4-C"]
[104,"AHMET RASİM ŞİMŞEK","4-C"]
[105,"ZEYNEP BETÜL BALABAN","4-C"]
[106,"ALPEREN FARAŞ","4-C"]
[107,"TESLİME NUR AYDOĞAN","4-C"]
[108,"BERAT YILDIZ","4-C"]
[110,"MEHMET EFE SARAÇOĞLU","4-C"]
[111,"RAME KASIM","4-C"]
[112,"ERSİN ERDOĞMUŞ","4-C"]
[113,"ŞUHEDA ŞANLI","4-C"]
[114,"ÖMER FARUK ŞAHİN","4-C"]
[115,"KÜBRA ÖKSÜM","4-C"]
[116,"HURŞİT EREN KILIÇ","4-C"]
[117,"SUDEN ÇAKIR","4-C"]
[118,"METEHAN KARAKAYA","4-C"]
[119,"HİLAL ŞAHİN","4-C"]
[120,"EREN MERT","4-C"]
[121,"HİRANUR TEK","4-C"]
[122,"MURAT CAN KARAGÖZ","4-C"]
[123,"MEDİNE ÖZTÜRK","4-C"]
[124,"KADİR UTKU ÇİLTAŞ","4-C"]
[126,"TALHA AYBAR","4-C"]
[127,"RÜMEYSA GÜZEL","4-C"]
[128,"MUHAMMED SELİM TÜFEKCİ","4-C"]
[130,"KEREM KILIÇ","4-C"]
[131,"GÜLAY NEVA ERDAL","4-C"]
[132,"ALPEREN KARABULUT","4-C"]
[133,"TUĞBA SÖZER","4-C"]
[135,"HİRANUR YILMAZ","4-C"]
[139,"İREM SULTAN KARAHAN","4-C"]
[140,"SEYİT SEMİH CEYLAN","4-C"]
[145,"ELANUR KILIÇ","4-C"]
[148,"ÖMER TAHA TEKİN","4-C"]
[183,"ELİF ÇETİN","4-C"]
[187,"SİBEL DEMİRAL","4-C"]
[]
[]
[151,"ZEYNEP ESEN","4-D"]
[152,"ABDULLAH TOPRAK","4-D"]
[153,"EYLÜL İREM SOYTÜRK","4-D"]
[154,"MEHMET EFE AYDIN ALICI","4-D"]
[156,"ALPEREN ÇAPAR","4-D"]
[157,"NİSA NUR BOSTANCI","4-D"]
[158,"RAFET EFE SAMUR","4-D"]
[159,"ELİFSU GÜMÜŞEL","4-D"]
[160,"ALPARSLAN POLAT","4-D"]
[161,"ZEYNEP KILIÇ","4-D"]
[162,"KILIÇARSLAN POLAT","4-D"]
[163,"NEVA NUR SUBAŞI","4-D"]
[164,"VELİ KILIÇ","4-D"]
[165,"MELİKE ULUSOY","4-D"]
[166,"ARDA EFE KEVİOĞLU","4-D"]
[167,"İREMSU AKER","4-D"]
[168,"SELİM TUNA DÖKMECİ","4-D"]
[169,"ZEYNEP KARATAŞ","4-D"]
[170,"İLKER PINAR","4-D"]
[171,"TUANA KAYA","4-D"]
[172,"MUHSİN AYTEKİN","4-D"]
[173,"NİSA YÜREKLİ","4-D"]
[174,"MUHSİN ERCAN","4-D"]
[175,"ZEYNEP NUR COŞGUN","4-D"]
[177,"NİSANUR ZORLU","4-D"]
[178,"YUNUS EMRE KOÇYİĞİT","4-D"]
[179,"HAYRUNNİSA KARASU","4-D"]
[180,"ALİ YİĞİT ARSLAN","4-D"]
[181,"ECRİN DURU","4-D"]
[182,"BERKAY KUŞ","4-D"]
[185,"ESRA BALIKÇI","4-D"]
[188,"REMZİ KOÇYİĞİT","4-D"]
[190,"MUHAMMED SUHEYL ACCUM","4-D"]
[194,"ATAKAN ŞİMŞEK","4-D"]
[195,"HÜLYA YILDIZ","4-D"]
[196,"ABDULKERİM BAYAZİT","4-D"]
[197,"ELİZZA GEZER","4-D"]

{"sheet":"LİSTE","index":1,"n_rows":41,"n_cols":9,"rows_kept":41,"cut":false,"hidden":false,"merged":[[0,0,1,0],[0,1,1,1],[1,3,1,4]]}
["ÖĞRENCİ NO","ADI SOYADI",null,null,null,null,null,null,"4-A"]
[null,null,"Eğitim Öğretim Yılı","2022-2023 EĞİTİM ÖĞRETİM YILI"]
[null,null,"OKUL ADI","ATATÜRK İLKOKULU",null,null,null,null,"4-B"]
[null,null,"Dönemi","1.DÖNEM",null,null,null,null,"4-C"]
[null,null,"SINIF ÖĞRETMENİ:",null,null,null,null,null,"4-D"]
[null,null,"SINIF:","4-"]
[null,null,"TRAFİK GÜVENLİĞİ FORM 1","SOSYAL BİLGİLER FORM 1"]
[null,null,"TRAFİK GÜVENLİĞİ FORM 2","SOSYAL BİLGİLER FORM 2"]
[null,null,"BEDEN EĞİTİMİ VE OYUN FORM 1","SOSYAL BİLGİLER FORM 3"]
[null,null,"BEDEN EĞİTİMİ VE OYUN FORM 2","FEN BİLİMLERİ FORM 1"]
[null,null,"GÖRSEL SANATLAR FORM 1","FEN BİLİMLERİ FORM 2"]
[null,null,"GÖRSEL SANATLAR FORM 2","FEN BİLİMLERİ FORM 3"]
[null,null,"GÖRSEL SANATLAR FORM 3","MATEMATİK FORM 1"]
[null,null,"İNSAN HAK. YURT. VE DEM. FORM 1","MATEMATİK FORM 2"]
[null,null,"İNSAN HAK. YURT. VE DEM. FORM 2","MATEMATİK FORM 3"]
[null,null,"MÜZİK FORM 1","TÜRKÇE FORM 1"]
[null,null,"MÜZİK FORM 2","TÜRKÇE FORM 2"]
[null,null,null,"TÜRKÇE FORM 3"]
[]
[]
[]
[]
[]
[]
[]
[]
[]
[]
[]
[]
[]
[]
[]
[]
[]
[]
[]
[]
[]
[{"$f":"IF(ROWS(A$1:A39)>COUNTIF(SINIFLAR!$C$2:$C$1000,$D$6),\"\",INDEX(SINIFLAR!A$2:A$1000,SMALL(IF((SINIFLAR!$C$2:$C$10000=$D$6),ROW(SINIFLAR!$C$2:$C$1000)-ROW(SINIFLAR!$C$2)+1),ROWS($A$1:A39))))","v":""},{"$f":"IF(ROWS(B$1:B39)>COUNTIF(SINIFLAR!$C$2:$C$1000,$D$6),\"\",INDEX(SINIFLAR!B$2:B$1000,SMALL(IF((SINIFLAR!$C$2:$C$10000=$D$6),ROW(SINIFLAR!$C$2:$C$1000)-ROW(SINIFLAR!$C$2)+1),ROWS($A$1:B39))))","v":""}]
[{"$f":"IF(ROWS(A$1:A40)>COUNTIF(SINIFLAR!$C$2:$C$1000,$D$6),\"\",INDEX(SINIFLAR!A$2:A$1000,SMALL(IF((SINIFLAR!$C$2:$C$10000=$D$6),ROW(SINIFLAR!$C$2:$C$1000)-ROW(SINIFLAR!$C$2)+1),ROWS($A$1:A40))))","v":""},{"$f":"IF(ROWS(B$1:B40)>COUNTIF(SINIFLAR!$C$2:$C$1000,$D$6),\"\",INDEX(SINIFLAR!B$2:B$1000,SMALL(IF((SINIFLAR!$C$2:$C$10000=$D$6),ROW(SINIFLAR!$C$2:$C$1000)-ROW(SINIFLAR!$C$2)+1),ROWS($A$1:B40))))","v":""}]

{"sheet":"TOPLU SONUÇ","index":2,"n_rows":41,"n_cols":33,"rows_kept":41,"cut":false,"hidden":false,"merged":[[0,22,0,23],[0,25,0,26],[0,28,0,29],[0,31,0,32],[0,2,0,4],[0,6,0,8],[0,10,0,12],[0,14,0,16],[0,18,0,20]]}
[null,null,"TÜRKÇE",null,null,null,"MATEMATİK",null,null,null,"FEN BİLİMLERİ",null,null,null,"SOSYAL BİLGİLER",null,null,null,"GÖRSEL SANATLAR",null,null,null,"BEDEN EĞİTİMİ VE OYUN",null,null,"MÜZİK",null,null,"TRAFİK",null,null,"İNSAN HAKLARI"]
["ÖĞRENCİ NO","ADI SOYADI","FORM 1","FORM 2","FORM 3",null,"FORM 1","FORM 2","FORM 3",null,"FORM 1","FORM 2","FORM 3",null,"FORM 1","FORM 2","FORM 3",null,"FORM 1","FORM 2","FORM 3",null,"FORM 1","FORM 2",null,"FORM 1","FORM 2",null,"FORM 1","FORM 2",null,"FORM 1","FORM 2"]
[{"$f":"IF(LİSTE!$A3=0,\"\",LİSTE!$A3)","v":""},{"$f":"IF(LİSTE!$B3=0,\"\",LİSTE!$B3)","v":""},{"$f":"OFFSET('TR1'!$C$44,0,ROW($C3)-ROW($C$3),1,1)","v":0},{"$f":"OFFSET('TR2'!$C$44,0,ROW($D3)-ROW($D$3),1,1)","v":0},{"$f":"OFFSET('TR3'!$C$15,0,ROW($E3)-ROW($E$3),1,1)","v":70},null,{"$f":"OFFSET('M1'!$C$19,0,ROW($G3)-ROW($G$3),1,1)","v":0},{"$f":"OFFSET('M2'!$C$20,0,ROW($H3)-ROW($H$3),1,1)","v":0},{"$f":"OFFSET('M3'!$C$15,0,ROW($I3)-ROW($I$3),1,1)","v":0},null,{"$f":"OFFSET('FB1'!$C$16,0,ROW($K3)-ROW($K$3),1,1)","v":0},{"$f":"OFFSET('FB2'!$C$14,0,ROW($L3)-ROW($L$3),1,1)","v":0},{"$f":"OFFSET('FB3'!$C$17,0,ROW($M3)-ROW($M$3),1,1)","v":0},null,{"$f":"OFFSET('SB1'!$C$14,0,ROW($O3)-ROW($O$3),1,1)","v":0},{"$f":"OFFSET('SB2'!$C$14,0,ROW($P3)-ROW($P$3),1,1)","v":0},{"$f":"OFFSET('SB3'!$C$20,0,ROW($Q3)-ROW($Q$3),1,1)","v":0},null,{"$f":"OFFSET('G1'!$C$13,0,ROW($S3)-ROW($S$3),1,1)","v":0},{"$f":"OFFSET('G2'!$C$15,0,ROW($T3)-ROW($T$3),1,1)","v":0},{"$f":"OFFSET('G3'!$C$12,0,ROW($U3)-ROW($U$3),1,1)","v":0},null,{"$f":"OFFSET('O1'!$C$16,0,ROW($W3)-ROW($W$3),1,1)","v":0},{"$f":"OFFSET('O2'!$C$13,0,ROW($W3)-ROW($W$3),1,1)","v":87.5},null,{"$f":"OFFSET('MZ1'!$C$11,0,ROW($Z3)-ROW($Z$3),1,1)","v":0},{"$f":"OFFSET('MZ2'!$C$15,0,ROW($AA3)-ROW($AA$3),1,1)","v":0},null,{"$f":"OFFSET('TRF1'!$C$14,0,ROW($AC3)-ROW($AC$3),1,1)","v":10},{"$f":"OFFSET('TRF2'!$C$14,0,ROW($AD3)-ROW($AD$3),1,1)","v":0},null,{"$f":"OFFSET(İN1!$C$21,0,ROW($AF3)-ROW($AF$3),1,1)","v":0},{"$f":"OFFSET(İN2!$C$14,0,ROW($AG3)-ROW($AG$3),1,1)","v":0}]
[{"$f":"IF(LİSTE!$A4=0,\"\",LİSTE!$A4)","v":""},{"$f":"IF(LİSTE!$B4=0,\"\",LİSTE!$B4)","v":""},{"$f":"OFFSET('TR1'!$C$44,0,ROW($C4)-ROW($C$3),1,1)","v":0},{"$f":"OFFSET('TR2'!$C$44,0,ROW($D4)-ROW($D$3),1,1)","v":0},{"$f":"OFFSET('TR3'!$C$15,0,ROW($E4)-ROW($E$3),1,1)","v":100},null,{"$f":"OFFSET('M1'!$C$19,0,ROW($G4)-ROW($G$3),1,1)","v":0},{"$f":"OFFSET('M2'!$C$20,0,ROW($H4)-ROW($H$3),1,1)","v":0},{"$f":"OFFSET('M3'!$C$15,0,ROW($I4)-ROW($I$3),1,1)","v":0},null,{"$f":"OFFSET('FB1'!$C$16,0,ROW($K4)-ROW($K$3),1,1)","v":0},{"$f":"OFFSET('FB2'!$C$14,0,ROW($L4)-ROW($L$3),1,1)","v":0},{"$f":"OFFSET('FB3'!$C$17,0,ROW($M4)-ROW($M$3),1,1)","v":0},null,{"$f":"OFFSET('SB1'!$C$14,0,ROW($O4)-ROW($O$3),1,1)","v":0},{"$f":"OFFSET('SB2'!$C$14,0,ROW($P4)-ROW($P$3),1,1)","v":0},{"$f":"OFFSET('SB3'!$C$20,0,ROW($Q4)-ROW($Q$3),1,1)","v":0},null,{"$f":"OFFSET('G1'!$C$13,0,ROW($S4)-ROW($S$3),1,1)","v":0},{"$f":"OFFSET('G2'!$C$15,0,ROW($T4)-ROW($T$3),1,1)","v":0},{"$f":"OFFSET('G3'!$C$12,0,ROW($U4)-ROW($U$3),1,1)","v":0},null,{"$f":"OFFSET('O1'!$C$16,0,ROW($W4)-ROW($W$3),1,1)","v":0},{"$f":"OFFSET('O2'!$C$13,0,ROW($W4)-ROW($W$3),1,1)","v":100},null,{"$f":"OFFSET('MZ1'!$C$11,0,ROW($Z4)-ROW($Z$3),1,1)","v":0},{"$f":"OFFSET('MZ2'!$C$15,0,ROW($AA4)-ROW($AA$3),1,1)","v":0},null,{"$f":"OFFSET('TRF1'!$C$14,0,ROW($AC4)-ROW($AC$3),1,1)","v":10},{"$f":"OFFSET('TRF2'!$C$14,0,ROW($AD4)-ROW($AD$3),1,1)","v":0},null,{"$f":"OFFSET(İN1!$C$21,0,ROW($AF4)-ROW($AF$3),1,1)","v":0},{"$f":"OFFSET(İN2!$C$14,0,ROW($AG4)-ROW($AG$3),1,1)","v":0}]
[{"$f":"IF(LİSTE!$A5=0,\"\",LİSTE!$A5)","v":""},{"$f":"IF(LİSTE!$B5=0,\"\",LİSTE!$B5)","v":""},{"$f":"OFFSET('TR1'!$C$44,0,ROW($C5)-ROW($C$3),1,1)","v":0},{"$f":"OFFSET('TR2'!$C$44,0,ROW($D5)-ROW($D$3),1,1)","v":0},{"$f":"OFFSET('TR3'!$C$15,0,ROW($E5)-ROW($E$3),1,1)","v":90},null,{"$f":"OFFSET('M1'!$C$19,0,ROW($G5)-ROW($G$3),1,1)","v":0},{"$f":"OFFSET('M2'!$C$20,0,ROW($H5)-ROW($H$3),1,1)","v":0},{"$f":"OFFSET('M3'!$C$15,0,ROW($I5)-ROW($I$3),1,1)","v":0},null,{"$f":"OFFSET('FB1'!$C$16,0,ROW($K5)-ROW($K$3),1,1)","v":0},{"$f":"OFFSET('FB2'!$C$14,0,ROW($L5)-ROW($L$3),1,1)","v":0},{"$f":"OFFSET('FB3'!$C$17,0,ROW($M5)-ROW($M$3),1,1)","v":0},null,{"$f":"OFFSET('SB1'!$C$14,0,ROW($O5)-ROW($O$3),1,1)","v":0},{"$f":"OFFSET('SB2'!$C$14,0,ROW($P5)-ROW($P$3),1,1)","v":0},{"$f":"OFFSET('SB3'!$C$20,0,ROW($Q5)-ROW($Q$3),1,1)","v":0},null,{"$f":"OFFSET('G1'!$C$13,0,ROW($S5)-ROW($S$3),1,1)","v":0},{"$f":"OFFSET('G2'!$C$15,0,ROW($T5)-ROW($T$3),1,1)","v":0},{"$f":"OFFSET('G3'!$C$12,0,ROW($U5)-ROW($U$3),1,1)","v":0},null,{"$f":"OFFSET('O1'!$C$16,0,ROW($W5)-ROW($W$3),1,1)","v":0},{"$f":"OFFSET('O2'!$C$13,0,ROW($W5)-ROW($W$3),1,1)","v":93.75},null,{"$f":"OFFSET('MZ1'!$C$11,0,ROW($Z5)-ROW($Z$3),1,1)","v":0},{"$f":"OFFSET('MZ2'!$C$15,0,ROW($AA5)-ROW($AA$3),1,1)","v":0},null,{"$f":"OFFSET('TRF1'!$C$14,0,ROW($AC5)-ROW($AC$3),1,1)","v":10},{"$f":"OFFSET('TRF2'!$C$14,0,ROW($AD5)-ROW($AD$3),1,1)","v":0},null,{"$f":"OFFSET(İN1!$C$21,0,ROW($AF5)-ROW($AF$3),1,1)","v":0},{"$f":"OFFSET(İN2!$C$14,0,ROW($AG5)-ROW($AG$3),1,1)","v":0}]
[{"$f":"IF(LİSTE!$A6=0,\"\",LİSTE!$A6)","v":""},{"$f":"IF(LİSTE!$B6=0,\"\",LİSTE!$B6)","v":""},{"$f":"OFFSET('TR1'!$C$44,0,ROW($C6)-ROW($C$3),1,1)","v":0},{"$f":"OFFSET('TR2'!$C$44,0,ROW($D6)-ROW($D$3),1,1)","v":0},{"$f":"OFFSET('TR3'!$C$15,0,ROW($E6)-ROW($E$3),1,1)","v":60},null,{"$f":"OFFSET('M1'!$C$19,0,ROW($G6)-ROW($G$3),1,1)","v":0},{"$f":"OFFSET('M2'!$C$20,0,ROW($H6)-ROW($H$3),1,1)","v":0},{"$f":"OFFSET('M3'!$C$15,0,ROW($I6)-ROW($I$3),1,1)","v":0},null,{"$f":"OFFSET('FB1'!$C$16,0,ROW($K6)-ROW($K$3),1,1)","v":0},{"$f":"OFFSET('FB2'!$C$14,0,ROW($L6)-ROW($L$3),1,1)","v":0},{"$f":"OFFSET('FB3'!$C$17,0,ROW($M6)-ROW($M$3),1,1)","v":0},null,{"$f":"OFFSET('SB1'!$C$14,0,ROW($O6)-ROW($O$3),1,1)","v":0},{"$f":"OFFSET('SB2'!$C$14,0,ROW($P6)-ROW($P$3),1,1)","v":0},{"$f":"OFFSET('SB3'!$C$20,0,ROW($Q6)-ROW($Q$3),1,1)","v":0},null,{"$f":"OFFSET('G1'!$C$13,0,ROW($S6)-ROW($S$3),1,1)","v":0},{"$f":"OFFSET('G2'!$C$15,0,ROW($T6)-ROW($T$3),1,1)","v":0},{"$f":"OFFSET('G3'!$C$12,0,ROW($U6)-ROW($U$3),1,1)","v":0},null,{"$f":"OFFSET('O1'!$C$16,0,ROW($W6)-ROW($W$3),1,1)","v":0},{"$f":"OFFSET('O2'!$C$13,0,ROW($W6)-ROW($W$3),1,1)","v":84.375},null,{"$f":"OFFSET('MZ1'!$C$11,0,ROW($Z6)-ROW($Z$3),1,1)","v":0},{"$f":"OFFSET('MZ2'!$C$15,0,ROW($AA6)-ROW($AA$3),1,1)","v":0},null,{"$f":"OFFSET('TRF1'!$C$14,0,ROW($AC6)-ROW($AC$3),1,1)","v":7.5},{"$f":"OFFSET('TRF2'!$C$14,0,ROW($AD6)-ROW($AD$3),1,1)","v":0},null,{"$f":"OFFSET(İN1!$C$21,0,ROW($AF6)-ROW($AF$3),1,1)","v":0},{"$f":"OFFSET(İN2!$C$14,0,ROW($AG6)-ROW($AG$3),1,1)","v":0}]
[{"$f":"IF(LİSTE!$A7=0,\"\",LİSTE!$A7)","v":""},{"$f":"IF(LİSTE!$B7=0,\"\",LİSTE!$B7)","v":""},{"$f":"OFFSET('TR1'!$C$44,0,ROW($C7)-ROW($C$3),1,1)","v":0},{"$f":"OFFSET('TR2'!$C$44,0,ROW($D7)-ROW($D$3),1,1)","v":0},{"$f":"OFFSET('TR3'!$C$15,0,ROW($E7)-ROW($E$3),1,1)","v":75},null,{"$f":"OFFSET('M1'!$C$19,0,ROW($G7)-ROW($G$3),1,1)","v":0},{"$f":"OFFSET('M2'!$C$20,0,ROW($H7)-ROW($H$3),1,1)","v":0},{"$f":"OFFSET('M3'!$C$15,0,ROW($I7)-ROW($I$3),1,1)","v":0},null,{"$f":"OFFSET('FB1'!$C$16,0,ROW($K7)-ROW($K$3),1,1)","v":0},{"$f":"OFFSET('FB2'!$C$14,0,ROW($L7)-ROW($L$3),1,1)","v":0},{"$f":"OFFSET('FB3'!$C$17,0,ROW($M7)-ROW($M$3),1,1)","v":0},null,{"$f":"OFFSET('SB1'!$C$14,0,ROW($O7)-ROW($O$3),1,1)","v":0},{"$f":"OFFSET('SB2'!$C$14,0,ROW($P7)-ROW($P$3),1,1)","v":0},{"$f":"OFFSET('SB3'!$C$20,0,ROW($Q7)-ROW($Q$3),1,1)","v":0},null,{"$f":"OFFSET('G1'!$C$13,0,ROW($S7)-ROW($S$3),1,1)","v":0},{"$f":"OFFSET('G2'!$C$15,0,ROW($T7)-ROW($T$3),1,1)","v":0},{"$f":"OFFSET('G3'!$C$12,0,ROW($U7)-ROW($U$3),1,1)","v":0},null,{"$f":"OFFSET('O1'!$C$16,0,ROW($W7)-ROW($W$3),1,1)","v":0},{"$f":"OFFSET('O2'!$C$13,0,ROW($W7)-ROW($W$3),1,1)","v":87.5},null,{"$f":"OFFSET('MZ1'!$C$11,0,ROW($Z7)-ROW($Z$3),1,1)","v":0},{"$f":"OFFSET('MZ2'!$C$15,0,ROW($AA7)-ROW($AA$3),1,1)","v":0},null,{"$f":"OFFSET('TRF1'!$C$14,0,ROW($AC7)-ROW($AC$3),1,1)","v":10},{"$f":"OFFSET('TRF2'!$C$14,0,ROW($AD7)-ROW($AD$3),1,1)","v":0},null,{"$f":"OFFSET(İN1!$C$21,0,ROW($AF7)-ROW($AF$3),1,1)","v":0},{"$f":"OFFSET(İN2!$C$14,0,ROW($AG7)-ROW($AG$3),1,1)","v":0}]
[{"$f":"IF(LİSTE!$A8=0,\"\",LİSTE!$A8)","v":""},{"$f":"IF(LİSTE!$B8=0,\"\",LİSTE!$B8)","v":""},{"$f":"OFFSET('TR1'!$C$44,0,ROW($C8)-ROW($C$3),1,1)","v":0},{"$f":"OFFSET('TR2'!$C$44,0,ROW($D8)-ROW($D$3),1,1)","v":0},{"$f":"OFFSET('TR3'!$C$15,0,ROW($E8)-ROW($E$3),1,1)","v":50},null,{"$f":"OFFSET('M1'!$C$19,0,ROW($G8)-ROW($G$3),1,1)","v":0},{"$f":"OFFSET('M2'!$C$20,0,ROW($H8)-ROW($H$3),1,1)","v":0},{"$f":"OFFSET('M3'!$C$15,0,ROW($I8)-ROW($I$3),1,1)","v":0},null,{"$f":"OFFSET('FB1'!$C$16,0,ROW($K8)-ROW($K$3),1,1)","v":0},{"$f":"OFFSET('FB2'!$C$14,0,ROW($L8)-ROW($L$3),1,1)","v":0},{"$f":"OFFSET('FB3'!$C$17,0,ROW($M8)-ROW($M$3),1,1)","v":0},null,{"$f":"OFFSET('SB1'!$C$14,0,ROW($O8)-ROW($O$3),1,1)","v":0},{"$f":"OFFSET('SB2'!$C$14,0,ROW($P8)-ROW($P$3),1,1)","v":0},{"$f":"OFFSET('SB3'!$C$20,0,ROW($Q8)-ROW($Q$3),1,1)","v":0},null,{"$f":"OFFSET('G1'!$C$13,0,ROW($S8)-ROW($S$3),1,1)","v":0},{"$f":"OFFSET('G2'!$C$15,0,ROW($T8)-ROW($T$3),1,1)","v":0},{"$f":"OFFSET('G3'!$C$12,0,ROW($U8)-ROW($U$3),1,1)","v":0},null,{"$f":"OFFSET('O1'!$C$16,0,ROW($W8)-ROW($W$3),1,1)","v":0},{"$f":"OFFSET('O2'!$C$13,0,ROW($W8)-ROW($W$3),1,1)","v":84.375},null,{"$f":"OFFSET('MZ1'!$C$11,0,ROW($Z8)-ROW($Z$3),1,1)","v":0},{"$f":"OFFSET('MZ2'!$C$15,0,ROW($AA8)-ROW($AA$3),1,1)","v":0},null,{"$f":"OFFSET('TRF1'!$C$14,0,ROW($AC8)-ROW($AC$3),1,1)","v":7.5},{"$f":"OFFSET('TRF2'!$C$14,0,ROW($AD8)-ROW($AD$3),1,1)","v":0},null,{"$f":"OFFSET(İN1!$C$21,0,ROW($AF8)-ROW($AF$3),1,1)","v":0},{"$f":"OFFSET(İN2!$C$14,0,ROW($AG8)-ROW($AG$3),1,1)","v":0}]
[{"$f":"IF(LİSTE!$A9=0,\"\",LİSTE!$A9)","v":""},{"$f":"IF(LİSTE!$B9=0,\"\",LİSTE!$B9)","v":""},{"$f":"OFFSET('TR1'!$C$44,0,ROW($C9)-ROW($C$3),1,1)","v":0},{"$f":"OFFSET('TR2'!$C$44,0,ROW($D9)-ROW($D$3),1,1)","v":0},{"$f":"OFFSET('TR3'!$C$15,0,ROW($E9)-ROW($E$3),1,1)","v":50},null,{"$f":"OFFSET('M1'!$C$19,0,ROW($G9)-ROW($G$3),1,1)","v":0},{"$f":"OFFSET('M2'!$C$20,0,ROW($H9)-ROW($H$3),1,1)","v":0},{"$f":"OFFSET('M3'!$C$15,0,ROW($I9)-ROW($I$3),1,1)","v":0},null,{"$f":"OFFSET('FB1'!$C$16,0,ROW($K9)-ROW($K$3),1,1)","v":0},{"$f":"OFFSET('FB2'!$C$14,0,ROW($L9)-ROW($L$3),1,1)","v":0},{"$f":"OFFSET('FB3'!$C$17,0,ROW($M9)-ROW($M$3),1,1)","v":0},null,{"$f":"OFFSET('SB1'!$C$14,0,ROW($O9)-ROW($O$3),1,1)","v":0},{"$f":"OFFSET('SB2'!$C$14,0,ROW($P9)-ROW($P$3),1,1)","v":0},{"$f":"OFFSET('SB3'!$C$20,0,ROW($Q9)-ROW($Q$3),1,1)","v":0},null,{"$f":"OFFSET('G1'!$C$13,0,ROW($S9)-ROW($S$3),1,1)","v":0},{"$f":"OFFSET('G2'!$C$15,0,ROW($T9)-ROW($T$3),1,1)","v":0},{"$f":"OFFSET('G3'!$C$12,0,ROW($U9)-ROW($U$3),1,1)","v":0},null,{"$f":"OFFSET('O1'!$C$16,0,ROW($W9)-ROW($W$3),1,1)","v":0},{"$f":"OFFSET('O2'!$C$13,0,ROW($W9)-ROW($W$3),1,1)","v":84.375},null,{"$f":"OFFSET('MZ1'!$C$11,0,ROW($Z9)-ROW($Z$3),1,1)","v":0},{"$f":"OFFSET('MZ2'!$C$15,0,ROW($AA9)-ROW($AA$3),1,1)","v":0},null,{"$f":"OFFSET('TRF1'!$C$14,0,ROW($AC9)-ROW($AC$3),1,1)","v":7.5},{"$f":"OFFSET('TRF2'!$C$14,0,ROW($AD9)-ROW($AD$3),1,1)","v":0},null,{"$f":"OFFSET(İN1!$C$21,0,ROW($AF9)-ROW($AF$3),1,1)","v":0},{"$f":"OFFSET(İN2!$C$14,0,ROW($AG9)-ROW($AG$3),1,1)","v":0}]
[{"$f":"IF(LİSTE!$A10=0,\"\",LİSTE!$A10)","v":""},{"$f":"IF(LİSTE!$B10=0,\"\",LİSTE!$B10)","v":""},{"$f":"OFFSET('TR1'!$C$44,0,ROW($C10)-ROW($C$3),1,1)","v":0},{"$f":"OFFSET('TR2'!$C$44,0,ROW($D10)-ROW($D$3),1,1)","v":0},{"$f":"OFFSET('TR3'!$C$15,0,ROW($E10)-ROW($E$3),1,1)","v":100},null,{"$f":"OFFSET('M1'!$C$19,0,ROW($G10)-ROW($G$3),1,1)","v":0},{"$f":"OFFSET('M2'!$C$20,0,ROW($H10)-ROW($H$3),1,1)","v":0},{"$f":"OFFSET('M3'!$C$15,0,ROW($I10)-ROW($I$3),1,1)","v":0},null,{"$f":"OFFSET('FB1'!$C$16,0,ROW($K10)-ROW($K$3),1,1)","v":0},{"$f":"OFFSET('FB2'!$C$14,0,ROW($L10)-ROW($L$3),1,1)","v":0},{"$f":"OFFSET('FB3'!$C$17,0,ROW($M10)-ROW($M$3),1,1)","v":0},null,{"$f":"OFFSET('SB1'!$C$14,0,ROW($O10)-ROW($O$3),1,1)","v":0},{"$f":"OFFSET('SB2'!$C$14,0,ROW($P10)-ROW($P$3),1,1)","v":0},{"$f":"OFFSET('SB3'!$C$20,0,ROW($Q10)-ROW($Q$3),1,1)","v":0},null,{"$f":"OFFSET('G1'!$C$13,0,ROW($S10)-ROW($S$3),1,1)","v":0},{"$f":"OFFSET('G2'!$C$15,0,ROW($T10)-ROW($T$3),1,1)","v":0},{"$f":"OFFSET('G3'!$C$12,0,ROW($U10)-ROW($U$3),1,1)","v":0},null,{"$f":"OFFSET('O1'!$C$16,0,ROW($W10)-ROW($W$3),1,1)","v":0},{"$f":"OFFSET('O2'!$C$13,0,ROW($W10)-ROW($W$3),1,1)","v":100},null,{"$f":"OFFSET('MZ1'!$C$11,0,ROW($Z10)-ROW($Z$3),1,1)","v":0},{"$f":"OFFSET('MZ2'!$C$15,0,ROW($AA10)-ROW($AA$3),1,1)","v":0},null,{"$f":"OFFSET('TRF1'!$C$14,0,ROW($AC10)-ROW($AC$3),1,1)","v":10},{"$f":"OFFSET('TRF2'!$C$14,0,ROW($AD10)-ROW($AD$3),1,1)","v":0},null,{"$f":"OFFSET(İN1!$C$21,0,ROW($AF10)-ROW($AF$3),1,1)","v":0},{"$f":"OFFSET(İN2!$C$14,0,ROW($AG10)-ROW($AG$3),1,1)","v":0}]
[{"$f":"IF(LİSTE!$A11=0,\"\",LİSTE!$A11)","v":""},{"$f":"IF(LİSTE!$B11=0,\"\",LİSTE!$B11)","v":""},{"$f":"OFFSET('TR1'!$C$44,0,ROW($C11)-ROW($C$3),1,1)","v":0},{"$f":"OFFSET('TR2'!$C$44,0,ROW($D11)-ROW($D$3),1,1)","v":0},{"$f":"OFFSET('TR3'!$C$15,0,ROW($E11)-ROW($E$3),1,1)","v":90},null,{"$f":"OFFSET('M1'!$C$19,0,ROW($G11)-ROW($G$3),1,1)","v":0},{"$f":"OFFSET('M2'!$C$20,0,ROW($H11)-ROW($H$3),1,1)","v":0},{"$f":"OFFSET('M3'!$C$15,0,ROW($I11)-ROW($I$3),1,1)","v":0},null,{"$f":"OFFSET('FB1'!$C$16,0,ROW($K11)-ROW($K$3),1,1)","v":0},{"$f":"OFFSET('FB2'!$C$14,0,ROW($L11)-ROW($L$3),1,1)","v":0},{"$f":"OFFSET('FB3'!$C$17,0,ROW($M11)-ROW($M$3),1,1)","v":0},null,{"$f":"OFFSET('SB1'!$C$14,0,ROW($O11)-ROW($O$3),1,1)","v":0},{"$f":"OFFSET('SB2'!$C$14,0,ROW($P11)-ROW($P$3),1,1)","v":0},{"$f":"OFFSET('SB3'!$C$20,0,ROW($Q11)-ROW($Q$3),1,1)","v":0},null,{"$f":"OFFSET('G1'!$C$13,0,ROW($S11)-ROW($S$3),1,1)","v":0},{"$f":"OFFSET('G2'!$C$15,0,ROW($T11)-ROW($T$3),1,1)","v":0},{"$f":"OFFSET('G3'!$C$12,0,ROW($U11)-ROW($U$3),1,1)","v":0},null,{"$f":"OFFSET('O1'!$C$16,0,ROW($W11)-ROW($W$3),1,1)","v":0},{"$f":"OFFSET('O2'!$C$13,0,ROW($W11)-ROW($W$3),1,1)","v":90.625},null,{"$f":"OFFSET('MZ1'!$C$11,0,ROW($Z11)-ROW($Z$3),1,1)","v":0},{"$f":"OFFSET('MZ2'!$C$15,0,ROW($AA11)-ROW($AA$3),1,1)","v":0},null,{"$f":"OFFSET('TRF1'!$C$14,0,ROW($AC11)-ROW($AC$3),1,1)","v":10},{"$f":"OFFSET('TRF2'!$C$14,0,ROW($AD11)-ROW($AD$3),1,1)","v":0},null,{"$f":"OFFSET(İN1!$C$21,0,ROW($AF11)-ROW($AF$3),1,1)","v":0},{"$f":"OFFSET(İN2!$C$14,0,ROW($AG11)-ROW($AG$3),1,1)","v":0}]
[{"$f":"IF(LİSTE!$A12=0,\"\",LİSTE!$A12)","v":""},{"$f":"IF(LİSTE!$B12=0,\"\",LİSTE!$B12)","v":""},{"$f":"OFFSET('TR1'!$C$44,0,ROW($C12)-ROW($C$3),1,1)","v":0},{"$f":"OFFSET('TR2'!$C$44,0,ROW($D12)-ROW($D$3),1,1)","v":0},{"$f":"OFFSET('TR3'!$C$15,0,ROW($E12)-ROW($E$3),1,1)","v":100},null,{"$f":"OFFSET('M1'!$C$19,0,ROW($G12)-ROW($G$3),1,1)","v":0},{"$f":"OFFSET('M2'!$C$20,0,ROW($H12)-ROW($H$3),1,1)","v":0},{"$f":"OFFSET('M3'!$C$15,0,ROW($I12)-ROW($I$3),1,1)","v":0},null,{"$f":"OFFSET('FB1'!$C$16,0,ROW($K12)-ROW($K$3),1,1)","v":0},{"$f":"OFFSET('FB2'!$C$14,0,ROW($L12)-ROW($L$3),1,1)","v":0},{"$f":"OFFSET('FB3'!$C$17,0,ROW($M12)-ROW($M$3),1,1)","v":0},null,{"$f":"OFFSET('SB1'!$C$14,0,ROW($O12)-ROW($O$3),1,1)","v":0},{"$f":"OFFSET('SB2'!$C$14,0,ROW($P12)-ROW($P$3),1,1)","v":0},{"$f":"OFFSET('SB3'!$C$20,0,ROW($Q12)-ROW($Q$3),1,1)","v":0},null,{"$f":"OFFSET('G1'!$C$13,0,ROW($S12)-ROW($S$3),1,1)","v":0},{"$f":"OFFSET('G2'!$C$15,0,ROW($T12)-ROW($T$3),1,1)","v":0},{"$f":"OFFSET('G3'!$C$12,0,ROW($U12)-ROW($U$3),1,1)","v":0},null,{"$f":"OFFSET('O1'!$C$16,0,ROW($W12)-ROW($W$3),1,1)","v":0},{"$f":"OFFSET('O2'!$C$13,0,ROW($W12)-ROW($W$3),1,1)","v":93.75},null,{"$f":"OFFSET('MZ1'!$C$11,0,ROW($Z12)-ROW($Z$3),1,1)","v":0},{"$f":"OFFSET('MZ2'!$C$15,0,ROW($AA12)-ROW($AA$3),1,1)","v":0},null,{"$f":"OFFSET('TRF1'!$C$14,0,ROW($AC12)-ROW($AC$3),1,1)","v":10},{"$f":"OFFSET('TRF2'!$C$14,0,ROW($AD12)-ROW($AD$3),1,1)","v":0},null,{"$f":"OFFSET(İN1!$C$21,0,ROW($AF12)-ROW($AF$3),1,1)","v":0},{"$f":"OFFSET(İN2!$C$14,0,ROW($AG12)-ROW($AG$3),1,1)","v":0}]
[{"$f":"IF(LİSTE!$A13=0,\"\",LİSTE!$A13)","v":""},{"$f":"IF(LİSTE!$B13=0,\"\",LİSTE!$B13)","v":""},{"$f":"OFFSET('TR1'!$C$44,0,ROW($C13)-ROW($C$3),1,1)","v":0},{"$f":"OFFSET('TR2'!$C$44,0,ROW($D13)-ROW($D$3),1,1)","v":0},{"$f":"OFFSET('TR3'!$C$15,0,ROW($E13)-ROW($E$3),1,1)","v":95},null,{"$f":"OFFSET('M1'!$C$19,0,ROW($G13)-ROW($G$3),1,1)","v":0},{"$f":"OFFSET('M2'!$C$20,0,ROW($H13)-ROW($H$3),1,1)","v":0},{"$f":"OFFSET('M3'!$C$15,0,ROW($I13)-ROW($I$3),1,1)","v":0},null,{"$f":"OFFSET('FB1'!$C$16,0,ROW($K13)-ROW($K$3),1,1)","v":0},{"$f":"OFFSET('FB2'!$C$14,0,ROW($L13)-ROW($L$3),1,1)","v":0},{"$f":"OFFSET('FB3'!$C$17,0,ROW($M13)-ROW($M$3),1,1)","v":0},null,{"$f":"OFFSET('SB1'!$C$14,0,ROW($O13)-ROW($O$3),1,1)","v":0},{"$f":"OFFSET('SB2'!$C$14,0,ROW($P13)-ROW($P$3),1,1)","v":0},{"$f":"OFFSET('SB3'!$C$20,0,ROW($Q13)-ROW($Q$3),1,1)","v":0},null,{"$f":"OFFSET('G1'!$C$13,0,ROW($S13)-ROW($S$3),1,1)","v":0},{"$f":"OFFSET('G2'!$C$15,0,ROW($T13)-ROW($T$3),1,1)","v":0},{"$f":"OFFSET('G3'!$C$12,0,ROW($U13)-ROW($U$3),1,1)","v":0},null,{"$f":"OFFSET('O1'!$C$16,0,ROW($W13)-ROW($W$3),1,1)","v":0},{"$f":"OFFSET('O2'!$C$13,0,ROW($W13)-ROW($W$3),1,1)","v":93.75},null,{"$f":"OFFSET('MZ1'!$C$11,0,ROW($Z13)-ROW($Z$3),1,1)","v":0},{"$f":"OFFSET('MZ2'!$C$15,0,ROW($AA13)-ROW($AA$3),1,1)","v":0},null,{"$f":"OFFSET('TRF1'!$C$14,0,ROW($AC13)-ROW($AC$3),1,1)","v":10},{"$f":"OFFSET('TRF2'!$C$14,0,ROW($AD13)-ROW($AD$3),1,1)","v":0},null,{"$f":"OFFSET(İN1!$C$21,0,ROW($AF13)-ROW($AF$3),1,1)","v":0},{"$f":"OFFSET(İN2!$C$14,0,ROW($AG13)-ROW($AG$3),1,1)","v":0}]
[{"$f":"IF(LİSTE!$A14=0,\"\",LİSTE!$A14)","v":""},{"$f":"IF(LİSTE!$B14=0,\"\",LİSTE!$B14)","v":""},{"$f":"OFFSET('TR1'!$C$44,0,ROW($C14)-ROW($C$3),1,1)","v":0},{"$f":"OFFSET('TR2'!$C$44,0,ROW($D14)-ROW($D$3),1,1)","v":0},{"$f":"OFFSET('TR3'!$C$15,0,ROW($E14)-ROW($E$3),1,1)","v":85},null,{"$f":"OFFSET('M1'!$C$19,0,ROW($G14)-ROW($G$3),1,1)","v":0},{"$f":"OFFSET('M2'!$C$20,0,ROW($H14)-ROW($H$3),1,1)","v":0},{"$f":"OFFSET('M3'!$C$15,0,ROW($I14)-ROW($I$3),1,1)","v":0},null,{"$f":"OFFSET('FB1'!$C$16,0,ROW($K14)-ROW($K$3),1,1)","v":0},{"$f":"OFFSET('FB2'!$C$14,0,ROW($L14)-ROW($L$3),1,1)","v":0},{"$f":"OFFSET('FB3'!$C$17,0,ROW($M14)-ROW($M$3),1,1)","v":0},null,{"$f":"OFFSET('SB1'!$C$14,0,ROW($O14)-ROW($O$3),1,1)","v":0},{"$f":"OFFSET('SB2'!$C$14,0,ROW($P14)-ROW($P$3),1,1)","v":0},{"$f":"OFFSET('SB3'!$C$20,0,ROW($Q14)-ROW($Q$3),1,1)","v":0},null,{"$f":"OFFSET('G1'!$C$13,0,ROW($S14)-ROW($S$3),1,1)","v":0},{"$f":"OFFSET('G2'!$C$15,0,ROW($T14)-ROW($T$3),1,1)","v":0},{"$f":"OFFSET('G3'!$C$12,0,ROW($U14)-ROW($U$3),1,1)","v":0},null,{"$f":"OFFSET('O1'!$C$16,0,ROW($W14)-ROW($W$3),1,1)","v":0},{"$f":"OFFSET('O2'!$C$13,0,ROW($W14)-ROW($W$3),1,1)","v":87.5},null,{"$f":"OFFSET('MZ1'!$C$11,0,ROW($Z14)-ROW($Z$3),1,1)","v":0},{"$f":"OFFSET('MZ2'!$C$15,0,ROW($AA14)-ROW($AA$3),1,1)","v":0},null,{"$f":"OFFSET('TRF1'!$C$14,0,ROW($AC14)-ROW($AC$3),1,1)","v":10},{"$f":"OFFSET('TRF2'!$C$14,0,ROW($AD14)-ROW($AD$3),1,1)","v":0},null,{"$f":"OFFSET(İN1!$C$21,0,ROW($AF14)-ROW($AF$3),1,1)","v":0},{"$f":"OFFSET(İN2!$C$14,0,ROW($AG14)-ROW($AG$3),1,1)","v":0}]
[{"$f":"IF(LİSTE!$A15=0,\"\",LİSTE!$A15)","v":""},{"$f":"IF(LİSTE!$B15=0,\"\",LİSTE!$B15)","v":""},{"$f":"OFFSET('TR1'!$C$44,0,ROW($C15)-ROW($C$3),1,1)","v":0},{"$f":"OFFSET('TR2'!$C$44,0,ROW($D15)-ROW($D$3),1,1)","v":0},{"$f":"OFFSET('TR3'!$C$15,0,ROW($E15)-ROW($E$3),1,1)","v":80},null,{"$f":"OFFSET('M1'!$C$19,0,ROW($G15)-ROW($G$3),1,1)","v":0},{"$f":"OFFSET('M2'!$C$20,0,ROW($H15)-ROW($H$3),1,1)","v":0},{"$f":"OFFSET('M3'!$C$15,0,ROW($I15)-ROW($I$3),1,1)","v":0},null,{"$f":"OFFSET('FB1'!$C$16,0,ROW($K15)-ROW($K$3),1,1)","v":0},{"$f":"OFFSET('FB2'!$C$14,0,ROW($L15)-ROW($L$3),1,1)","v":0},{"$f":"OFFSET('FB3'!$C$17,0,ROW($M15)-ROW($M$3),1,1)","v":0},null,{"$f":"OFFSET('SB1'!$C$14,0,ROW($O15)-ROW($O$3),1,1)","v":0},{"$f":"OFFSET('SB2'!$C$14,0,ROW($P15)-ROW($P$3),1,1)","v":0},{"$f":"OFFSET('SB3'!$C$20,0,ROW($Q15)-ROW($Q$3),1,1)","v":0},null,{"$f":"OFFSET('G1'!$C$13,0,ROW($S15)-ROW($S$3),1,1)","v":0},{"$f":"OFFSET('G2'!$C$15,0,ROW($T15)-ROW($T$3),1,1)","v":0},{"$f":"OFFSET('G3'!$C$12,0,ROW($U15)-ROW($U$3),1,1)","v":0},null,{"$f":"OFFSET('O1'!$C$16,0,ROW($W15)-ROW($W$3),1,1)","v":0},{"$f":"OFFSET('O2'!$C$13,0,ROW($W15)-ROW($W$3),1,1)","v":87.5},null,{"$f":"OFFSET('MZ1'!$C$11,0,ROW($Z15)-ROW($Z$3),1,1)","v":0},{"$f":"OFFSET('MZ2'!$C$15,0,ROW($AA15)-ROW($AA$3),1,1)","v":0},null,{"$f":"OFFSET('TRF1'!$C$14,0,ROW($AC15)-ROW($AC$3),1,1)","v":7.5},{"$f":"OFFSET('TRF2'!$C$14,0,ROW($AD15)-ROW($AD$3),1,1)","v":0},null,{"$f":"OFFSET(İN1!$C$21,0,ROW($AF15)-ROW($AF$3),1,1)","v":0},{"$f":"OFFSET(İN2!$C$14,0,ROW($AG15)-ROW($AG$3),1,1)","v":0}]
[{"$f":"IF(LİSTE!$A16=0,\"\",LİSTE!$A16)","v":""},{"$f":"IF(LİSTE!$B16=0,\"\",LİSTE!$B16)","v":""},{"$f":"OFFSET('TR1'!$C$44,0,ROW($C16)-ROW($C$3),1,1)","v":0},{"$f":"OFFSET('TR2'!$C$44,0,ROW($D16)-ROW($D$3),1,1)","v":0},{"$f":"OFFSET('TR3'!$C$15,0,ROW($E16)-ROW($E$3),1,1)","v":60},null,{"$f":"OFFSET('M1'!$C$19,0,ROW($G16)-ROW($G$3),1,1)","v":0},{"$f":"OFFSET('M2'!$C$20,0,ROW($H16)-ROW($H$3),1,1)","v":0},{"$f":"OFFSET('M3'!$C$15,0,ROW($I16)-ROW($I$3),1,1)","v":0},null,{"$f":"OFFSET('FB1'!$C$16,0,ROW($K16)-ROW($K$3),1,1)","v":0},{"$f":"OFFSET('FB2'!$C$14,0,ROW($L16)-ROW($L$3),1,1)","v":0},{"$f":"OFFSET('FB3'!$C$17,0,ROW($M16)-ROW($M$3),1,1)","v":0},null,{"$f":"OFFSET('SB1'!$C$14,0,ROW($O16)-ROW($O$3),1,1)","v":0},{"$f":"OFFSET('SB2'!$C$14,0,ROW($P16)-ROW($P$3),1,1)","v":0},{"$f":"OFFSET('SB3'!$C$20,0,ROW($Q16)-ROW($Q$3),1,1)","v":0},null,{"$f":"OFFSET('G1'!$C$13,0,ROW($S16)-ROW($S$3),1,1)","v":0},{"$f":"OFFSET('G2'!$C$15,0,ROW($T16)-ROW($T$3),1,1)","v":0},{"$f":"OFFSET('G3'!$C$12,0,ROW($U16)-ROW($U$3),1,1)","v":0},null,{"$f":"OFFSET('O1'!$C$16,0,ROW($W16)-ROW($W$3),1,1)","v":0},{"$f":"OFFSET('O2'!$C$13,0,ROW($W16)-ROW($W$3),1,1)","v":87.5},null,{"$f":"OFFSET('MZ1'!$C$11,0,ROW($Z16)-ROW($Z$3),1,1)","v":0},{"$f":"OFFSET('MZ2'!$C$15,0,ROW($AA16)-ROW($AA$3),1,1)","v":0},null,{"$f":"OFFSET('TRF1'!$C$14,0,ROW($AC16)-ROW($AC$3),1,1)","v":7.5},{"$f":"OFFSET('TRF2'!$C$14,0,ROW($AD16)-ROW($AD$3),1,1)","v":0},null,{"$f":"OFFSET(İN1!$C$21,0,ROW($AF16)-ROW($AF$3),1,1)","v":0},{"$f":"OFFSET(İN2!$C$14,0,ROW($AG16)-ROW($AG$3),1,1)","v":0}]
[{"$f":"IF(LİSTE!$A17=0,\"\",LİSTE!$A17)","v":""},{"$f":"IF(LİSTE!$B17=0,\"\",LİSTE!$B17)","v":""},{"$f":"OFFSET('TR1'!$C$44,0,ROW($C17)-ROW($C$3),1,1)","v":0},{"$f":"OFFSET('TR2'!$C$44,0,ROW($D17)-ROW($D$3),1,1)","v":0},{"$f":"OFFSET('TR3'!$C$15,0,ROW($E17)-ROW($E$3),1,1)","v":90},null,{"$f":"OFFSET('M1'!$C$19,0,ROW($G17)-ROW($G$3),1,1)","v":0},{"$f":"OFFSET('M2'!$C$20,0,ROW($H17)-ROW($H$3),1,1)","v":0},{"$f":"OFFSET('M3'!$C$15,0,ROW($I17)-ROW($I$3),1,1)","v":0},null,{"$f":"OFFSET('FB1'!$C$16,0,ROW($K17)-ROW($K$3),1,1)","v":0},{"$f":"OFFSET('FB2'!$C$14,0,ROW($L17)-ROW($L$3),1,1)","v":0},{"$f":"OFFSET('FB3'!$C$17,0,ROW($M17)-ROW($M$3),1,1)","v":0},null,{"$f":"OFFSET('SB1'!$C$14,0,ROW($O17)-ROW($O$3),1,1)","v":0},{"$f":"OFFSET('SB2'!$C$14,0,ROW($P17)-ROW($P$3),1,1)","v":0},{"$f":"OFFSET('SB3'!$C$20,0,ROW($Q17)-ROW($Q$3),1,1)","v":0},null,{"$f":"OFFSET('G1'!$C$13,0,ROW($S17)-ROW($S$3),1,1)","v":0},{"$f":"OFFSET('G2'!$C$15,0,ROW($T17)-ROW($T$3),1,1)","v":0},{"$f":"OFFSET('G3'!$C$12,0,ROW($U17)-ROW($U$3),1,1)","v":0},null,{"$f":"OFFSET('O1'!$C$16,0,ROW($W17)-ROW($W$3),1,1)","v":0},{"$f":"OFFSET('O2'!$C$13,0,ROW($W17)-ROW($W$3),1,1)","v":93.75},null,{"$f":"OFFSET('MZ1'!$C$11,0,ROW($Z17)-ROW($Z$3),1,1)","v":0},{"$f":"OFFSET('MZ2'!$C$15,0,ROW($AA17)-ROW($AA$3),1,1)","v":0},null,{"$f":"OFFSET('TRF1'!$C$14,0,ROW($AC17)-ROW($AC$3),1,1)","v":0},{"$f":"OFFSET('TRF2'!$C$14,0,ROW($AD17)-ROW($AD$3),1,1)","v":0},null,{"$f":"OFFSET(İN1!$C$21,0,ROW($AF17)-ROW($AF$3),1,1)","v":0},{"$f":"OFFSET(İN2!$C$14,0,ROW($AG17)-ROW($AG$3),1,1)","v":0}]
[{"$f":"IF(LİSTE!$A18=0,\"\",LİSTE!$A18)","v":""},{"$f":"IF(LİSTE!$B18=0,\"\",LİSTE!$B18)","v":""},{"$f":"OFFSET('TR1'!$C$44,0,ROW($C18)-ROW($C$3),1,1)","v":0},{"$f":"OFFSET('TR2'!$C$44,0,ROW($D18)-ROW($D$3),1,1)","v":0},{"$f":"OFFSET('TR3'!$C$15,0,ROW($E18)-ROW($E$3),1,1)","v":0},null,{"$f":"OFFSET('M1'!$C$19,0,ROW($G18)-ROW($G$3),1,1)","v":0},{"$f":"OFFSET('M2'!$C$20,0,ROW($H18)-ROW($H$3),1,1)","v":0},{"$f":"OFFSET('M3'!$C$15,0,ROW($I18)-ROW($I$3),1,1)","v":0},null,{"$f":"OFFSET('FB1'!$C$16,0,ROW($K18)-ROW($K$3),1,1)","v":0},{"$f":"OFFSET('FB2'!$C$14,0,ROW($L18)-ROW($L$3),1,1)","v":0},{"$f":"OFFSET('FB3'!$C$17,0,ROW($M18)-ROW($M$3),1,1)","v":0},null,{"$f":"OFFSET('SB1'!$C$14,0,ROW($O18)-ROW($O$3),1,1)","v":0},{"$f":"OFFSET('SB2'!$C$14,0,ROW($P18)-ROW($P$3),1,1)","v":0},{"$f":"OFFSET('SB3'!$C$20,0,ROW($Q18)-ROW($Q$3),1,1)","v":0},null,{"$f":"OFFSET('G1'!$C$13,0,ROW($S18)-ROW($S$3),1,1)","v":0},{"$f":"OFFSET('G2'!$C$15,0,ROW($T18)-ROW($T$3),1,1)","v":0},{"$f":"OFFSET('G3'!$C$12,0,ROW($U18)-ROW($U$3),1,1)","v":0},null,{"$f":"OFFSET('O1'!$C$16,0,ROW($W18)-ROW($W$3),1,1)","v":0},{"$f":"OFFSET('O2'!$C$13,0,ROW($W18)-ROW($W$3),1,1)","v":87.5},null,{"$f":"OFFSET('MZ1'!$C$11,0,ROW($Z18)-ROW($Z$3),1,1)","v":0},{"$f":"OFFSET('MZ2'!$C$15,0,ROW($AA18)-ROW($AA$3),1,1)","v":0},null,{"$f":"OFFSET('TRF1'!$C$14,0,ROW($AC18)-ROW($AC$3),1,1)","v":0},{"$f":"OFFSET('TRF2'!$C$14,0,ROW($AD18)-ROW($AD$3),1,1)","v":0},null,{"$f":"OFFSET(İN1!$C$21,0,ROW($AF18)-ROW($AF$3),1,1)","v":0},{"$f":"OFFSET(İN2!$C$14,0,ROW($AG18)-ROW($AG$3),1,1)","v":0}]
[{"$f":"IF(LİSTE!$A19=0,\"\",LİSTE!$A19)","v":""},{"$f":"IF(LİSTE!$B19=0,\"\",LİSTE!$B19)","v":""},{"$f":"OFFSET('TR1'!$C$44,0,ROW($C19)-ROW($C$3),1,1)","v":0},{"$f":"OFFSET('TR2'!$C$44,0,ROW($D19)-ROW($D$3),1,1)","v":0},{"$f":"OFFSET('TR3'!$C$15,0,ROW($E19)-ROW($E$3),1,1)","v":0},null,{"$f":"OFFSET('M1'!$C$19,0,ROW($G19)-ROW($G$3),1,1)","v":0},{"$f":"OFFSET('M2'!$C$20,0,ROW($H19)-ROW($H$3),1,1)","v":0},{"$f":"OFFSET('M3'!$C$15,0,ROW($I19)-ROW($I$3),1,1)","v":0},null,{"$f":"OFFSET('FB1'!$C$16,0,ROW($K19)-ROW($K$3),1,1)","v":0},{"$f":"OFFSET('FB2'!$C$14,0,ROW($L19)-ROW($L$3),1,1)","v":0},{"$f":"OFFSET('FB3'!$C$17,0,ROW($M19)-ROW($M$3),1,1)","v":0},null,{"$f":"OFFSET('SB1'!$C$14,0,ROW($O19)-ROW($O$3),1,1)","v":0},{"$f":"OFFSET('SB2'!$C$14,0,ROW($P19)-ROW($P$3),1,1)","v":0},{"$f":"OFFSET('SB3'!$C$20,0,ROW($Q19)-ROW($Q$3),1,1)","v":0},null,{"$f":"OFFSET('G1'!$C$13,0,ROW($S19)-ROW($S$3),1,1)","v":0},{"$f":"OFFSET('G2'!$C$15,0,ROW($T19)-ROW($T$3),1,1)","v":0},{"$f":"OFFSET('G3'!$C$12,0,ROW($U19)-ROW($U$3),1,1)","v":0},null,{"$f":"OFFSET('O1'!$C$16,0,ROW($W19)-ROW($W$3),1,1)","v":0},{"$f":"OFFSET('O2'!$C$13,0,ROW($W19)-ROW($W$3),1,1)","v":0},null,{"$f":"OFFSET('MZ1'!$C$11,0,ROW($Z19)-ROW($Z$3),1,1)","v":0},{"$f":"OFFSET('MZ2'!$C$15,0,ROW($AA19)-ROW($AA$3),1,1)","v":0},null,{"$f":"OFFSET('TRF1'!$C$14,0,ROW($AC19)-ROW($AC$3),1,1)","v":0},{"$f":"OFFSET('TRF2'!$C$14,0,ROW($AD19)-ROW($AD$3),1,1)","v":0},null,{"$f":"OFFSET(İN1!$C$21,0,ROW($AF19)-ROW($AF$3),1,1)","v":0},{"$f":"OFFSET(İN2!$C$14,0,ROW($AG19)-ROW($AG$3),1,1)","v":0}]
[{"$f":"IF(LİSTE!$A20=0,\"\",LİSTE!$A20)","v":""},{"$f":"IF(LİSTE!$B20=0,\"\",LİSTE!$B20)","v":""},{"$f":"OFFSET('TR1'!$C$44,0,ROW($C20)-ROW($C$3),1,1)","v":0},{"$f":"OFFSET('TR2'!$C$44,0,ROW($D20)-ROW($D$3),1,1)","v":0},{"$f":"OFFSET('TR3'!$C$15,0,ROW($E20)-ROW($E$3),1,1)","v":0},null,{"$f":"OFFSET('M1'!$C$19,0,ROW($G20)-ROW($G$3),1,1)","v":0},{"$f":"OFFSET('M2'!$C$20,0,ROW($H20)-ROW($H$3),1,1)","v":0},{"$f":"OFFSET('M3'!$C$15,0,ROW($I20)-ROW($I$3),1,1)","v":0},null,{"$f":"OFFSET('FB1'!$C$16,0,ROW($K20)-ROW($K$3),1,1)","v":0},{"$f":"OFFSET('FB2'!$C$14,0,ROW($L20)-ROW($L$3),1,1)","v":0},{"$f":"OFFSET('FB3'!$C$17,0,ROW($M20)-ROW($M$3),1,1)","v":0},null,{"$f":"OFFSET('SB1'!$C$14,0,ROW($O20)-ROW($O$3),1,1)","v":0},{"$f":"OFFSET('SB2'!$C$14,0,ROW($P20)-ROW($P$3),1,1)","v":0},{"$f":"OFFSET('SB3'!$C$20,0,ROW($Q20)-ROW($Q$3),1,1)","v":0},null,{"$f":"OFFSET('G1'!$C$13,0,ROW($S20)-ROW($S$3),1,1)","v":0},{"$f":"OFFSET('G2'!$C$15,0,ROW($T20)-ROW($T$3),1,1)","v":0},{"$f":"OFFSET('G3'!$C$12,0,ROW($U20)-ROW($U$3),1,1)","v":0},null,{"$f":"OFFSET('O1'!$C$16,0,ROW($W20)-ROW($W$3),1,1)","v":0},{"$f":"OFFSET('O2'!$C$13,0,ROW($W20)-ROW($W$3),1,1)","v":0},null,{"$f":"OFFSET('MZ1'!$C$11,0,ROW($Z20)-ROW($Z$3),1,1)","v":0},{"$f":"OFFSET('MZ2'!$C$15,0,ROW($AA20)-ROW($AA$3),1,1)","v":0},null,{"$f":"OFFSET('TRF1'!$C$14,0,ROW($AC20)-ROW($AC$3),1,1)","v":0},{"$f":"OFFSET('TRF2'!$C$14,0,ROW($AD20)-ROW($AD$3),1,1)","v":0},null,{"$f":"OFFSET(İN1!$C$21,0,ROW($AF20)-ROW($AF$3),1,1)","v":0},{"$f":"OFFSET(İN2!$C$14,0,ROW($AG20)-ROW($AG$3),1,1)","v":0}]
[{"$f":"IF(LİSTE!$A21=0,\"\",LİSTE!$A21)","v":""},{"$f":"IF(LİSTE!$B21=0,\"\",LİSTE!$B21)","v":""},{"$f":"OFFSET('TR1'!$C$44,0,ROW($C21)-ROW($C$3),1,1)","v":0},{"$f":"OFFSET('TR2'!$C$44,0,ROW($D21)-ROW($D$3),1,1)","v":0},{"$f":"OFFSET('TR3'!$C$15,0,ROW($E21)-ROW($E$3),1,1)","v":0},null,{"$f":"OFFSET('M1'!$C$19,0,ROW($G21)-ROW($G$3),1,1)","v":0},{"$f":"OFFSET('M2'!$C$20,0,ROW($H21)-ROW($H$3),1,1)","v":0},{"$f":"OFFSET('M3'!$C$15,0,ROW($I21)-ROW($I$3),1,1)","v":0},null,{"$f":"OFFSET('FB1'!$C$16,0,ROW($K21)-ROW($K$3),1,1)","v":0},{"$f":"OFFSET('FB2'!$C$14,0,ROW($L21)-ROW($L$3),1,1)","v":0},{"$f":"OFFSET('FB3'!$C$17,0,ROW($M21)-ROW($M$3),1,1)","v":0},null,{"$f":"OFFSET('SB1'!$C$14,0,ROW($O21)-ROW($O$3),1,1)","v":0},{"$f":"OFFSET('SB2'!$C$14,0,ROW($P21)-ROW($P$3),1,1)","v":0},{"$f":"OFFSET('SB3'!$C$20,0,ROW($Q21)-ROW($Q$3),1,1)","v":0},null,{"$f":"OFFSET('G1'!$C$13,0,ROW($S21)-ROW($S$3),1,1)","v":0},{"$f":"OFFSET('G2'!$C$15,0,ROW($T21)-ROW($T$3),1,1)","v":0},{"$f":"OFFSET('G3'!$C$12,0,ROW($U21)-ROW($U$3),1,1)","v":0},null,{"$f":"OFFSET('O1'!$C$16,0,ROW($W21)-ROW($W$3),1,1)","v":0},{"$f":"OFFSET('O2'!$C$13,0,ROW($W21)-ROW($W$3),1,1)","v":0},null,{"$f":"OFFSET('MZ1'!$C$11,0,ROW($Z21)-ROW($Z$3),1,1)","v":0},{"$f":"OFFSET('MZ2'!$C$15,0,ROW($AA21)-ROW($AA$3),1,1)","v":0},null,{"$f":"OFFSET('TRF1'!$C$14,0,ROW($AC21)-ROW($AC$3),1,1)","v":0},{"$f":"OFFSET('TRF2'!$C$14,0,ROW($AD21)-ROW($AD$3),1,1)","v":0},null,{"$f":"OFFSET(İN1!$C$21,0,ROW($AF21)-ROW($AF$3),1,1)","v":0},{"$f":"OFFSET(İN2!$C$14,0,ROW($AG21)-ROW($AG$3),1,1)","v":0}]
[{"$f":"IF(LİSTE!$A22=0,\"\",LİSTE!$A22)","v":""},{"$f":"IF(LİSTE!$B22=0,\"\",LİSTE!$B22)","v":""},{"$f":"OFFSET('TR1'!$C$44,0,ROW($C22)-ROW($C$3),1,1)","v":0},{"$f":"OFFSET('TR2'!$C$44,0,ROW($D22)-ROW($D$3),1,1)","v":0},{"$f":"OFFSET('TR3'!$C$15,0,ROW($E22)-ROW($E$3),1,1)","v":0},null,{"$f":"OFFSET('M1'!$C$19,0,ROW($G22)-ROW($G$3),1,1)","v":0},{"$f":"OFFSET('M2'!$C$20,0,ROW($H22)-ROW($H$3),1,1)","v":0},{"$f":"OFFSET('M3'!$C$15,0,ROW($I22)-ROW($I$3),1,1)","v":0},null,{"$f":"OFFSET('FB1'!$C$16,0,ROW($K22)-ROW($K$3),1,1)","v":0},{"$f":"OFFSET('FB2'!$C$14,0,ROW($L22)-ROW($L$3),1,1)","v":0},{"$f":"OFFSET('FB3'!$C$17,0,ROW($M22)-ROW($M$3),1,1)","v":0},null,{"$f":"OFFSET('SB1'!$C$14,0,ROW($O22)-ROW($O$3),1,1)","v":0},{"$f":"OFFSET('SB2'!$C$14,0,ROW($P22)-ROW($P$3),1,1)","v":0},{"$f":"OFFSET('SB3'!$C$20,0,ROW($Q22)-ROW($Q$3),1,1)","v":0},null,{"$f":"OFFSET('G1'!$C$13,0,ROW($S22)-ROW($S$3),1,1)","v":0},{"$f":"OFFSET('G2'!$C$15,0,ROW($T22)-ROW($T$3),1,1)","v":0},{"$f":"OFFSET('G3'!$C$12,0,ROW($U22)-ROW($U$3),1,1)","v":0},null,{"$f":"OFFSET('O1'!$C$16,0,ROW($W22)-ROW($W$3),1,1)","v":0},{"$f":"OFFSET('O2'!$C$13,0,ROW($W22)-ROW($W$3),1,1)","v":0},null,{"$f":"OFFSET('MZ1'!$C$11,0,ROW($Z22)-ROW($Z$3),1,1)","v":0},{"$f":"OFFSET('MZ2'!$C$15,0,ROW($AA22)-ROW($AA$3),1,1)","v":0},null,{"$f":"OFFSET('TRF1'!$C$14,0,ROW($AC22)-ROW($AC$3),1,1)","v":0},{"$f":"OFFSET('TRF2'!$C$14,0,ROW($AD22)-ROW($AD$3),1,1)","v":0},null,{"$f":"OFFSET(İN1!$C$21,0,ROW($AF22)-ROW($AF$3),1,1)","v":0},{"$f":"OFFSET(İN2!$C$14,0,ROW($AG22)-ROW($AG$3),1,1)","v":0}]
[{"$f":"IF(LİSTE!$A23=0,\"\",LİSTE!$A23)","v":""},{"$f":"IF(LİSTE!$B23=0,\"\",LİSTE!$B23)","v":""},{"$f":"OFFSET('TR1'!$C$44,0,ROW($C23)-ROW($C$3),1,1)","v":0},{"$f":"OFFSET('TR2'!$C$44,0,ROW($D23)-ROW($D$3),1,1)","v":0},{"$f":"OFFSET('TR3'!$C$15,0,ROW($E23)-ROW($E$3),1,1)","v":0},null,{"$f":"OFFSET('M1'!$C$19,0,ROW($G23)-ROW($G$3),1,1)","v":0},{"$f":"OFFSET('M2'!$C$20,0,ROW($H23)-ROW($H$3),1,1)","v":0},{"$f":"OFFSET('M3'!$C$15,0,ROW($I23)-ROW($I$3),1,1)","v":0},null,{"$f":"OFFSET('FB1'!$C$16,0,ROW($K23)-ROW($K$3),1,1)","v":0},{"$f":"OFFSET('FB2'!$C$14,0,ROW($L23)-ROW($L$3),1,1)","v":0},{"$f":"OFFSET('FB3'!$C$17,0,ROW($M23)-ROW($M$3),1,1)","v":0},null,{"$f":"OFFSET('SB1'!$C$14,0,ROW($O23)-ROW($O$3),1,1)","v":0},{"$f":"OFFSET('SB2'!$C$14,0,ROW($P23)-ROW($P$3),1,1)","v":0},{"$f":"OFFSET('SB3'!$C$20,0,ROW($Q23)-ROW($Q$3),1,1)","v":0},null,{"$f":"OFFSET('G1'!$C$13,0,ROW($S23)-ROW($S$3),1,1)","v":0},{"$f":"OFFSET('G2'!$C$15,0,ROW($T23)-ROW($T$3),1,1)","v":0},{"$f":"OFFSET('G3'!$C$12,0,ROW($U23)-ROW($U$3),1,1)","v":0},null,{"$f":"OFFSET('O1'!$C$16,0,ROW($W23)-ROW($W$3),1,1)","v":0},{"$f":"OFFSET('O2'!$C$13,0,ROW($W23)-ROW($W$3),1,1)","v":0},null,{"$f":"OFFSET('MZ1'!$C$11,0,ROW($Z23)-ROW($Z$3),1,1)","v":0},{"$f":"OFFSET('MZ2'!$C$15,0,ROW($AA23)-ROW($AA$3),1,1)","v":0},null,{"$f":"OFFSET('TRF1'!$C$14,0,ROW($AC23)-ROW($AC$3),1,1)","v":0},{"$f":"OFFSET('TRF2'!$C$14,0,ROW($AD23)-ROW($AD$3),1,1)","v":0},null,{"$f":"OFFSET(İN1!$C$21,0,ROW($AF23)-ROW($AF$3),1,1)","v":0},{"$f":"OFFSET(İN2!$C$14,0,ROW($AG23)-ROW($AG$3),1,1)","v":0}]
[{"$f":"IF(LİSTE!$A24=0,\"\",LİSTE!$A24)","v":""},{"$f":"IF(LİSTE!$B24=0,\"\",LİSTE!$B24)","v":""},{"$f":"OFFSET('TR1'!$C$44,0,ROW($C24)-ROW($C$3),1,1)","v":0},{"$f":"OFFSET('TR2'!$C$44,0,ROW($D24)-ROW($D$3),1,1)","v":0},{"$f":"OFFSET('TR3'!$C$15,0,ROW($E24)-ROW($E$3),1,1)","v":0},null,{"$f":"OFFSET('M1'!$C$19,0,ROW($G24)-ROW($G$3),1,1)","v":0},{"$f":"OFFSET('M2'!$C$20,0,ROW($H24)-ROW($H$3),1,1)","v":0},{"$f":"OFFSET('M3'!$C$15,0,ROW($I24)-ROW($I$3),1,1)","v":0},null,{"$f":"OFFSET('FB1'!$C$16,0,ROW($K24)-ROW($K$3),1,1)","v":0},{"$f":"OFFSET('FB2'!$C$14,0,ROW($L24)-ROW($L$3),1,1)","v":0},{"$f":"OFFSET('FB3'!$C$17,0,ROW($M24)-ROW($M$3),1,1)","v":0},null,{"$f":"OFFSET('SB1'!$C$14,0,ROW($O24)-ROW($O$3),1,1)","v":0},{"$f":"OFFSET('SB2'!$C$14,0,ROW($P24)-ROW($P$3),1,1)","v":0},{"$f":"OFFSET('SB3'!$C$20,0,ROW($Q24)-ROW($Q$3),1,1)","v":0},null,{"$f":"OFFSET('G1'!$C$13,0,ROW($S24)-ROW($S$3),1,1)","v":0},{"$f":"OFFSET('G2'!$C$15,0,ROW($T24)-ROW($T$3),1,1)","v":0},{"$f":"OFFSET('G3'!$C$12,0,ROW($U24)-ROW($U$3),1,1)","v":0},null,{"$f":"OFFSET('O1'!$C$16,0,ROW($W24)-ROW($W$3),1,1)","v":0},{"$f":"OFFSET('O2'!$C$13,0,ROW($W24)-ROW($W$3),1,1)","v":0},null,{"$f":"OFFSET('MZ1'!$C$11,0,ROW($Z24)-ROW($Z$3),1,1)","v":0},{"$f":"OFFSET('MZ2'!$C$15,0,ROW($AA24)-ROW($AA$3),1,1)","v":0},null,{"$f":"OFFSET('TRF1'!$C$14,0,ROW($AC24)-ROW($AC$3),1,1)","v":0},{"$f":"OFFSET('TRF2'!$C$14,0,ROW($AD24)-ROW($AD$3),1,1)","v":0},null,{"$f":"OFFSET(İN1!$C$21,0,ROW($AF24)-ROW($AF$3),1,1)","v":0},{"$f":"OFFSET(İN2!$C$14,0,ROW($AG24)-ROW($AG$3),1,1)","v":0}]
[{"$f":"IF(LİSTE!$A25=0,\"\",LİSTE!$A25)","v":""},{"$f":"IF(LİSTE!$B25=0,\"\",LİSTE!$B25)","v":""},{"$f":"OFFSET('TR1'!$C$44,0,ROW($C25)-ROW($C$3),1,1)","v":0},{"$f":"OFFSET('TR2'!$C$44,0,ROW($D25)-ROW($D$3),1,1)","v":0},{"$f":"OFFSET('TR3'!$C$15,0,ROW($E25)-ROW($E$3),1,1)","v":0},null,{"$f":"OFFSET('M1'!$C$19,0,ROW($G25)-ROW($G$3),1,1)","v":0},{"$f":"OFFSET('M2'!$C$20,0,ROW($H25)-ROW($H$3),1,1)","v":0},{"$f":"OFFSET('M3'!$C$15,0,ROW($I25)-ROW($I$3),1,1)","v":0},null,{"$f":"OFFSET('FB1'!$C$16,0,ROW($K25)-ROW($K$3),1,1)","v":0},{"$f":"OFFSET('FB2'!$C$14,0,ROW($L25)-ROW($L$3),1,1)","v":0},{"$f":"OFFSET('FB3'!$C$17,0,ROW($M25)-ROW($M$3),1,1)","v":0},null,{"$f":"OFFSET('SB1'!$C$14,0,ROW($O25)-ROW($O$3),1,1)","v":0},{"$f":"OFFSET('SB2'!$C$14,0,ROW($P25)-ROW($P$3),1,1)","v":0},{"$f":"OFFSET('SB3'!$C$20,0,ROW($Q25)-ROW($Q$3),1,1)","v":0},null,{"$f":"OFFSET('G1'!$C$13,0,ROW($S25)-ROW($S$3),1,1)","v":0},{"$f":"OFFSET('G2'!$C$15,0,ROW($T25)-ROW($T$3),1,1)","v":0},{"$f":"OFFSET('G3'!$C$12,0,ROW($U25)-ROW($U$3),1,1)","v":0},null,{"$f":"OFFSET('O1'!$C$16,0,ROW($W25)-ROW($W$3),1,1)","v":0},{"$f":"OFFSET('O2'!$C$13,0,ROW($W25)-ROW($W$3),1,1)","v":0},null,{"$f":"OFFSET('MZ1'!$C$11,0,ROW($Z25)-ROW($Z$3),1,1)","v":0},{"$f":"OFFSET('MZ2'!$C$15,0,ROW($AA25)-ROW($AA$3),1,1)","v":0},null,{"$f":"OFFSET('TRF1'!$C$14,0,ROW($AC25)-ROW($AC$3),1,1)","v":0},{"$f":"OFFSET('TRF2'!$C$14,0,ROW($AD25)-ROW($AD$3),1,1)","v":0},null,{"$f":"OFFSET(İN1!$C$21,0,ROW($AF25)-ROW($AF$3),1,1)","v":0},{"$f":"OFFSET(İN2!$C$14,0,ROW($AG25)-ROW($AG$3),1,1)","v":0}]
[{"$f":"IF(LİSTE!$A26=0,\"\",LİSTE!$A26)","v":""},{"$f":"IF(LİSTE!$B26=0,\"\",LİSTE!$B26)","v":""},{"$f":"OFFSET('TR1'!$C$44,0,ROW($C26)-ROW($C$3),1,1)","v":0},{"$f":"OFFSET('TR2'!$C$44,0,ROW($D26)-ROW($D$3),1,1)","v":0},{"$f":"OFFSET('TR3'!$C$15,0,ROW($E26)-ROW($E$3),1,1)","v":0},null,{"$f":"OFFSET('M1'!$C$19,0,ROW($G26)-ROW($G$3),1,1)","v":0},{"$f":"OFFSET('M2'!$C$20,0,ROW($H26)-ROW($H$3),1,1)","v":0},{"$f":"OFFSET('M3'!$C$15,0,ROW($I26)-ROW($I$3),1,1)","v":0},null,{"$f":"OFFSET('FB1'!$C$16,0,ROW($K26)-ROW($K$3),1,1)","v":0},{"$f":"OFFSET('FB2'!$C$14,0,ROW($L26)-ROW($L$3),1,1)","v":0},{"$f":"OFFSET('FB3'!$C$17,0,ROW($M26)-ROW($M$3),1,1)","v":0},null,{"$f":"OFFSET('SB1'!$C$14,0,ROW($O26)-ROW($O$3),1,1)","v":0},{"$f":"OFFSET('SB2'!$C$14,0,ROW($P26)-ROW($P$3),1,1)","v":0},{"$f":"OFFSET('SB3'!$C$20,0,ROW($Q26)-ROW($Q$3),1,1)","v":0},null,{"$f":"OFFSET('G1'!$C$13,0,ROW($S26)-ROW($S$3),1,1)","v":0},{"$f":"OFFSET('G2'!$C$15,0,ROW($T26)-ROW($T$3),1,1)","v":0},{"$f":"OFFSET('G3'!$C$12,0,ROW($U26)-ROW($U$3),1,1)","v":0},null,{"$f":"OFFSET('O1'!$C$16,0,ROW($W26)-ROW($W$3),1,1)","v":0},{"$f":"OFFSET('O2'!$C$13,0,ROW($W26)-ROW($W$3),1,1)","v":0},null,{"$f":"OFFSET('MZ1'!$C$11,0,ROW($Z26)-ROW($Z$3),1,1)","v":0},{"$f":"OFFSET('MZ2'!$C$15,0,ROW($AA26)-ROW($AA$3),1,1)","v":0},null,{"$f":"OFFSET('TRF1'!$C$14,0,ROW($AC26)-ROW($AC$3),1,1)","v":0},{"$f":"OFFSET('TRF2'!$C$14,0,ROW($AD26)-ROW($AD$3),1,1)","v":0},null,{"$f":"OFFSET(İN1!$C$21,0,ROW($AF26)-ROW($AF$3),1,1)","v":0},{"$f":"OFFSET(İN2!$C$14,0,ROW($AG26)-ROW($AG$3),1,1)","v":0}]
[{"$f":"IF(LİSTE!$A27=0,\"\",LİSTE!$A27)","v":""},{"$f":"IF(LİSTE!$B27=0,\"\",LİSTE!$B27)","v":""},{"$f":"OFFSET('TR1'!$C$44,0,ROW($C27)-ROW($C$3),1,1)","v":0},{"$f":"OFFSET('TR2'!$C$44,0,ROW($D27)-ROW($D$3),1,1)","v":0},{"$f":"OFFSET('TR3'!$C$15,0,ROW($E27)-ROW($E$3),1,1)","v":0},null,{"$f":"OFFSET('M1'!$C$19,0,ROW($G27)-ROW($G$3),1,1)","v":0},{"$f":"OFFSET('M2'!$C$20,0,ROW($H27)-ROW($H$3),1,1)","v":0},{"$f":"OFFSET('M3'!$C$15,0,ROW($I27)-ROW($I$3),1,1)","v":0},null,{"$f":"OFFSET('FB1'!$C$16,0,ROW($K27)-ROW($K$3),1,1)","v":0},{"$f":"OFFSET('FB2'!$C$14,0,ROW($L27)-ROW($L$3),1,1)","v":0},{"$f":"OFFSET('FB3'!$C$17,0,ROW($M27)-ROW($M$3),1,1)","v":0},null,{"$f":"OFFSET('SB1'!$C$14,0,ROW($O27)-ROW($O$3),1,1)","v":0},{"$f":"OFFSET('SB2'!$C$14,0,ROW($P27)-ROW($P$3),1,1)","v":0},{"$f":"OFFSET('SB3'!$C$20,0,ROW($Q27)-ROW($Q$3),1,1)","v":0},null,{"$f":"OFFSET('G1'!$C$13,0,ROW($S27)-ROW($S$3),1,1)","v":0},{"$f":"OFFSET('G2'!$C$15,0,ROW($T27)-ROW($T$3),1,1)","v":0},{"$f":"OFFSET('G3'!$C$12,0,ROW($U27)-ROW($U$3),1,1)","v":0},null,{"$f":"OFFSET('O1'!$C$16,0,ROW($W27)-ROW($W$3),1,1)","v":0},{"$f":"OFFSET('O2'!$C$13,0,ROW($W27)-ROW($W$3),1,1)","v":0},null,{"$f":"OFFSET('MZ1'!$C$11,0,ROW($Z27)-ROW($Z$3),1,1)","v":0},{"$f":"OFFSET('MZ2'!$C$15,0,ROW($AA27)-ROW($AA$3),1,1)","v":0},null,{"$f":"OFFSET('TRF1'!$C$14,0,ROW($AC27)-ROW($AC$3),1,1)","v":0},{"$f":"OFFSET('TRF2'!$C$14,0,ROW($AD27)-ROW($AD$3),1,1)","v":0},null,{"$f":"OFFSET(İN1!$C$21,0,ROW($AF27)-ROW($AF$3),1,1)","v":0},{"$f":"OFFSET(İN2!$C$14,0,ROW($AG27)-ROW($AG$3),1,1)","v":0}]
[{"$f":"IF(LİSTE!$A28=0,\"\",LİSTE!$A28)","v":""},{"$f":"IF(LİSTE!$B28=0,\"\",LİSTE!$B28)","v":""},{"$f":"OFFSET('TR1'!$C$44,0,ROW($C28)-ROW($C$3),1,1)","v":0},{"$f":"OFFSET('TR2'!$C$44,0,ROW($D28)-ROW($D$3),1,1)","v":0},{"$f":"OFFSET('TR3'!$C$15,0,ROW($E28)-ROW($E$3),1,1)","v":0},null,{"$f":"OFFSET('M1'!$C$19,0,ROW($G28)-ROW($G$3),1,1)","v":0},{"$f":"OFFSET('M2'!$C$20,0,ROW($H28)-ROW($H$3),1,1)","v":0},{"$f":"OFFSET('M3'!$C$15,0,ROW($I28)-ROW($I$3),1,1)","v":0},null,{"$f":"OFFSET('FB1'!$C$16,0,ROW($K28)-ROW($K$3),1,1)","v":0},{"$f":"OFFSET('FB2'!$C$14,0,ROW($L28)-ROW($L$3),1,1)","v":0},{"$f":"OFFSET('FB3'!$C$17,0,ROW($M28)-ROW($M$3),1,1)","v":0},null,{"$f":"OFFSET('SB1'!$C$14,0,ROW($O28)-ROW($O$3),1,1)","v":0},{"$f":"OFFSET('SB2'!$C$14,0,ROW($P28)-ROW($P$3),1,1)","v":0},{"$f":"OFFSET('SB3'!$C$20,0,ROW($Q28)-ROW($Q$3),1,1)","v":0},null,{"$f":"OFFSET('G1'!$C$13,0,ROW($S28)-ROW($S$3),1,1)","v":0},{"$f":"OFFSET('G2'!$C$15,0,ROW($T28)-ROW($T$3),1,1)","v":0},{"$f":"OFFSET('G3'!$C$12,0,ROW($U28)-ROW($U$3),1,1)","v":0},null,{"$f":"OFFSET('O1'!$C$16,0,ROW($W28)-ROW($W$3),1,1)","v":0},{"$f":"OFFSET('O2'!$C$13,0,ROW($W28)-ROW($W$3),1,1)","v":0},null,{"$f":"OFFSET('MZ1'!$C$11,0,ROW($Z28)-ROW($Z$3),1,1)","v":0},{"$f":"OFFSET('MZ2'!$C$15,0,ROW($AA28)-ROW($AA$3),1,1)","v":0},null,{"$f":"OFFSET('TRF1'!$C$14,0,ROW($AC28)-ROW($AC$3),1,1)","v":0},{"$f":"OFFSET('TRF2'!$C$14,0,ROW($AD28)-ROW($AD$3),1,1)","v":0},null,{"$f":"OFFSET(İN1!$C$21,0,ROW($AF28)-ROW($AF$3),1,1)","v":0},{"$f":"OFFSET(İN2!$C$14,0,ROW($AG28)-ROW($AG$3),1,1)","v":0}]
[{"$f":"IF(LİSTE!$A29=0,\"\",LİSTE!$A29)","v":""},{"$f":"IF(LİSTE!$B29=0,\"\",LİSTE!$B29)","v":""},{"$f":"OFFSET('TR1'!$C$44,0,ROW($C29)-ROW($C$3),1,1)","v":0},{"$f":"OFFSET('TR2'!$C$44,0,ROW($D29)-ROW($D$3),1,1)","v":0},{"$f":"OFFSET('TR3'!$C$15,0,ROW($E29)-ROW($E$3),1,1)","v":0},null,{"$f":"OFFSET('M1'!$C$19,0,ROW($G29)-ROW($G$3),1,1)","v":0},{"$f":"OFFSET('M2'!$C$20,0,ROW($H29)-ROW($H$3),1,1)","v":0},{"$f":"OFFSET('M3'!$C$15,0,ROW($I29)-ROW($I$3),1,1)","v":0},null,{"$f":"OFFSET('FB1'!$C$16,0,ROW($K29)-ROW($K$3),1,1)","v":0},{"$f":"OFFSET('FB2'!$C$14,0,ROW($L29)-ROW($L$3),1,1)","v":0},{"$f":"OFFSET('FB3'!$C$17,0,ROW($M29)-ROW($M$3),1,1)","v":0},null,{"$f":"OFFSET('SB1'!$C$14,0,ROW($O29)-ROW($O$3),1,1)","v":0},{"$f":"OFFSET('SB2'!$C$14,0,ROW($P29)-ROW($P$3),1,1)","v":0},{"$f":"OFFSET('SB3'!$C$20,0,ROW($Q29)-ROW($Q$3),1,1)","v":0},null,{"$f":"OFFSET('G1'!$C$13,0,ROW($S29)-ROW($S$3),1,1)","v":0},{"$f":"OFFSET('G2'!$C$15,0,ROW($T29)-ROW($T$3),1,1)","v":0},{"$f":"OFFSET('G3'!$C$12,0,ROW($U29)-ROW($U$3),1,1)","v":0},null,{"$f":"OFFSET('O1'!$C$16,0,ROW($W29)-ROW($W$3),1,1)","v":0},{"$f":"OFFSET('O2'!$C$13,0,ROW($W29)-ROW($W$3),1,1)","v":0},null,{"$f":"OFFSET('MZ1'!$C$11,0,ROW($Z29)-ROW($Z$3),1,1)","v":0},{"$f":"OFFSET('MZ2'!$C$15,0,ROW($AA29)-ROW($AA$3),1,1)","v":0},null,{"$f":"OFFSET('TRF1'!$C$14,0,ROW($AC29)-ROW($AC$3),1,1)","v":0},{"$f":"OFFSET('TRF2'!$C$14,0,ROW($AD29)-ROW($AD$3),1,1)","v":0},null,{"$f":"OFFSET(İN1!$C$21,0,ROW($AF29)-ROW($AF$3),1,1)","v":0},{"$f":"OFFSET(İN2!$C$14,0,ROW($AG29)-ROW($AG$3),1,1)","v":0}]
[{"$f":"IF(LİSTE!$A30=0,\"\",LİSTE!$A30)","v":""},{"$f":"IF(LİSTE!$B30=0,\"\",LİSTE!$B30)","v":""},{"$f":"OFFSET('TR1'!$C$44,0,ROW($C30)-ROW($C$3),1,1)","v":0},{"$f":"OFFSET('TR2'!$C$44,0,ROW($D30)-ROW($D$3),1,1)","v":0},{"$f":"OFFSET('TR3'!$C$15,0,ROW($E30)-ROW($E$3),1,1)","v":0},null,{"$f":"OFFSET('M1'!$C$19,0,ROW($G30)-ROW($G$3),1,1)","v":0},{"$f":"OFFSET('M2'!$C$20,0,ROW($H30)-ROW($H$3),1,1)","v":0},{"$f":"OFFSET('M3'!$C$15,0,ROW($I30)-ROW($I$3),1,1)","v":0},null,{"$f":"OFFSET('FB1'!$C$16,0,ROW($K30)-ROW($K$3),1,1)","v":0},{"$f":"OFFSET('FB2'!$C$14,0,ROW($L30)-ROW($L$3),1,1)","v":0},{"$f":"OFFSET('FB3'!$C$17,0,ROW($M30)-ROW($M$3),1,1)","v":0},null,{"$f":"OFFSET('SB1'!$C$14,0,ROW($O30)-ROW($O$3),1,1)","v":0},{"$f":"OFFSET('SB2'!$C$14,0,ROW($P30)-ROW($P$3),1,1)","v":0},{"$f":"OFFSET('SB3'!$C$20,0,ROW($Q30)-ROW($Q$3),1,1)","v":0},null,{"$f":"OFFSET('G1'!$C$13,0,ROW($S30)-ROW($S$3),1,1)","v":0},{"$f":"OFFSET('G2'!$C$15,0,ROW($T30)-ROW($T$3),1,1)","v":0},{"$f":"OFFSET('G3'!$C$12,0,ROW($U30)-ROW($U$3),1,1)","v":0},null,{"$f":"OFFSET('O1'!$C$16,0,ROW($W30)-ROW($W$3),1,1)","v":0},{"$f":"OFFSET('O2'!$C$13,0,ROW($W30)-ROW($W$3),1,1)","v":0},null,{"$f":"OFFSET('MZ1'!$C$11,0,ROW($Z30)-ROW($Z$3),1,1)","v":0},{"$f":"OFFSET('MZ2'!$C$15,0,ROW($AA30)-ROW($AA$3),1,1)","v":0},null,{"$f":"OFFSET('TRF1'!$C$14,0,ROW($AC30)-ROW($AC$3),1,1)","v":0},{"$f":"OFFSET('TRF2'!$C$14,0,ROW($AD30)-ROW($AD$3),1,1)","v":0},null,{"$f":"OFFSET(İN1!$C$21,0,ROW($AF30)-ROW($AF$3),1,1)","v":0},{"$f":"OFFSET(İN2!$C$14,0,ROW($AG30)-ROW($AG$3),1,1)","v":0}]
[{"$f":"IF(LİSTE!$A31=0,\"\",LİSTE!$A31)","v":""},{"$f":"IF(LİSTE!$B31=0,\"\",LİSTE!$B31)","v":""},{"$f":"OFFSET('TR1'!$C$44,0,ROW($C31)-ROW($C$3),1,1)","v":0},{"$f":"OFFSET('TR2'!$C$44,0,ROW($D31)-ROW($D$3),1,1)","v":0},{"$f":"OFFSET('TR3'!$C$15,0,ROW($E31)-ROW($E$3),1,1)","v":0},null,{"$f":"OFFSET('M1'!$C$19,0,ROW($G31)-ROW($G$3),1,1)","v":0},{"$f":"OFFSET('M2'!$C$20,0,ROW($H31)-ROW($H$3),1,1)","v":0},{"$f":"OFFSET('M3'!$C$15,0,ROW($I31)-ROW($I$3),1,1)","v":0},null,{"$f":"OFFSET('FB1'!$C$16,0,ROW($K31)-ROW($K$3),1,1)","v":0},{"$f":"OFFSET('FB2'!$C$14,0,ROW($L31)-ROW($L$3),1,1)","v":0},{"$f":"OFFSET('FB3'!$C$17,0,ROW($M31)-ROW($M$3),1,1)","v":0},null,{"$f":"OFFSET('SB1'!$C$14,0,ROW($O31)-ROW($O$3),1,1)","v":0},{"$f":"OFFSET('SB2'!$C$14,0,ROW($P31)-ROW($P$3),1,1)","v":0},{"$f":"OFFSET('SB3'!$C$20,0,ROW($Q31)-ROW($Q$3),1,1)","v":0},null,{"$f":"OFFSET('G1'!$C$13,0,ROW($S31)-ROW($S$3),1,1)","v":0},{"$f":"OFFSET('G2'!$C$15,0,ROW($T31)-ROW($T$3),1,1)","v":0},{"$f":"OFFSET('G3'!$C$12,0,ROW($U31)-ROW($U$3),1,1)","v":0},null,{"$f":"OFFSET('O1'!$C$16,0,ROW($W31)-ROW($W$3),1,1)","v":0},{"$f":"OFFSET('O2'!$C$13,0,ROW($W31)-ROW($W$3),1,1)","v":0},null,{"$f":"OFFSET('MZ1'!$C$11,0,ROW($Z31)-ROW($Z$3),1,1)","v":0},{"$f":"OFFSET('MZ2'!$C$15,0,ROW($AA31)-ROW($AA$3),1,1)","v":0},null,{"$f":"OFFSET('TRF1'!$C$14,0,ROW($AC31)-ROW($AC$3),1,1)","v":0},{"$f":"OFFSET('TRF2'!$C$14,0,ROW($AD31)-ROW($AD$3),1,1)","v":0},null,{"$f":"OFFSET(İN1!$C$21,0,ROW($AF31)-ROW($AF$3),1,1)","v":0},{"$f":"OFFSET(İN2!$C$14,0,ROW($AG31)-ROW($AG$3),1,1)","v":0}]
[{"$f":"IF(LİSTE!$A32=0,\"\",LİSTE!$A32)","v":""},{"$f":"IF(LİSTE!$B32=0,\"\",LİSTE!$B32)","v":""},{"$f":"OFFSET('TR1'!$C$44,0,ROW($C32)-ROW($C$3),1,1)","v":0},{"$f":"OFFSET('TR2'!$C$44,0,ROW($D32)-ROW($D$3),1,1)","v":0},{"$f":"OFFSET('TR3'!$C$15,0,ROW($E32)-ROW($E$3),1,1)","v":0},null,{"$f":"OFFSET('M1'!$C$19,0,ROW($G32)-ROW($G$3),1,1)","v":0},{"$f":"OFFSET('M2'!$C$20,0,ROW($H32)-ROW($H$3),1,1)","v":0},{"$f":"OFFSET('M3'!$C$15,0,ROW($I32)-ROW($I$3),1,1)","v":0},null,{"$f":"OFFSET('FB1'!$C$16,0,ROW($K32)-ROW($K$3),1,1)","v":0},{"$f":"OFFSET('FB2'!$C$14,0,ROW($L32)-ROW($L$3),1,1)","v":0},{"$f":"OFFSET('FB3'!$C$17,0,ROW($M32)-ROW($M$3),1,1)","v":0},null,{"$f":"OFFSET('SB1'!$C$14,0,ROW($O32)-ROW($O$3),1,1)","v":0},{"$f":"OFFSET('SB2'!$C$14,0,ROW($P32)-ROW($P$3),1,1)","v":0},{"$f":"OFFSET('SB3'!$C$20,0,ROW($Q32)-ROW($Q$3),1,1)","v":0},null,{"$f":"OFFSET('G1'!$C$13,0,ROW($S32)-ROW($S$3),1,1)","v":0},{"$f":"OFFSET('G2'!$C$15,0,ROW($T32)-ROW($T$3),1,1)","v":0},{"$f":"OFFSET('G3'!$C$12,0,ROW($U32)-ROW($U$3),1,1)","v":0},null,{"$f":"OFFSET('O1'!$C$16,0,ROW($W32)-ROW($W$3),1,1)","v":0},{"$f":"OFFSET('O2'!$C$13,0,ROW($W32)-ROW($W$3),1,1)","v":0},null,{"$f":"OFFSET('MZ1'!$C$11,0,ROW($Z32)-ROW($Z$3),1,1)","v":0},{"$f":"OFFSET('MZ2'!$C$15,0,ROW($AA32)-ROW($AA$3),1,1)","v":0},null,{"$f":"OFFSET('TRF1'!$C$14,0,ROW($AC32)-ROW($AC$3),1,1)","v":0},{"$f":"OFFSET('TRF2'!$C$14,0,ROW($AD32)-ROW($AD$3),1,1)","v":0},null,{"$f":"OFFSET(İN1!$C$21,0,ROW($AF32)-ROW($AF$3),1,1)","v":0},{"$f":"OFFSET(İN2!$C$14,0,ROW($AG32)-ROW($AG$3),1,1)","v":0}]
[{"$f":"IF(LİSTE!$A33=0,\"\",LİSTE!$A33)","v":""},{"$f":"IF(LİSTE!$B33=0,\"\",LİSTE!$B33)","v":""},{"$f":"OFFSET('TR1'!$C$44,0,ROW($C33)-ROW($C$3),1,1)","v":0},{"$f":"OFFSET('TR2'!$C$44,0,ROW($D33)-ROW($D$3),1,1)","v":0},{"$f":"OFFSET('TR3'!$C$15,0,ROW($E33)-ROW($E$3),1,1)","v":0},null,{"$f":"OFFSET('M1'!$C$19,0,ROW($G33)-ROW($G$3),1,1)","v":0},{"$f":"OFFSET('M2'!$C$20,0,ROW($H33)-ROW($H$3),1,1)","v":0},{"$f":"OFFSET('M3'!$C$15,0,ROW($I33)-ROW($I$3),1,1)","v":0},null,{"$f":"OFFSET('FB1'!$C$16,0,ROW($K33)-ROW($K$3),1,1)","v":0},{"$f":"OFFSET('FB2'!$C$14,0,ROW($L33)-ROW($L$3),1,1)","v":0},{"$f":"OFFSET('FB3'!$C$17,0,ROW($M33)-ROW($M$3),1,1)","v":0},null,{"$f":"OFFSET('SB1'!$C$14,0,ROW($O33)-ROW($O$3),1,1)","v":0},{"$f":"OFFSET('SB2'!$C$14,0,ROW($P33)-ROW($P$3),1,1)","v":0},{"$f":"OFFSET('SB3'!$C$20,0,ROW($Q33)-ROW($Q$3),1,1)","v":0},null,{"$f":"OFFSET('G1'!$C$13,0,ROW($S33)-ROW($S$3),1,1)","v":0},{"$f":"OFFSET('G2'!$C$15,0,ROW($T33)-ROW($T$3),1,1)","v":0},{"$f":"OFFSET('G3'!$C$12,0,ROW($U33)-ROW($U$3),1,1)","v":0},null,{"$f":"OFFSET('O1'!$C$16,0,ROW($W33)-ROW($W$3),1,1)","v":0},{"$f":"OFFSET('O2'!$C$13,0,ROW($W33)-ROW($W$3),1,1)","v":0},null,{"$f":"OFFSET('MZ1'!$C$11,0,ROW($Z33)-ROW($Z$3),1,1)","v":0},{"$f":"OFFSET('MZ2'!$C$15,0,ROW($AA33)-ROW($AA$3),1,1)","v":0},null,{"$f":"OFFSET('TRF1'!$C$14,0,ROW($AC33)-ROW($AC$3),1,1)","v":0},{"$f":"OFFSET('TRF2'!$C$14,0,ROW($AD33)-ROW($AD$3),1,1)","v":0},null,{"$f":"OFFSET(İN1!$C$21,0,ROW($AF33)-ROW($AF$3),1,1)","v":0},{"$f":"OFFSET(İN2!$C$14,0,ROW($AG33)-ROW($AG$3),1,1)","v":0}]
[{"$f":"IF(LİSTE!$A34=0,\"\",LİSTE!$A34)","v":""},{"$f":"IF(LİSTE!$B34=0,\"\",LİSTE!$B34)","v":""},{"$f":"OFFSET('TR1'!$C$44,0,ROW($C34)-ROW($C$3),1,1)","v":0},{"$f":"OFFSET('TR2'!$C$44,0,ROW($D34)-ROW($D$3),1,1)","v":0},{"$f":"OFFSET('TR3'!$C$15,0,ROW($E34)-ROW($E$3),1,1)","v":0},null,{"$f":"OFFSET('M1'!$C$19,0,ROW($G34)-ROW($G$3),1,1)","v":0},{"$f":"OFFSET('M2'!$C$20,0,ROW($H34)-ROW($H$3),1,1)","v":0},{"$f":"OFFSET('M3'!$C$15,0,ROW($I34)-ROW($I$3),1,1)","v":0},null,{"$f":"OFFSET('FB1'!$C$16,0,ROW($K34)-ROW($K$3),1,1)","v":0},{"$f":"OFFSET('FB2'!$C$14,0,ROW($L34)-ROW($L$3),1,1)","v":0},{"$f":"OFFSET('FB3'!$C$17,0,ROW($M34)-ROW($M$3),1,1)","v":0},null,{"$f":"OFFSET('SB1'!$C$14,0,ROW($O34)-ROW($O$3),1,1)","v":0},{"$f":"OFFSET('SB2'!$C$14,0,ROW($P34)-ROW($P$3),1,1)","v":0},{"$f":"OFFSET('SB3'!$C$20,0,ROW($Q34)-ROW($Q$3),1,1)","v":0},null,{"$f":"OFFSET('G1'!$C$13,0,ROW($S34)-ROW($S$3),1,1)","v":0},{"$f":"OFFSET('G2'!$C$15,0,ROW($T34)-ROW($T$3),1,1)","v":0},{"$f":"OFFSET('G3'!$C$12,0,ROW($U34)-ROW($U$3),1,1)","v":0},null,{"$f":"OFFSET('O1'!$C$16,0,ROW($W34)-ROW($W$3),1,1)","v":0},{"$f":"OFFSET('O2'!$C$13,0,ROW($W34)-ROW($W$3),1,1)","v":0},null,{"$f":"OFFSET('MZ1'!$C$11,0,ROW($Z34)-ROW($Z$3),1,1)","v":0},{"$f":"OFFSET('MZ2'!$C$15,0,ROW($AA34)-ROW($AA$3),1,1)","v":0},null,{"$f":"OFFSET('TRF1'!$C$14,0,ROW($AC34)-ROW($AC$3),1,1)","v":0},{"$f":"OFFSET('TRF2'!$C$14,0,ROW($AD34)-ROW($AD$3),1,1)","v":0},null,{"$f":"OFFSET(İN1!$C$21,0,ROW($AF34)-ROW($AF$3),1,1)","v":0},{"$f":"OFFSET(İN2!$C$14,0,ROW($AG34)-ROW($AG$3),1,1)","v":0}]
[{"$f":"IF(LİSTE!$A35=0,\"\",LİSTE!$A35)","v":""},{"$f":"IF(LİSTE!$B35=0,\"\",LİSTE!$B35)","v":""},{"$f":"OFFSET('TR1'!$C$44,0,ROW($C35)-ROW($C$3),1,1)","v":0},{"$f":"OFFSET('TR2'!$C$44,0,ROW($D35)-ROW($D$3),1,1)","v":0},{"$f":"OFFSET('TR3'!$C$15,0,ROW($E35)-ROW($E$3),1,1)","v":0},null,{"$f":"OFFSET('M1'!$C$19,0,ROW($G35)-ROW($G$3),1,1)","v":0},{"$f":"OFFSET('M2'!$C$20,0,ROW($H35)-ROW($H$3),1,1)","v":0},{"$f":"OFFSET('M3'!$C$15,0,ROW($I35)-ROW($I$3),1,1)","v":0},null,{"$f":"OFFSET('FB1'!$C$16,0,ROW($K35)-ROW($K$3),1,1)","v":0},{"$f":"OFFSET('FB2'!$C$14,0,ROW($L35)-ROW($L$3),1,1)","v":0},{"$f":"OFFSET('FB3'!$C$17,0,ROW($M35)-ROW($M$3),1,1)","v":0},null,{"$f":"OFFSET('SB1'!$C$14,0,ROW($O35)-ROW($O$3),1,1)","v":0},{"$f":"OFFSET('SB2'!$C$14,0,ROW($P35)-ROW($P$3),1,1)","v":0},{"$f":"OFFSET('SB3'!$C$20,0,ROW($Q35)-ROW($Q$3),1,1)","v":0},null,{"$f":"OFFSET('G1'!$C$13,0,ROW($S35)-ROW($S$3),1,1)","v":0},{"$f":"OFFSET('G2'!$C$15,0,ROW($T35)-ROW($T$3),1,1)","v":0},{"$f":"OFFSET('G3'!$C$12,0,ROW($U35)-ROW($U$3),1,1)","v":0},null,{"$f":"OFFSET('O1'!$C$16,0,ROW($W35)-ROW($W$3),1,1)","v":0},{"$f":"OFFSET('O2'!$C$13,0,ROW($W35)-ROW($W$3),1,1)","v":0},null,{"$f":"OFFSET('MZ1'!$C$11,0,ROW($Z35)-ROW($Z$3),1,1)","v":0},{"$f":"OFFSET('MZ2'!$C$15,0,ROW($AA35)-ROW($AA$3),1,1)","v":0},null,{"$f":"OFFSET('TRF1'!$C$14,0,ROW($AC35)-ROW($AC$3),1,1)","v":0},{"$f":"OFFSET('TRF2'!$C$14,0,ROW($AD35)-ROW($AD$3),1,1)","v":0},null,{"$f":"OFFSET(İN1!$C$21,0,ROW($AF35)-ROW($AF$3),1,1)","v":0},{"$f":"OFFSET(İN2!$C$14,0,ROW($AG35)-ROW($AG$3),1,1)","v":0}]
[{"$f":"IF(LİSTE!$A36=0,\"\",LİSTE!$A36)","v":""},{"$f":"IF(LİSTE!$B36=0,\"\",LİSTE!$B36)","v":""},{"$f":"OFFSET('TR1'!$C$44,0,ROW($C36)-ROW($C$3),1,1)","v":0},{"$f":"OFFSET('TR2'!$C$44,0,ROW($D36)-ROW($D$3),1,1)","v":0},{"$f":"OFFSET('TR3'!$C$15,0,ROW($E36)-ROW($E$3),1,1)","v":0},null,{"$f":"OFFSET('M1'!$C$19,0,ROW($G36)-ROW($G$3),1,1)","v":0},{"$f":"OFFSET('M2'!$C$20,0,ROW($H36)-ROW($H$3),1,1)","v":0},{"$f":"OFFSET('M3'!$C$15,0,ROW($I36)-ROW($I$3),1,1)","v":0},null,{"$f":"OFFSET('FB1'!$C$16,0,ROW($K36)-ROW($K$3),1,1)","v":0},{"$f":"OFFSET('FB2'!$C$14,0,ROW($L36)-ROW($L$3),1,1)","v":0},{"$f":"OFFSET('FB3'!$C$17,0,ROW($M36)-ROW($M$3),1,1)","v":0},null,{"$f":"OFFSET('SB1'!$C$14,0,ROW($O36)-ROW($O$3),1,1)","v":0},{"$f":"OFFSET('SB2'!$C$14,0,ROW($P36)-ROW($P$3),1,1)","v":0},{"$f":"OFFSET('SB3'!$C$20,0,ROW($Q36)-ROW($Q$3),1,1)","v":0},null,{"$f":"OFFSET('G1'!$C$13,0,ROW($S36)-ROW($S$3),1,1)","v":0},{"$f":"OFFSET('G2'!$C$15,0,ROW($T36)-ROW($T$3),1,1)","v":0},{"$f":"OFFSET('G3'!$C$12,0,ROW($U36)-ROW($U$3),1,1)","v":0},null,{"$f":"OFFSET('O1'!$C$16,0,ROW($W36)-ROW($W$3),1,1)","v":0},{"$f":"OFFSET('O2'!$C$13,0,ROW($W36)-ROW($W$3),1,1)","v":0},null,{"$f":"OFFSET('MZ1'!$C$11,0,ROW($Z36)-ROW($Z$3),1,1)","v":0},{"$f":"OFFSET('MZ2'!$C$15,0,ROW($AA36)-ROW($AA$3),1,1)","v":0},null,{"$f":"OFFSET('TRF1'!$C$14,0,ROW($AC36)-ROW($AC$3),1,1)","v":0},{"$f":"OFFSET('TRF2'!$C$14,0,ROW($AD36)-ROW($AD$3),1,1)","v":0},null,{"$f":"OFFSET(İN1!$C$21,0,ROW($AF36)-ROW($AF$3),1,1)","v":0},{"$f":"OFFSET(İN2!$C$14,0,ROW($AG36)-ROW($AG$3),1,1)","v":0}]
[{"$f":"IF(LİSTE!$A37=0,\"\",LİSTE!$A37)","v":""},{"$f":"IF(LİSTE!$B37=0,\"\",LİSTE!$B37)","v":""},{"$f":"OFFSET('TR1'!$C$44,0,ROW($C37)-ROW($C$3),1,1)","v":0},{"$f":"OFFSET('TR2'!$C$44,0,ROW($D37)-ROW($D$3),1,1)","v":0},{"$f":"OFFSET('TR3'!$C$15,0,ROW($E37)-ROW($E$3),1,1)","v":0},null,{"$f":"OFFSET('M1'!$C$19,0,ROW($G37)-ROW($G$3),1,1)","v":0},{"$f":"OFFSET('M2'!$C$20,0,ROW($H37)-ROW($H$3),1,1)","v":0},{"$f":"OFFSET('M3'!$C$15,0,ROW($I37)-ROW($I$3),1,1)","v":0},null,{"$f":"OFFSET('FB1'!$C$16,0,ROW($K37)-ROW($K$3),1,1)","v":0},{"$f":"OFFSET('FB2'!$C$14,0,ROW($L37)-ROW($L$3),1,1)","v":0},{"$f":"OFFSET('FB3'!$C$17,0,ROW($M37)-ROW($M$3),1,1)","v":0},null,{"$f":"OFFSET('SB1'!$C$14,0,ROW($O37)-ROW($O$3),1,1)","v":0},{"$f":"OFFSET('SB2'!$C$14,0,ROW($P37)-ROW($P$3),1,1)","v":0},{"$f":"OFFSET('SB3'!$C$20,0,ROW($Q37)-ROW($Q$3),1,1)","v":0},null,{"$f":"OFFSET('G1'!$C$13,0,ROW($S37)-ROW($S$3),1,1)","v":0},{"$f":"OFFSET('G2'!$C$15,0,ROW($T37)-ROW($T$3),1,1)","v":0},{"$f":"OFFSET('G3'!$C$12,0,ROW($U37)-ROW($U$3),1,1)","v":0},null,{"$f":"OFFSET('O1'!$C$16,0,ROW($W37)-ROW($W$3),1,1)","v":0},{"$f":"OFFSET('O2'!$C$13,0,ROW($W37)-ROW($W$3),1,1)","v":0},null,{"$f":"OFFSET('MZ1'!$C$11,0,ROW($Z37)-ROW($Z$3),1,1)","v":0},{"$f":"OFFSET('MZ2'!$C$15,0,ROW($AA37)-ROW($AA$3),1,1)","v":0},null,{"$f":"OFFSET('TRF1'!$C$14,0,ROW($AC37)-ROW($AC$3),1,1)","v":0},{"$f":"OFFSET('TRF2'!$C$14,0,ROW($AD37)-ROW($AD$3),1,1)","v":0},null,{"$f":"OFFSET(İN1!$C$21,0,ROW($AF37)-ROW($AF$3),1,1)","v":0},{"$f":"OFFSET(İN2!$C$14,0,ROW($AG37)-ROW($AG$3),1,1)","v":0}]
[{"$f":"IF(LİSTE!$A38=0,\"\",LİSTE!$A38)","v":""},{"$f":"IF(LİSTE!$B38=0,\"\",LİSTE!$B38)","v":""},{"$f":"OFFSET('TR1'!$C$44,0,ROW($C38)-ROW($C$3),1,1)","v":0},{"$f":"OFFSET('TR2'!$C$44,0,ROW($D38)-ROW($D$3),1,1)","v":0},{"$f":"OFFSET('TR3'!$C$15,0,ROW($E38)-ROW($E$3),1,1)","v":0},null,{"$f":"OFFSET('M1'!$C$19,0,ROW($G38)-ROW($G$3),1,1)","v":0},{"$f":"OFFSET('M2'!$C$20,0,ROW($H38)-ROW($H$3),1,1)","v":0},{"$f":"OFFSET('M3'!$C$15,0,ROW($I38)-ROW($I$3),1,1)","v":0},null,{"$f":"OFFSET('FB1'!$C$16,0,ROW($K38)-ROW($K$3),1,1)","v":0},{"$f":"OFFSET('FB2'!$C$14,0,ROW($L38)-ROW($L$3),1,1)","v":0},{"$f":"OFFSET('FB3'!$C$17,0,ROW($M38)-ROW($M$3),1,1)","v":0},null,{"$f":"OFFSET('SB1'!$C$14,0,ROW($O38)-ROW($O$3),1,1)","v":0},{"$f":"OFFSET('SB2'!$C$14,0,ROW($P38)-ROW($P$3),1,1)","v":0},{"$f":"OFFSET('SB3'!$C$20,0,ROW($Q38)-ROW($Q$3),1,1)","v":0},null,{"$f":"OFFSET('G1'!$C$13,0,ROW($S38)-ROW($S$3),1,1)","v":0},{"$f":"OFFSET('G2'!$C$15,0,ROW($T38)-ROW($T$3),1,1)","v":0},{"$f":"OFFSET('G3'!$C$12,0,ROW($U38)-ROW($U$3),1,1)","v":0},null,{"$f":"OFFSET('O1'!$C$16,0,ROW($W38)-ROW($W$3),1,1)","v":0},{"$f":"OFFSET('O2'!$C$13,0,ROW($W38)-ROW($W$3),1,1)","v":0},null,{"$f":"OFFSET('MZ1'!$C$11,0,ROW($Z38)-ROW($Z$3),1,1)","v":0},{"$f":"OFFSET('MZ2'!$C$15,0,ROW($AA38)-ROW($AA$3),1,1)","v":0},null,{"$f":"OFFSET('TRF1'!$C$14,0,ROW($AC38)-ROW($AC$3),1,1)","v":0},{"$f":"OFFSET('TRF2'!$C$14,0,ROW($AD38)-ROW($AD$3),1,1)","v":0},null,{"$f":"OFFSET(İN1!$C$21,0,ROW($AF38)-ROW($AF$3),1,1)","v":0},{"$f":"OFFSET(İN2!$C$14,0,ROW($AG38)-ROW($AG$3),1,1)","v":0}]
[{"$f":"IF(LİSTE!$A39=0,\"\",LİSTE!$A39)","v":""},{"$f":"IF(LİSTE!$B39=0,\"\",LİSTE!$B39)","v":""},{"$f":"OFFSET('TR1'!$C$44,0,ROW($C39)-ROW($C$3),1,1)","v":0},{"$f":"OFFSET('TR2'!$C$44,0,ROW($D39)-ROW($D$3),1,1)","v":0},{"$f":"OFFSET('TR3'!$C$15,0,ROW($E39)-ROW($E$3),1,1)","v":0},null,{"$f":"OFFSET('M1'!$C$19,0,ROW($G39)-ROW($G$3),1,1)","v":0},{"$f":"OFFSET('M2'!$C$20,0,ROW($H39)-ROW($H$3),1,1)","v":0},{"$f":"OFFSET('M3'!$C$15,0,ROW($I39)-ROW($I$3),1,1)","v":0},null,{"$f":"OFFSET('FB1'!$C$16,0,ROW($K39)-ROW($K$3),1,1)","v":0},{"$f":"OFFSET('FB2'!$C$14,0,ROW($L39)-ROW($L$3),1,1)","v":0},{"$f":"OFFSET('FB3'!$C$17,0,ROW($M39)-ROW($M$3),1,1)","v":0},null,{"$f":"OFFSET('SB1'!$C$14,0,ROW($O39)-ROW($O$3),1,1)","v":0},{"$f":"OFFSET('SB2'!$C$14,0,ROW($P39)-ROW($P$3),1,1)","v":0},{"$f":"OFFSET('SB3'!$C$20,0,ROW($Q39)-ROW($Q$3),1,1)","v":0},null,{"$f":"OFFSET('G1'!$C$13,0,ROW($S39)-ROW($S$3),1,1)","v":0},{"$f":"OFFSET('G2'!$C$15,0,ROW($T39)-ROW($T$3),1,1)","v":0},{"$f":"OFFSET('G3'!$C$12,0,ROW($U39)-ROW($U$3),1,1)","v":0},null,{"$f":"OFFSET('O1'!$C$16,0,ROW($W39)-ROW($W$3),1,1)","v":0},{"$f":"OFFSET('O2'!$C$13,0,ROW($W39)-ROW($W$3),1,1)","v":0},null,{"$f":"OFFSET('MZ1'!$C$11,0,ROW($Z39)-ROW($Z$3),1,1)","v":0},{"$f":"OFFSET('MZ2'!$C$15,0,ROW($AA39)-ROW($AA$3),1,1)","v":0},null,{"$f":"OFFSET('TRF1'!$C$14,0,ROW($AC39)-ROW($AC$3),1,1)","v":0},{"$f":"OFFSET('TRF2'!$C$14,0,ROW($AD39)-ROW($AD$3),1,1)","v":0},null,{"$f":"OFFSET(İN1!$C$21,0,ROW($AF39)-ROW($AF$3),1,1)","v":0},{"$f":"OFFSET(İN2!$C$14,0,ROW($AG39)-ROW($AG$3),1,1)","v":0}]
[{"$f":"IF(LİSTE!$A40=0,\"\",LİSTE!$A40)","v":""},{"$f":"IF(LİSTE!$B40=0,\"\",LİSTE!$B40)","v":""},{"$f":"OFFSET('TR1'!$C$44,0,ROW($C40)-ROW($C$3),1,1)","v":0},{"$f":"OFFSET('TR2'!$C$44,0,ROW($D40)-ROW($D$3),1,1)","v":0},{"$f":"OFFSET('TR3'!$C$15,0,ROW($E40)-ROW($E$3),1,1)","v":0},null,{"$f":"OFFSET('M1'!$C$19,0,ROW($G40)-ROW($G$3),1,1)","v":0},{"$f":"OFFSET('M2'!$C$20,0,ROW($H40)-ROW($H$3),1,1)","v":0},{"$f":"OFFSET('M3'!$C$15,0,ROW($I40)-ROW($I$3),1,1)","v":0},null,{"$f":"OFFSET('FB1'!$C$16,0,ROW($K40)-ROW($K$3),1,1)","v":0},{"$f":"OFFSET('FB2'!$C$14,0,ROW($L40)-ROW($L$3),1,1)","v":0},{"$f":"OFFSET('FB3'!$C$17,0,ROW($M40)-ROW($M$3),1,1)","v":0},null,{"$f":"OFFSET('SB1'!$C$14,0,ROW($O40)-ROW($O$3),1,1)","v":0},{"$f":"OFFSET('SB2'!$C$14,0,ROW($P40)-ROW($P$3),1,1)","v":0},{"$f":"OFFSET('SB3'!$C$20,0,ROW($Q40)-ROW($Q$3),1,1)","v":0},null,{"$f":"OFFSET('G1'!$C$13,0,ROW($S40)-ROW($S$3),1,1)","v":0},{"$f":"OFFSET('G2'!$C$15,0,ROW($T40)-ROW($T$3),1,1)","v":0},{"$f":"OFFSET('G3'!$C$12,0,ROW($U40)-ROW($U$3),1,1)","v":0},null,{"$f":"OFFSET('O1'!$C$16,0,ROW($W40)-ROW($W$3),1,1)","v":0},{"$f":"OFFSET('O2'!$C$13,0,ROW($W40)-ROW($W$3),1,1)","v":0},null,{"$f":"OFFSET('MZ1'!$C$11,0,ROW($Z40)-ROW($Z$3),1,1)","v":0},{"$f":"OFFSET('MZ2'!$C$15,0,ROW($AA40)-ROW($AA$3),1,1)","v":0},null,{"$f":"OFFSET('TRF1'!$C$14,0,ROW($AC40)-ROW($AC$3),1,1)","v":0},{"$f":"OFFSET('TRF2'!$C$14,0,ROW($AD40)-ROW($AD$3),1,1)","v":0},null,{"$f":"OFFSET(İN1!$C$21,0,ROW($AF40)-ROW($AF$3),1,1)","v":0},{"$f":"OFFSET(İN2!$C$14,0,ROW($AG40)-ROW($AG$3),1,1)","v":0}]
[{"$f":"IF(LİSTE!$A41=0,\"\",LİSTE!$A41)","v":""},{"$f":"IF(LİSTE!$B41=0,\"\",LİSTE!$B41)","v":""},{"$f":"OFFSET('TR1'!$C$44,0,ROW($C41)-ROW($C$3),1,1)","v":0},{"$f":"OFFSET('TR2'!$C$44,0,ROW($D41)-ROW($D$3),1,1)","v":0},{"$f":"OFFSET('TR3'!$C$15,0,ROW($E41)-ROW($E$3),1,1)","v":0},null,{"$f":"OFFSET('M1'!$C$19,0,ROW($G41)-ROW($G$3),1,1)","v":0},{"$f":"OFFSET('M2'!$C$20,0,ROW($H41)-ROW($H$3),1,1)","v":0},{"$f":"OFFSET('M3'!$C$15,0,ROW($I41)-ROW($I$3),1,1)","v":0},null,{"$f":"OFFSET('FB1'!$C$16,0,ROW($K41)-ROW($K$3),1,1)","v":0},{"$f":"OFFSET('FB2'!$C$14,0,ROW($L41)-ROW($L$3),1,1)","v":0},{"$f":"OFFSET('FB3'!$C$17,0,ROW($M41)-ROW($M$3),1,1)","v":0},null,{"$f":"OFFSET('SB1'!$C$14,0,ROW($O41)-ROW($O$3),1,1)","v":0},{"$f":"OFFSET('SB2'!$C$14,0,ROW($P41)-ROW($P$3),1,1)","v":0},{"$f":"OFFSET('SB3'!$C$20,0,ROW($Q41)-ROW($Q$3),1,1)","v":0},null,{"$f":"OFFSET('G1'!$C$13,0,ROW($S41)-ROW($S$3),1,1)","v":0},{"$f":"OFFSET('G2'!$C$15,0,ROW($T41)-ROW($T$3),1,1)","v":0},{"$f":"OFFSET('G3'!$C$12,0,ROW($U41)-ROW($U$3),1,1)","v":0},null,{"$f":"OFFSET('O1'!$C$16,0,ROW($W41)-ROW($W$3),1,1)","v":0},{"$f":"OFFSET('O2'!$C$13,0,ROW($W41)-ROW($W$3),1,1)","v":0},null,{"$f":"OFFSET('MZ1'!$C$11,0,ROW($Z41)-ROW($Z$3),1,1)","v":0},{"$f":"OFFSET('MZ2'!$C$15,0,ROW($AA41)-ROW($AA$3),1,1)","v":0},null,{"$f":"OFFSET('TRF1'!$C$14,0,ROW($AC41)-ROW($AC$3),1,1)","v":0},{"$f":"OFFSET('TRF2'!$C$14,0,ROW($AD41)-ROW($AD$3),1,1)","v":0},null,{"$f":"OFFSET(İN1!$C$21,0,ROW($AF41)-ROW($AF$3),1,1)","v":0},{"$f":"OFFSET(İN2!$C$14,0,ROW($AG41)-ROW($AG$3),1,1)","v":0}]

{"sheet":"TRF1","index":3,"n_rows":16,"n_cols":41,"rows_kept":16,"cut":false,"hidden":false,"merged":[[14,33,14,39],[15,33,15,39],[0,0,1048575,0],[14,2,14,9],[14,10,14,13]]}
[null,{"$f":"CONCATENATE( \" \",LİSTE!D2,\" \",LİSTE!D3,\"  \",LİSTE!D4,\" \",LİSTE!D6,\" \",\"SINIFI\",\" \",\"TRAFİK GÜVENLİĞİ DERSİ DERS VE ETKİNLİKLERE KATILIM DEĞERLENDİRME FORMU 1 (KAZANIM)\")","v":" 2022-2023 EĞİTİM ÖĞRETİM YILI ATATÜRK İLKOKULU  1.DÖNEM 4- SINIFI TRAFİK GÜVENLİĞİ DERSİ DERS VE ETKİNLİKLERE KATILIM DEĞERLENDİRME FORMU 1 (KAZANIM)"},{"$f":"IF(LİSTE!$B3=0,\"\",LİSTE!$B3)","v":""},{"$f":"IF(LİSTE!$B4=0,\"\",LİSTE!$B4)","v":""},{"$f":"IF(LİSTE!$B5=0,\"\",LİSTE!$B5)","v":""},{"$f":"IF(LİSTE!$B6=0,\"\",LİSTE!$B6)","v":""},{"$f":"IF(LİSTE!$B7=0,\"\",LİSTE!$B7)","v":""},{"$f":"IF(LİSTE!$B8=0,\"\",LİSTE!$B8)","v":""},{"$f":"IF(LİSTE!$B9=0,\"\",LİSTE!$B9)","v":""},{"$f":"IF(LİSTE!$B10=0,\"\",LİSTE!$B10)","v":""},{"$f":"IF(LİSTE!$B11=0,\"\",LİSTE!$B11)","v":""},{"$f":"IF(LİSTE!$B12=0,\"\",LİSTE!$B12)","v":""},{"$f":"IF(LİSTE!$B13=0,\"\",LİSTE!$B13)","v":""},{"$f":"IF(LİSTE!$B14=0,\"\",LİSTE!$B14)","v":""},{"$f":"IF(LİSTE!$B15=0,\"\",LİSTE!$B15)","v":""},{"$f":"IF(LİSTE!$B16=0,\"\",LİSTE!$B16)","v":""},{"$f":"IF(LİSTE!$B17=0,\"\",LİSTE!$B17)","v":""},{"$f":"IF(LİSTE!$B18=0,\"\",LİSTE!$B18)","v":""},{"$f":"IF(LİSTE!$B19=0,\"\",LİSTE!$B19)","v":""},{"$f":"IF(LİSTE!$B20=0,\"\",LİSTE!$B20)","v":""},{"$f":"IF(LİSTE!$B21=0,\"\",LİSTE!$B21)","v":""},{"$f":"IF(LİSTE!$B22=0,\"\",LİSTE!$B22)","v":""},{"$f":"IF(LİSTE!$B23=0,\"\",LİSTE!$B23)","v":""},{"$f":"IF(LİSTE!$B24=0,\"\",LİSTE!$B24)","v":""},{"$f":"IF(LİSTE!$B25=0,\"\",LİSTE!$B25)","v":""},{"$f":"IF(LİSTE!$B26=0,\"\",LİSTE!$B26)","v":""},{"$f":"IF(LİSTE!$B27=0,\"\",LİSTE!$B27)","v":""},{"$f":"IF(LİSTE!$B28=0,\"\",LİSTE!$B28)","v":""},{"$f":"IF(LİSTE!$B29=0,\"\",LİSTE!$B29)","v":""},{"$f":"IF(LİSTE!$B30=0,\"\",LİSTE!$B30)","v":""},{"$f":"IF(LİSTE!$B31=0,\"\",LİSTE!$B31)","v":""},{"$f":"IF(LİSTE!$B32=0,\"\",LİSTE!$B32)","v":""},{"$f":"IF(LİSTE!$B33=0,\"\",LİSTE!$B33)","v":""},{"$f":"IF(LİSTE!$B34=0,\"\",LİSTE!$B34)","v":""},{"$f":"IF(LİSTE!$B35=0,\"\",LİSTE!$B35)","v":""},{"$f":"IF(LİSTE!$B36=0,\"\",LİSTE!$B36)","v":""},{"$f":"IF(LİSTE!$B37=0,\"\",LİSTE!$B37)","v":""},{"$f":"IF(LİSTE!$B38=0,\"\",LİSTE!$B38)","v":""},{"$f":"IF(LİSTE!$B39=0,\"\",LİSTE!$B39)","v":""},{"$f":"IF(LİSTE!$B40=0,\"\",LİSTE!$B40)","v":""},{"$f":"IF(LİSTE!$B41=0,\"\",LİSTE!$B41)","v":""}]
[null,"KAZANIMLAR",{"$f":"IF(LİSTE!$A3=0,\"\",LİSTE!$A3)","v":""},{"$f":"IF(LİSTE!$A4=0,\"\",LİSTE!$A4)","v":""},{"$f":"IF(LİSTE!$A5=0,\"\",LİSTE!$A5)","v":""},{"$f":"IF(LİSTE!$A6=0,\"\",LİSTE!$A6)","v":""},{"$f":"IF(LİSTE!$A7=0,\"\",LİSTE!$A7)","v":""},{"$f":"IF(LİSTE!$A8=0,\"\",LİSTE!$A8)","v":""},{"$f":"IF(LİSTE!$A9=0,\"\",LİSTE!$A9)","v":""},{"$f":"IF(LİSTE!$A10=0,\"\",LİSTE!$A10)","v":""},{"$f":"IF(LİSTE!$A11=0,\"\",LİSTE!$A11)","v":""},{"$f":"IF(LİSTE!$A12=0,\"\",LİSTE!$A12)","v":""},{"$f":"IF(LİSTE!$A13=0,\"\",LİSTE!$A13)","v":""},{"$f":"IF(LİSTE!$A14=0,\"\",LİSTE!$A14)","v":""},{"$f":"IF(LİSTE!$A15=0,\"\",LİSTE!$A15)","v":""},{"$f":"IF(LİSTE!$A16=0,\"\",LİSTE!$A16)","v":""},{"$f":"IF(LİSTE!$A17=0,\"\",LİSTE!$A17)","v":""},{"$f":"IF(LİSTE!$A18=0,\"\",LİSTE!$A18)","v":""},{"$f":"IF(LİSTE!$A19=0,\"\",LİSTE!$A19)","v":""},{"$f":"IF(LİSTE!$A20=0,\"\",LİSTE!$A20)","v":""},{"$f":"IF(LİSTE!$A21=0,\"\",LİSTE!$A21)","v":""},{"$f":"IF(LİSTE!$A22=0,\"\",LİSTE!$A22)","v":""},{"$f":"IF(LİSTE!$A23=0,\"\",LİSTE!$A23)","v":""},{"$f":"IF(LİSTE!$A24=0,\"\",LİSTE!$A24)","v":""},{"$f":"IF(LİSTE!$A25=0,\"\",LİSTE!$A25)","v":""},{"$f":"IF(LİSTE!$A26=0,\"\",LİSTE!$A26)","v":""},{"$f":"IF(LİSTE!$A27=0,\"\",LİSTE!$A27)","v":""},{"$f":"IF(LİSTE!$A28=0,\"\",LİSTE!$A28)","v":""},{"$f":"IF(LİSTE!$A29=0,\"\",LİSTE!$A29)","v":""},{"$f":"IF(LİSTE!$A30=0,\"\",LİSTE!$A30)","v":""},{"$f":"IF(LİSTE!$A31=0,\"\",LİSTE!$A31)","v":""},{"$f":"IF(LİSTE!$A32=0,\"\",LİSTE!$A32)","v":""},{"$f":"IF(LİSTE!$A33=0,\"\",LİSTE!$A33)","v":""},{"$f":"IF(LİSTE!$A34=0,\"\",LİSTE!$A34)","v":""},{"$f":"IF(LİSTE!$A35=0,\"\",LİSTE!$A35)","v":""},{"$f":"IF(LİSTE!$A36=0,\"\",LİSTE!$A36)","v":""},{"$f":"IF(LİSTE!$A37=0,\"\",LİSTE!$A37)","v":""},{"$f":"IF(LİSTE!$A38=0,\"\",LİSTE!$A38)","v":""},{"$f":"IF(LİSTE!$A39=0,\"\",LİSTE!$A39)","v":""},{"$f":"IF(LİSTE!$A40=0,\"\",LİSTE!$A40)","v":""},{"$f":"IF(LİSTE!$A41=0,\"\",LİSTE!$A41)","v":""}]
[null,"TG.4.1.1. Trafikte kendisinin ve başkalarının hayatının önemli olduğunu fark eder."]
[null,"TG.4.1.2. Trafikle ilgili temel kavramları açıklar."]
[null,"TG.4.1.3. Trafik işaretleri ve işaret levhalarının önemini araştırır."]
[null,"TG.4.1.4. Yaya olarak trafik kurallarına uyar."]
[null,"TG.4.1.5. Günlük yaşantısında çevresindeki güvenli yolları kullanır."]
[null,"TG.4.1.6. Taşıt trafiğine kapalı alanlarda oyun araçlarını güvenli kullanır."]
[null,"TG.4.1.7. Ulaşım araçlarını çeşitli özellikleri açısından karşılaştırır."]
[null,"TG.4.1.8. Trafikte geçiş üstünlüğü olan taşıtları tanır."]
[null,"TG.4.1.9. Trafikle ilgili meslekleri ve kurumları araştırır."]
[null,"TG.4.1.10. Trafikte toplu taşıma araçlarını kullanmanın önemini kavrar.",4,4,4,3,4,3,3,4,4,4,4,4,3,3]
[null,"TOPLAM PUAN",{"$f":"SUM(C3:C12)","v":4},4,4,3,4,3,3,4,4,4,4,4,3,3,0,0,0,0,0,0,0,0,0,0,0,0,0,0,0,0,0,0,0,0,0,0,0,0,0]
[null,"NOT KARŞILIĞI",{"$f":"(C13*100)/40","v":10},{"$f":"(D13*100)/40","v":10},10,7.5,10,7.5,7.5,10,10,10,10,10,7.5,7.5,0,0,0,0,0,0,0,0,0,0,0,0,0,0,0,0,0,0,0,0,0,0,0,0,0]
[null,null,null,null,null,null,null,null,null,null,null,null,null,null,null,null,null,null,null,null,null,null,null,null,null,null,null,null,null,null,null,null,null,{"$f":"LİSTE!D5","v":0}]
[null,null,null,null,null,null,null,null,null,null,null,null,null,null,null,null,null,null,null,null,null,null,null,null,null,null,null,null,null,null,null,null,null,{"$f":"CONCATENATE(LİSTE!D6,\" \",\"SINIF ÖĞRETMENİ\")","v":"4- SINIF ÖĞRETMENİ"}]

{"sheet":"TRF2","index":4,"n_rows":16,"n_cols":41,"rows_kept":16,"cut":false,"hidden":false,"merged":[[14,2,14,9],[14,10,14,13],[14,33,14,39],[15,33,15,39]]}
[null,null,{"$f":"C14","v":0},{"$f":"D14","v":0},0,0,0,0,0,0,0,0,0,0,0,0,0,0,0,0,0,0,0,0,0,0,0,0,0,0,0,0,0,0,0,0,0,0,0,0,0]
[null,{"$f":"CONCATENATE(\" \",LİSTE!D2,\" \",LİSTE!D3,\"  \",LİSTE!D4,\" \",LİSTE!D6,\" \",\"SINIFI\",\" \",\"TRAFİK GÜVENLİĞİ DERSİ DERS VE ETKİNLİKLERE KATILIM DEĞERLENDİRME FORMU 2\")","v":" 2022-2023 EĞİTİM ÖĞRETİM YILI ATATÜRK İLKOKULU  1.DÖNEM 4- SINIFI TRAFİK GÜVENLİĞİ DERSİ DERS VE ETKİNLİKLERE KATILIM DEĞERLENDİRME FORMU 2"},{"$f":"IF(LİSTE!$B3=0,\"\",LİSTE!$B3)","v":""},{"$f":"IF(LİSTE!$B4=0,\"\",LİSTE!$B4)","v":""},{"$f":"IF(LİSTE!$B5=0,\"\",LİSTE!$B5)","v":""},{"$f":"IF(LİSTE!$B6=0,\"\",LİSTE!$B6)","v":""},{"$f":"IF(LİSTE!$B7=0,\"\",LİSTE!$B7)","v":""},{"$f":"IF(LİSTE!$B8=0,\"\",LİSTE!$B8)","v":""},{"$f":"IF(LİSTE!$B9=0,\"\",LİSTE!$B9)","v":""},{"$f":"IF(LİSTE!$B10=0,\"\",LİSTE!$B10)","v":""},{"$f":"IF(LİSTE!$B11=0,\"\",LİSTE!$B11)","v":""},{"$f":"IF(LİSTE!$B12=0,\"\",LİSTE!$B12)","v":""},{"$f":"IF(LİSTE!$B13=0,\"\",LİSTE!$B13)","v":""},{"$f":"IF(LİSTE!$B14=0,\"\",LİSTE!$B14)","v":""},{"$f":"IF(LİSTE!$B15=0,\"\",LİSTE!$B15)","v":""},{"$f":"IF(LİSTE!$B16=0,\"\",LİSTE!$B16)","v":""},{"$f":"IF(LİSTE!$B17=0,\"\",LİSTE!$B17)","v":""},{"$f":"IF(LİSTE!$B18=0,\"\",LİSTE!$B18)","v":""},{"$f":"IF(LİSTE!$B19=0,\"\",LİSTE!$B19)","v":""},{"$f":"IF(LİSTE!$B20=0,\"\",LİSTE!$B20)","v":""},{"$f":"IF(LİSTE!$B21=0,\"\",LİSTE!$B21)","v":""},{"$f":"IF(LİSTE!$B22=0,\"\",LİSTE!$B22)","v":""},{"$f":"IF(LİSTE!$B23=0,\"\",LİSTE!$B23)","v":""},{"$f":"IF(LİSTE!$B24=0,\"\",LİSTE!$B24)","v":""},{"$f":"IF(LİSTE!$B25=0,\"\",LİSTE!$B25)","v":""},{"$f":"IF(LİSTE!$B26=0,\"\",LİSTE!$B26)","v":""},{"$f":"IF(LİSTE!$B27=0,\"\",LİSTE!$B27)","v":""},{"$f":"IF(LİSTE!$B28=0,\"\",LİSTE!$B28)","v":""},{"$f":"IF(LİSTE!$B29=0,\"\",LİSTE!$B29)","v":""},{"$f":"IF(LİSTE!$B30=0,\"\",LİSTE!$B30)","v":""},{"$f":"IF(LİSTE!$B31=0,\"\",LİSTE!$B31)","v":""},{"$f":"IF(LİSTE!$B32=0,\"\",LİSTE!$B32)","v":""},{"$f":"IF(LİSTE!$B33=0,\"\",LİSTE!$B33)","v":""},{"$f":"IF(LİSTE!$B34=0,\"\",LİSTE!$B34)","v":""},{"$f":"IF(LİSTE!$B35=0,\"\",LİSTE!$B35)","v":""},{"$f":"IF(LİSTE!$B36=0,\"\",LİSTE!$B36)","v":""},{"$f":"IF(LİSTE!$B37=0,\"\",LİSTE!$B37)","v":""},{"$f":"IF(LİSTE!$B38=0,\"\",LİSTE!$B38)","v":""},{"$f":"IF(LİSTE!$B39=0,\"\",LİSTE!$B39)","v":""},{"$f":"IF(LİSTE!$B40=0,\"\",LİSTE!$B40)","v":""},{"$f":"IF(LİSTE!$B41=0,\"\",LİSTE!$B41)","v":""}]
[null,"KAZANIMLAR",{"$f":"IF(LİSTE!$A3=0,\"\",LİSTE!$A3)","v":""},{"$f":"IF(LİSTE!$A4=0,\"\",LİSTE!$A4)","v":""},{"$f":"IF(LİSTE!$A5=0,\"\",LİSTE!$A5)","v":""},{"$f":"IF(LİSTE!$A6=0,\"\",LİSTE!$A6)","v":""},{"$f":"IF(LİSTE!$A7=0,\"\",LİSTE!$A7)","v":""},{"$f":"IF(LİSTE!$A8=0,\"\",LİSTE!$A8)","v":""},{"$f":"IF(LİSTE!$A9=0,\"\",LİSTE!$A9)","v":""},{"$f":"IF(LİSTE!$A10=0,\"\",LİSTE!$A10)","v":""},{"$f":"IF(LİSTE!$A11=0,\"\",LİSTE!$A11)","v":""},{"$f":"IF(LİSTE!$A12=0,\"\",LİSTE!$A12)","v":""},{"$f":"IF(LİSTE!$A13=0,\"\",LİSTE!$A13)","v":""},{"$f":"IF(LİSTE!$A14=0,\"\",LİSTE!$A14)","v":""},{"$f":"IF(LİSTE!$A15=0,\"\",LİSTE!$A15)","v":""},{"$f":"IF(LİSTE!$A16=0,\"\",LİSTE!$A16)","v":""},{"$f":"IF(LİSTE!$A17=0,\"\",LİSTE!$A17)","v":""},{"$f":"IF(LİSTE!$A18=0,\"\",LİSTE!$A18)","v":""},{"$f":"IF(LİSTE!$A19=0,\"\",LİSTE!$A19)","v":""},{"$f":"IF(LİSTE!$A20=0,\"\",LİSTE!$A20)","v":""},{"$f":"IF(LİSTE!$A21=0,\"\",LİSTE!$A21)","v":""},{"$f":"IF(LİSTE!$A22=0,\"\",LİSTE!$A22)","v":""},{"$f":"IF(LİSTE!$A23=0,\"\",LİSTE!$A23)","v":""},{"$f":"IF(LİSTE!$A24=0,\"\",LİSTE!$A24)","v":""},{"$f":"IF(LİSTE!$A25=0,\"\",LİSTE!$A25)","v":""},{"$f":"IF(LİSTE!$A26=0,\"\",LİSTE!$A26)","v":""},{"$f":"IF(LİSTE!$A27=0,\"\",LİSTE!$A27)","v":""},{"$f":"IF(LİSTE!$A28=0,\"\",LİSTE!$A28)","v":""},{"$f":"IF(LİSTE!$A29=0,\"\",LİSTE!$A29)","v":""},{"$f":"IF(LİSTE!$A30=0,\"\",LİSTE!$A30)","v":""},{"$f":"IF(LİSTE!$A31=0,\"\",LİSTE!$A31)","v":""},{"$f":"IF(LİSTE!$A32=0,\"\",LİSTE!$A32)","v":""},{"$f":"IF(LİSTE!$A33=0,\"\",LİSTE!$A33)","v":""},{"$f":"IF(LİSTE!$A34=0,\"\",LİSTE!$A34)","v":""},{"$f":"IF(LİSTE!$A35=0,\"\",LİSTE!$A35)","v":""},{"$f":"IF(LİSTE!$A36=0,\"\",LİSTE!$A36)","v":""},{"$f":"IF(LİSTE!$A37=0,\"\",LİSTE!$A37)","v":""},{"$f":"IF(LİSTE!$A38=0,\"\",LİSTE!$A38)","v":""},{"$f":"IF(LİSTE!$A39=0,\"\",LİSTE!$A39)","v":""},{"$f":"IF(LİSTE!$A40=0,\"\",LİSTE!$A40)","v":""},{"$f":"IF(LİSTE!$A41=0,\"\",LİSTE!$A41)","v":""}]
[null,"Öğrenci derse gerekli ön hazırlığı yaparak gelir."]
[null,"Öğrenci öğrenmeye isteklidir."]
[null,"Öğrenci dersi dikkatli bir şekilde dinler."]
[null,"Öğrenci sorulan sorulara uygun ve doğru cevaplar vermeye çalışır."]
[null,"Sınıf içinde yapılan etkinliklere katılmaya isteklidir."]
[null,"Öğrenci ders araç ve gereçlerini gerekli olduğu durumlarda sınıfa getirir."]
[null,"Öğrenci ders araç ve gereçlerini uygun ve doğru şekilde kullanır."]
[null,"Öğrenci ders kapsamında kendisine verilen ödev ve sorumlulukları zamanında yerine getirir."]
[null,"Öğrenci sınıf arkadaşlarına söz verildiğinde onları dinler."]
[null,"TOPLAM PUAN",{"$f":"SUM(C4:C12)","v":0},{"$f":"SUM(D4:D12)","v":0},0,0,0,0,0,0,0,0,0,0,0,0,0,0,0,0,0,0,0,0,0,0,0,0,0,0,0,0,0,0,0,0,0,0,0,{"$f":"SUM(AN4:AN12)","v":0},{"$f":"SUM(AO4:AO12)","v":0}]
[null,"NOT KARŞILIĞI",{"$f":"(C13*100)/36","v":0},{"$f":"(D13*100)/36","v":0},0,0,0,0,0,0,0,0,0,0,0,0,0,0,0,0,0,0,0,0,0,0,0,0,0,0,0,0,0,0,0,0,0,0,0,0,0]
[null,null,null,null,null,null,null,null,null,null,null,null,null,null,null,null,null,null,null,null,null,null,null,null,null,null,null,null,null,null,null,null,null,{"$f":"LİSTE!D5","v":0}]
[null,null,null,null,null,null,null,null,null,null,null,null,null,null,null,null,null,null,null,null,null,null,null,null,null,null,null,null,null,null,null,null,null,{"$f":"CONCATENATE(LİSTE!D6,\" \",\"SINIF ÖĞRETMENİ\")","v":"4- SINIF ÖĞRETMENİ"}]

{"sheet":"O1","index":5,"n_rows":18,"n_cols":41,"rows_kept":18,"cut":false,"hidden":false,"merged":[[0,0,1048575,0],[16,2,16,9],[16,10,16,13],[16,33,16,39],[17,33,17,39]]}
[null,{"$f":"CONCATENATE(\" \",LİSTE!D2,\" \",LİSTE!D3,\"  \",LİSTE!D4,\" \",LİSTE!D6,\" \",\"SINIFI\",\" \",\"BEDEN EĞİTİMİ VE OYUN DERSİ DERS VE ETKİNLİKLERE KATILIM DEĞERLENDİRME FORMU 1 (KAZANIM)\")","v":" 2022-2023 EĞİTİM ÖĞRETİM YILI ATATÜRK İLKOKULU  1.DÖNEM 4- SINIFI BEDEN EĞİTİMİ VE OYUN DERSİ DERS VE ETKİNLİKLERE KATILIM DEĞERLENDİRME FORMU 1 (KAZANIM)"},{"$f":"IF(LİSTE!$B3=0,\"\",LİSTE!$B3)","v":""},{"$f":"IF(LİSTE!$B4=0,\"\",LİSTE!$B4)","v":""},{"$f":"IF(LİSTE!$B5=0,\"\",LİSTE!$B5)","v":""},{"$f":"IF(LİSTE!$B6=0,\"\",LİSTE!$B6)","v":""},{"$f":"IF(LİSTE!$B7=0,\"\",LİSTE!$B7)","v":""},{"$f":"IF(LİSTE!$B8=0,\"\",LİSTE!$B8)","v":""},{"$f":"IF(LİSTE!$B9=0,\"\",LİSTE!$B9)","v":""},{"$f":"IF(LİSTE!$B10=0,\"\",LİSTE!$B10)","v":""},{"$f":"IF(LİSTE!$B11=0,\"\",LİSTE!$B11)","v":""},{"$f":"IF(LİSTE!$B12=0,\"\",LİSTE!$B12)","v":""},{"$f":"IF(LİSTE!$B13=0,\"\",LİSTE!$B13)","v":""},{"$f":"IF(LİSTE!$B14=0,\"\",LİSTE!$B14)","v":""},{"$f":"IF(LİSTE!$B15=0,\"\",LİSTE!$B15)","v":""},{"$f":"IF(LİSTE!$B16=0,\"\",LİSTE!$B16)","v":""},{"$f":"IF(LİSTE!$B17=0,\"\",LİSTE!$B17)","v":""},{"$f":"IF(LİSTE!$B18=0,\"\",LİSTE!$B18)","v":""},{"$f":"IF(LİSTE!$B19=0,\"\",LİSTE!$B19)","v":""},{"$f":"IF(LİSTE!$B20=0,\"\",LİSTE!$B20)","v":""},{"$f":"IF(LİSTE!$B21=0,\"\",LİSTE!$B21)","v":""},{"$f":"IF(LİSTE!$B22=0,\"\",LİSTE!$B22)","v":""},{"$f":"IF(LİSTE!$B23=0,\"\",LİSTE!$B23)","v":""},{"$f":"IF(LİSTE!$B24=0,\"\",LİSTE!$B24)","v":""},{"$f":"IF(LİSTE!$B25=0,\"\",LİSTE!$B25)","v":""},{"$f":"IF(LİSTE!$B26=0,\"\",LİSTE!$B26)","v":""},{"$f":"IF(LİSTE!$B27=0,\"\",LİSTE!$B27)","v":""},{"$f":"IF(LİSTE!$B28=0,\"\",LİSTE!$B28)","v":""},{"$f":"IF(LİSTE!$B29=0,\"\",LİSTE!$B29)","v":""},{"$f":"IF(LİSTE!$B30=0,\"\",LİSTE!$B30)","v":""},{"$f":"IF(LİSTE!$B31=0,\"\",LİSTE!$B31)","v":""},{"$f":"IF(LİSTE!$B32=0,\"\",LİSTE!$B32)","v":""},{"$f":"IF(LİSTE!$B33=0,\"\",LİSTE!$B33)","v":""},{"$f":"IF(LİSTE!$B34=0,\"\",LİSTE!$B34)","v":""},{"$f":"IF(LİSTE!$B35=0,\"\",LİSTE!$B35)","v":""},{"$f":"IF(LİSTE!$B36=0,\"\",LİSTE!$B36)","v":""},{"$f":"IF(LİSTE!$B37=0,\"\",LİSTE!$B37)","v":""},{"$f":"IF(LİSTE!$B38=0,\"\",LİSTE!$B38)","v":""},{"$f":"IF(LİSTE!$B39=0,\"\",LİSTE!$B39)","v":""},{"$f":"IF(LİSTE!$B40=0,\"\",LİSTE!$B40)","v":""},{"$f":"IF(LİSTE!$B41=0,\"\",LİSTE!$B41)","v":""}]
[null,"KAZANIMLAR",{"$f":"IF(LİSTE!$A3=0,\"\",LİSTE!$A3)","v":""},{"$f":"IF(LİSTE!$A4=0,\"\",LİSTE!$A4)","v":""},{"$f":"IF(LİSTE!$A5=0,\"\",LİSTE!$A5)","v":""},{"$f":"IF(LİSTE!$A6=0,\"\",LİSTE!$A6)","v":""},{"$f":"IF(LİSTE!$A7=0,\"\",LİSTE!$A7)","v":""},{"$f":"IF(LİSTE!$A8=0,\"\",LİSTE!$A8)","v":""},{"$f":"IF(LİSTE!$A9=0,\"\",LİSTE!$A9)","v":""},{"$f":"IF(LİSTE!$A10=0,\"\",LİSTE!$A10)","v":""},{"$f":"IF(LİSTE!$A11=0,\"\",LİSTE!$A11)","v":""},{"$f":"IF(LİSTE!$A12=0,\"\",LİSTE!$A12)","v":""},{"$f":"IF(LİSTE!$A13=0,\"\",LİSTE!$A13)","v":""},{"$f":"IF(LİSTE!$A14=0,\"\",LİSTE!$A14)","v":""},{"$f":"IF(LİSTE!$A15=0,\"\",LİSTE!$A15)","v":""},{"$f":"IF(LİSTE!$A16=0,\"\",LİSTE!$A16)","v":""},{"$f":"IF(LİSTE!$A17=0,\"\",LİSTE!$A17)","v":""},{"$f":"IF(LİSTE!$A18=0,\"\",LİSTE!$A18)","v":""},{"$f":"IF(LİSTE!$A19=0,\"\",LİSTE!$A19)","v":""},{"$f":"IF(LİSTE!$A20=0,\"\",LİSTE!$A20)","v":""},{"$f":"IF(LİSTE!$A21=0,\"\",LİSTE!$A21)","v":""},{"$f":"IF(LİSTE!$A22=0,\"\",LİSTE!$A22)","v":""},{"$f":"IF(LİSTE!$A23=0,\"\",LİSTE!$A23)","v":""},{"$f":"IF(LİSTE!$A24=0,\"\",LİSTE!$A24)","v":""},{"$f":"IF(LİSTE!$A25=0,\"\",LİSTE!$A25)","v":""},{"$f":"IF(LİSTE!$A26=0,\"\",LİSTE!$A26)","v":""},{"$f":"IF(LİSTE!$A27=0,\"\",LİSTE!$A27)","v":""},{"$f":"IF(LİSTE!$A28=0,\"\",LİSTE!$A28)","v":""},{"$f":"IF(LİSTE!$A29=0,\"\",LİSTE!$A29)","v":""},{"$f":"IF(LİSTE!$A30=0,\"\",LİSTE!$A30)","v":""},{"$f":"IF(LİSTE!$A31=0,\"\",LİSTE!$A31)","v":""},{"$f":"IF(LİSTE!$A32=0,\"\",LİSTE!$A32)","v":""},{"$f":"IF(LİSTE!$A33=0,\"\",LİSTE!$A33)","v":""},{"$f":"IF(LİSTE!$A34=0,\"\",LİSTE!$A34)","v":""},{"$f":"IF(LİSTE!$A35=0,\"\",LİSTE!$A35)","v":""},{"$f":"IF(LİSTE!$A36=0,\"\",LİSTE!$A36)","v":""},{"$f":"IF(LİSTE!$A37=0,\"\",LİSTE!$A37)","v":""},{"$f":"IF(LİSTE!$A38=0,\"\",LİSTE!$A38)","v":""},{"$f":"IF(LİSTE!$A39=0,\"\",LİSTE!$A39)","v":""},{"$f":"IF(LİSTE!$A40=0,\"\",LİSTE!$A40)","v":""},{"$f":"IF(LİSTE!$A41=0,\"\",LİSTE!$A41)","v":""}]
[null,"O.4.1.1.1. Yer değiştirme hareketlerini artan kuvvet, hız ve çeviklikle yapar."]
[null,"O.4.1.1.2. Oyunlarda dengeleme gerektiren hareketleri etkili kullanır."]
[null,"O.4.2.3.1. Bayram, kutlama ve törenlerde sorumluluk alır."]
[null,"O.4.1.1.3. Oyunlarda nesne kontrolü gerektiren hareketleri etkili kullanır."]
[null,"O.4.1.1.4. Özgün, danslar yapar."]
[null,"O.4.1.1.5. Kurallı takım oyunları oynar."]
[null,"O.4.1.2.1. Hareket becerileri ile ilgili kavramları yerinde kullanır."]
[null,"O.4.1.2.2. Oynadığı oyunların içindeki hareket becerilerini tanımlar."]
[null,"O.4.1.3.1. Çeşitli stratejileri ve taktikleri kullanarak oyunlar tasarlar."]
[null,"O.4.1.3.2. Çeşitli stratejileri ve taktikleri kullanarak tasarladığı oyunları arkadaşlarıyla oynar."]
[null,"O.4.2.2.1. Fiziksel uygunluğunu geliştirecek uygun programlar tasarlar."]
[null,"O.4.2.2.2. Sağlığını korumak için günlük ve haftalık beslenme listesi hazırlar."]
[null,"TOPLAM PUAN",{"$f":"SUM(C3:C14)","v":0},0,0,0,0,0,0,0,0,0,0,0,0,0,0,0,0,0,0,0,0,0,0,0,0,0,0,0,0,0,0,0,0,0,0,0,0,0,0]
[null,"NOT KARŞILIĞI",{"$f":"(C15*100)/48","v":0},{"$f":"(D15*100)/48","v":0},0,0,0,0,0,0,0,0,0,0,0,0,0,0,0,0,0,0,0,0,0,0,0,0,0,0,0,0,0,0,0,0,0,0,0,0,0]
[null,null,null,null,null,null,null,null,null,null,null,null,null,null,null,null,null,null,null,null,null,null,null,null,null,null,null,null,null,null,null,null,null,{"$f":"LİSTE!D5","v":0}]
[null,null,null,null,null,null,null,null,null,null,null,null,null,null,null,null,null,null,null,null,null,null,null,null,null,null,null,null,null,null,null,null,null,{"$f":"CONCATENATE(LİSTE!D6,\" \",\"SINIF ÖĞRETMENİ\")","v":"4- SINIF ÖĞRETMENİ"}]

{"sheet":"O2","index":6,"n_rows":15,"n_cols":41,"rows_kept":15,"cut":false,"hidden":false,"merged":[[13,2,13,9],[13,10,13,13],[13,33,13,39],[14,33,14,39]]}
[null,null,{"$f":"C13","v":87.5},{"$f":"D13","v":100},93.75,84.375,87.5,84.375,84.375,100,90.625,93.75,93.75,87.5,87.5,87.5,93.75,87.5,0,0,0,0,0,0,0,0,0,0,0,0,0,0,0,0,0,0,0,0,0,0,0]
[null,{"$f":"CONCATENATE(\" \",LİSTE!D2,\" \",LİSTE!D3,\"  \",LİSTE!D4,\" \",LİSTE!D6,\" \",\"SINIFI\",\" \",\"BEDEN EĞİTİMİ VE OYUN DERSİ DERS VE ETKİNLİKLERE KATILIM DEĞERLENDİRME FORMU 2\")","v":" 2022-2023 EĞİTİM ÖĞRETİM YILI ATATÜRK İLKOKULU  1.DÖNEM 4- SINIFI BEDEN EĞİTİMİ VE OYUN DERSİ DERS VE ETKİNLİKLERE KATILIM DEĞERLENDİRME FORMU 2"},{"$f":"IF(LİSTE!$B3=0,\"\",LİSTE!$B3)","v":""},{"$f":"IF(LİSTE!$B4=0,\"\",LİSTE!$B4)","v":""},{"$f":"IF(LİSTE!$B5=0,\"\",LİSTE!$B5)","v":""},{"$f":"IF(LİSTE!$B6=0,\"\",LİSTE!$B6)","v":""},{"$f":"IF(LİSTE!$B7=0,\"\",LİSTE!$B7)","v":""},{"$f":"IF(LİSTE!$B8=0,\"\",LİSTE!$B8)","v":""},{"$f":"IF(LİSTE!$B9=0,\"\",LİSTE!$B9)","v":""},{"$f":"IF(LİSTE!$B10=0,\"\",LİSTE!$B10)","v":""},{"$f":"IF(LİSTE!$B11=0,\"\",LİSTE!$B11)","v":""},{"$f":"IF(LİSTE!$B12=0,\"\",LİSTE!$B12)","v":""},{"$f":"IF(LİSTE!$B13=0,\"\",LİSTE!$B13)","v":""},{"$f":"IF(LİSTE!$B14=0,\"\",LİSTE!$B14)","v":""},{"$f":"IF(LİSTE!$B15=0,\"\",LİSTE!$B15)","v":""},{"$f":"IF(LİSTE!$B16=0,\"\",LİSTE!$B16)","v":""},{"$f":"IF(LİSTE!$B17=0,\"\",LİSTE!$B17)","v":""},{"$f":"IF(LİSTE!$B18=0,\"\",LİSTE!$B18)","v":""},{"$f":"IF(LİSTE!$B19=0,\"\",LİSTE!$B19)","v":""},{"$f":"IF(LİSTE!$B20=0,\"\",LİSTE!$B20)","v":""},{"$f":"IF(LİSTE!$B21=0,\"\",LİSTE!$B21)","v":""},{"$f":"IF(LİSTE!$B22=0,\"\",LİSTE!$B22)","v":""},{"$f":"IF(LİSTE!$B23=0,\"\",LİSTE!$B23)","v":""},{"$f":"IF(LİSTE!$B24=0,\"\",LİSTE!$B24)","v":""},{"$f":"IF(LİSTE!$B25=0,\"\",LİSTE!$B25)","v":""},{"$f":"IF(LİSTE!$B26=0,\"\",LİSTE!$B26)","v":""},{"$f":"IF(LİSTE!$B27=0,\"\",LİSTE!$B27)","v":""},{"$f":"IF(LİSTE!$B28=0,\"\",LİSTE!$B28)","v":""},{"$f":"IF(LİSTE!$B29=0,\"\",LİSTE!$B29)","v":""},{"$f":"IF(LİSTE!$B30=0,\"\",LİSTE!$B30)","v":""},{"$f":"IF(LİSTE!$B31=0,\"\",LİSTE!$B31)","v":""},{"$f":"IF(LİSTE!$B32=0,\"\",LİSTE!$B32)","v":""},{"$f":"IF(LİSTE!$B33=0,\"\",LİSTE!$B33)","v":""},{"$f":"IF(LİSTE!$B34=0,\"\",LİSTE!$B34)","v":""},{"$f":"IF(LİSTE!$B35=0,\"\",LİSTE!$B35)","v":""},{"$f":"IF(LİSTE!$B36=0,\"\",LİSTE!$B36)","v":""},{"$f":"IF(LİSTE!$B37=0,\"\",LİSTE!$B37)","v":""},{"$f":"IF(LİSTE!$B38=0,\"\",LİSTE!$B38)","v":""},{"$f":"IF(LİSTE!$B39=0,\"\",LİSTE!$B39)","v":""},{"$f":"IF(LİSTE!$B40=0,\"\",LİSTE!$B40)","v":""},{"$f":"IF(LİSTE!$B41=0,\"\",LİSTE!$B41)","v":""}]
[null,"KAZANIMLAR",{"$f":"IF(LİSTE!$A3=0,\"\",LİSTE!$A3)","v":""},{"$f":"IF(LİSTE!$A4=0,\"\",LİSTE!$A4)","v":""},{"$f":"IF(LİSTE!$A5=0,\"\",LİSTE!$A5)","v":""},{"$f":"IF(LİSTE!$A6=0,\"\",LİSTE!$A6)","v":""},{"$f":"IF(LİSTE!$A7=0,\"\",LİSTE!$A7)","v":""},{"$f":"IF(LİSTE!$A8=0,\"\",LİSTE!$A8)","v":""},{"$f":"IF(LİSTE!$A9=0,\"\",LİSTE!$A9)","v":""},{"$f":"IF(LİSTE!$A10=0,\"\",LİSTE!$A10)","v":""},{"$f":"IF(LİSTE!$A11=0,\"\",LİSTE!$A11)","v":""},{"$f":"IF(LİSTE!$A12=0,\"\",LİSTE!$A12)","v":""},{"$f":"IF(LİSTE!$A13=0,\"\",LİSTE!$A13)","v":""},{"$f":"IF(LİSTE!$A14=0,\"\",LİSTE!$A14)","v":""},{"$f":"IF(LİSTE!$A15=0,\"\",LİSTE!$A15)","v":""},{"$f":"IF(LİSTE!$A16=0,\"\",LİSTE!$A16)","v":""},{"$f":"IF(LİSTE!$A17=0,\"\",LİSTE!$A17)","v":""},{"$f":"IF(LİSTE!$A18=0,\"\",LİSTE!$A18)","v":""},{"$f":"IF(LİSTE!$A19=0,\"\",LİSTE!$A19)","v":""},{"$f":"IF(LİSTE!$A20=0,\"\",LİSTE!$A20)","v":""},{"$f":"IF(LİSTE!$A21=0,\"\",LİSTE!$A21)","v":""},{"$f":"IF(LİSTE!$A22=0,\"\",LİSTE!$A22)","v":""},{"$f":"IF(LİSTE!$A23=0,\"\",LİSTE!$A23)","v":""},{"$f":"IF(LİSTE!$A24=0,\"\",LİSTE!$A24)","v":""},{"$f":"IF(LİSTE!$A25=0,\"\",LİSTE!$A25)","v":""},{"$f":"IF(LİSTE!$A26=0,\"\",LİSTE!$A26)","v":""},{"$f":"IF(LİSTE!$A27=0,\"\",LİSTE!$A27)","v":""},{"$f":"IF(LİSTE!$A28=0,\"\",LİSTE!$A28)","v":""},{"$f":"IF(LİSTE!$A29=0,\"\",LİSTE!$A29)","v":""},{"$f":"IF(LİSTE!$A30=0,\"\",LİSTE!$A30)","v":""},{"$f":"IF(LİSTE!$A31=0,\"\",LİSTE!$A31)","v":""},{"$f":"IF(LİSTE!$A32=0,\"\",LİSTE!$A32)","v":""},{"$f":"IF(LİSTE!$A33=0,\"\",LİSTE!$A33)","v":""},{"$f":"IF(LİSTE!$A34=0,\"\",LİSTE!$A34)","v":""},{"$f":"IF(LİSTE!$A35=0,\"\",LİSTE!$A35)","v":""},{"$f":"IF(LİSTE!$A36=0,\"\",LİSTE!$A36)","v":""},{"$f":"IF(LİSTE!$A37=0,\"\",LİSTE!$A37)","v":""},{"$f":"IF(LİSTE!$A38=0,\"\",LİSTE!$A38)","v":""},{"$f":"IF(LİSTE!$A39=0,\"\",LİSTE!$A39)","v":""},{"$f":"IF(LİSTE!$A40=0,\"\",LİSTE!$A40)","v":""},{"$f":"IF(LİSTE!$A41=0,\"\",LİSTE!$A41)","v":""}]
[null,"Derse katılımda istekli ve aktif olma",3,4,4,4,4,4,4,4,3,3,4,3,4,4,4,3]
[null,"Arkadaşları ile birlikte oyun oynamaya istekli olma",3,4,4,3,3,3,3,4,3,4,4,3,3,3,4,3]
[null,"Oyun kurallarına uyma",4,4,3,3,4,3,3,4,4,4,3,4,3,4,4,4]
[null,"Sorumluluk alma",3,4,4,3,3,3,3,4,3,3,4,3,4,3,4,3]
[null,"Etkinlik esnasında öfkesine hâkim olma",4,4,3,3,4,3,4,4,4,4,3,4,3,4,3,4]
[null,"Özgüveni olma",3,4,4,4,3,4,3,4,4,4,4,3,4,3,4,3]
[null," Bireysel ve eşli olarak ritmik hareketler yapma",4,4,4,4,3,4,3,4,4,4,4,4,4,3,4,4]
[null,"Oyunda kazanan arkadaşını veya grubu kutlama",4,4,4,3,4,3,4,4,4,4,4,4,3,4,3,4]
[null,"TOPLAM PUAN",{"$f":"SUM(C4:C11)","v":28},32,30,27,28,27,27,32,29,30,30,28,28,28,30,28,0,0,0,0,0,0,0,0,0,0,0,0,0,0,0,0,0,0,0,0,0,0,0]
[null,"NOT KARŞILIĞI",{"$f":"(C12*100)/32","v":87.5},{"$f":"(D12*100)/32","v":100},93.75,84.375,87.5,84.375,84.375,100,90.625,93.75,93.75,87.5,87.5,87.5,93.75,87.5,0,0,0,0,0,0,0,0,0,0,0,0,0,0,0,0,0,0,0,0,0,0,0]
[null,null,null,null,null,null,null,null,null,null,null,null,null,null,null,null,null,null,null,null,null,null,null,null,null,null,null,null,null,null,null,null,null,{"$f":"LİSTE!D5","v":0}]
[null,null,null,null,null,null,null,null,null,null,null,null,null,null,null,null,null,null,null,null,null,null,null,null,null,null,null,null,null,null,null,null,null,{"$f":"CONCATENATE(LİSTE!D6,\" \",\"SINIF ÖĞRETMENİ\")","v":"4- SINIF ÖĞRETMENİ"}]

{"sheet":"G1","index":7,"n_rows":15,"n_cols":41,"rows_kept":15,"cut":false,"hidden":false,"merged":[[13,2,13,9],[13,10,13,13],[13,33,13,39],[14,33,14,39]]}
[null,null,{"$f":"C13","v":0},{"$f":"D13","v":0},0,0,0,0,0,0,0,0,0,0,0,0,0,0,0,0,0,0,0,0,0,0,0,0,0,0,0,0,0,0,0,0,0,0,0,0,0]
[null,{"$f":"CONCATENATE(\" \",LİSTE!D2,\" \",LİSTE!D3,\"  \",LİSTE!D4,\" \",LİSTE!D6,\" \",\"SINIFI\",\" \",\"GÖRSEL SANATLAR DERS VE ETKİNLİKLERE KATILIM DEĞERLENDİRME FORMU 1 (KAZANIM)\")","v":" 2022-2023 EĞİTİM ÖĞRETİM YILI ATATÜRK İLKOKULU  1.DÖNEM 4- SINIFI GÖRSEL SANATLAR DERS VE ETKİNLİKLERE KATILIM DEĞERLENDİRME FORMU 1 (KAZANIM)"},{"$f":"IF(LİSTE!$B3=0,\"\",LİSTE!$B3)","v":""},{"$f":"IF(LİSTE!$B4=0,\"\",LİSTE!$B4)","v":""},{"$f":"IF(LİSTE!$B5=0,\"\",LİSTE!$B5)","v":""},{"$f":"IF(LİSTE!$B6=0,\"\",LİSTE!$B6)","v":""},{"$f":"IF(LİSTE!$B7=0,\"\",LİSTE!$B7)","v":""},{"$f":"IF(LİSTE!$B8=0,\"\",LİSTE!$B8)","v":""},{"$f":"IF(LİSTE!$B9=0,\"\",LİSTE!$B9)","v":""},{"$f":"IF(LİSTE!$B10=0,\"\",LİSTE!$B10)","v":""},{"$f":"IF(LİSTE!$B11=0,\"\",LİSTE!$B11)","v":""},{"$f":"IF(LİSTE!$B12=0,\"\",LİSTE!$B12)","v":""},{"$f":"IF(LİSTE!$B13=0,\"\",LİSTE!$B13)","v":""},{"$f":"IF(LİSTE!$B14=0,\"\",LİSTE!$B14)","v":""},{"$f":"IF(LİSTE!$B15=0,\"\",LİSTE!$B15)","v":""},{"$f":"IF(LİSTE!$B16=0,\"\",LİSTE!$B16)","v":""},{"$f":"IF(LİSTE!$B17=0,\"\",LİSTE!$B17)","v":""},{"$f":"IF(LİSTE!$B18=0,\"\",LİSTE!$B18)","v":""},{"$f":"IF(LİSTE!$B19=0,\"\",LİSTE!$B19)","v":""},{"$f":"IF(LİSTE!$B20=0,\"\",LİSTE!$B20)","v":""},{"$f":"IF(LİSTE!$B21=0,\"\",LİSTE!$B21)","v":""},{"$f":"IF(LİSTE!$B22=0,\"\",LİSTE!$B22)","v":""},{"$f":"IF(LİSTE!$B23=0,\"\",LİSTE!$B23)","v":""},{"$f":"IF(LİSTE!$B24=0,\"\",LİSTE!$B24)","v":""},{"$f":"IF(LİSTE!$B25=0,\"\",LİSTE!$B25)","v":""},{"$f":"IF(LİSTE!$B26=0,\"\",LİSTE!$B26)","v":""},{"$f":"IF(LİSTE!$B27=0,\"\",LİSTE!$B27)","v":""},{"$f":"IF(LİSTE!$B28=0,\"\",LİSTE!$B28)","v":""},{"$f":"IF(LİSTE!$B29=0,\"\",LİSTE!$B29)","v":""},{"$f":"IF(LİSTE!$B30=0,\"\",LİSTE!$B30)","v":""},{"$f":"IF(LİSTE!$B31=0,\"\",LİSTE!$B31)","v":""},{"$f":"IF(LİSTE!$B32=0,\"\",LİSTE!$B32)","v":""},{"$f":"IF(LİSTE!$B33=0,\"\",LİSTE!$B33)","v":""},{"$f":"IF(LİSTE!$B34=0,\"\",LİSTE!$B34)","v":""},{"$f":"IF(LİSTE!$B35=0,\"\",LİSTE!$B35)","v":""},{"$f":"IF(LİSTE!$B36=0,\"\",LİSTE!$B36)","v":""},{"$f":"IF(LİSTE!$B37=0,\"\",LİSTE!$B37)","v":""},{"$f":"IF(LİSTE!$B38=0,\"\",LİSTE!$B38)","v":""},{"$f":"IF(LİSTE!$B39=0,\"\",LİSTE!$B39)","v":""},{"$f":"IF(LİSTE!$B40=0,\"\",LİSTE!$B40)","v":""},{"$f":"IF(LİSTE!$B41=0,\"\",LİSTE!$B41)","v":""}]
[null,"KAZANIMLAR",{"$f":"IF(LİSTE!$A3=0,\"\",LİSTE!$A3)","v":""},{"$f":"IF(LİSTE!$A4=0,\"\",LİSTE!$A4)","v":""},{"$f":"IF(LİSTE!$A5=0,\"\",LİSTE!$A5)","v":""},{"$f":"IF(LİSTE!$A6=0,\"\",LİSTE!$A6)","v":""},{"$f":"IF(LİSTE!$A7=0,\"\",LİSTE!$A7)","v":""},{"$f":"IF(LİSTE!$A8=0,\"\",LİSTE!$A8)","v":""},{"$f":"IF(LİSTE!$A9=0,\"\",LİSTE!$A9)","v":""},{"$f":"IF(LİSTE!$A10=0,\"\",LİSTE!$A10)","v":""},{"$f":"IF(LİSTE!$A11=0,\"\",LİSTE!$A11)","v":""},{"$f":"IF(LİSTE!$A12=0,\"\",LİSTE!$A12)","v":""},{"$f":"IF(LİSTE!$A13=0,\"\",LİSTE!$A13)","v":""},{"$f":"IF(LİSTE!$A14=0,\"\",LİSTE!$A14)","v":""},{"$f":"IF(LİSTE!$A15=0,\"\",LİSTE!$A15)","v":""},{"$f":"IF(LİSTE!$A16=0,\"\",LİSTE!$A16)","v":""},{"$f":"IF(LİSTE!$A17=0,\"\",LİSTE!$A17)","v":""},{"$f":"IF(LİSTE!$A18=0,\"\",LİSTE!$A18)","v":""},{"$f":"IF(LİSTE!$A19=0,\"\",LİSTE!$A19)","v":""},{"$f":"IF(LİSTE!$A20=0,\"\",LİSTE!$A20)","v":""},{"$f":"IF(LİSTE!$A21=0,\"\",LİSTE!$A21)","v":""},{"$f":"IF(LİSTE!$A22=0,\"\",LİSTE!$A22)","v":""},{"$f":"IF(LİSTE!$A23=0,\"\",LİSTE!$A23)","v":""},{"$f":"IF(LİSTE!$A24=0,\"\",LİSTE!$A24)","v":""},{"$f":"IF(LİSTE!$A25=0,\"\",LİSTE!$A25)","v":""},{"$f":"IF(LİSTE!$A26=0,\"\",LİSTE!$A26)","v":""},{"$f":"IF(LİSTE!$A27=0,\"\",LİSTE!$A27)","v":""},{"$f":"IF(LİSTE!$A28=0,\"\",LİSTE!$A28)","v":""},{"$f":"IF(LİSTE!$A29=0,\"\",LİSTE!$A29)","v":""},{"$f":"IF(LİSTE!$A30=0,\"\",LİSTE!$A30)","v":""},{"$f":"IF(LİSTE!$A31=0,\"\",LİSTE!$A31)","v":""},{"$f":"IF(LİSTE!$A32=0,\"\",LİSTE!$A32)","v":""},{"$f":"IF(LİSTE!$A33=0,\"\",LİSTE!$A33)","v":""},{"$f":"IF(LİSTE!$A34=0,\"\",LİSTE!$A34)","v":""},{"$f":"IF(LİSTE!$A35=0,\"\",LİSTE!$A35)","v":""},{"$f":"IF(LİSTE!$A36=0,\"\",LİSTE!$A36)","v":""},{"$f":"IF(LİSTE!$A37=0,\"\",LİSTE!$A37)","v":""},{"$f":"IF(LİSTE!$A38=0,\"\",LİSTE!$A38)","v":""},{"$f":"IF(LİSTE!$A39=0,\"\",LİSTE!$A39)","v":""},{"$f":"IF(LİSTE!$A40=0,\"\",LİSTE!$A40)","v":""},{"$f":"IF(LİSTE!$A41=0,\"\",LİSTE!$A41)","v":""}]
[null,"G.4.1.1. Görsel sanat çalışmasını oluştururken biçimlendirme basamaklarını kullanır."]
[null,"G.4.1.2. Deneyimlerini farklı fikirler, sanat formları ve kültürel temalarla ilişkilendirerek görsel sanat çalışması oluşturur."]
[null,"G.4.1.3. Görsel sanat çalışmasında kompozisyon birliğini oluşturmak için seçimler yapar."]
[null,"G.4.1.2. Deneyimlerini farklı fikirler, sanat formları ve kültürel temalarla ilişkilendirerek görsel sanat çalışması oluşturur."]
[null,"G.4.1.4. İki boyutlu yüzey üzerinde derinlik etkisi oluşturur."]
[null,"G.4.1.5. Gözleme dayalı çizimlerinde kontur çizgisini ve gölgeleme tekniklerini kullanır."]
[null,"G.4.1.6. Farklı materyalleri kullanarak üç boyutlu çalışmalar yapar."]
[null,"G.4.1.7. Görsel sanat çalışmalarını oluştururken sanat elemanları ve tasarım ilkelerini kullanır."]
[null,"TOPLAM PUAN",{"$f":"SUM(C4:C11)","v":0},0,0,0,0,0,0,0,0,0,0,0,0,0,0,0,0,0,0,0,0,0,0,0,0,0,0,0,0,0,0,0,0,0,0,0,0,0,0]
[null,"NOT KARŞILIĞI",{"$f":"(C12*100)/32","v":0},{"$f":"(D12*100)/32","v":0},0,0,0,0,0,0,0,0,0,0,0,0,0,0,0,0,0,0,0,0,0,0,0,0,0,0,0,0,0,0,0,0,0,0,0,0,0]
[null,null,null,null,null,null,null,null,null,null,null,null,null,null,null,null,null,null,null,null,null,null,null,null,null,null,null,null,null,null,null,null,null,{"$f":"LİSTE!D5","v":0}]
[null,null,null,null,null,null,null,null,null,null,null,null,null,null,null,null,null,null,null,null,null,null,null,null,null,null,null,null,null,null,null,null,null,{"$f":"CONCATENATE(LİSTE!D6,\" \",\"SINIF ÖĞRETMENİ\")","v":"4- SINIF ÖĞRETMENİ"}]

{"sheet":"G2","index":8,"n_rows":17,"n_cols":41,"rows_kept":17,"cut":false,"hidden":false,"merged":[[15,2,15,9],[15,10,15,13],[15,33,15,39],[16,33,16,39]]}
[null,null,{"$f":"C15","v":0},{"$f":"D15","v":0},0,0,0,0,0,0,0,0,0,0,0,0,0,0,0,0,0,0,0,0,0,0,0,0,0,0,0,0,0,0,0,0,0,0,0,0,0]
[null,{"$f":"CONCATENATE(\" \",LİSTE!D2,\" \",LİSTE!D3,\"  \",LİSTE!D4,\" \",LİSTE!D6,\" \",\"SINIFI\",\" \",\"GÖRSEL SANATLAR DERSİ DERS VE ETKİNLİKLERE KATILIM DEĞERLENDİRME FORMU 2\")","v":" 2022-2023 EĞİTİM ÖĞRETİM YILI ATATÜRK İLKOKULU  1.DÖNEM 4- SINIFI GÖRSEL SANATLAR DERSİ DERS VE ETKİNLİKLERE KATILIM DEĞERLENDİRME FORMU 2"},{"$f":"IF(LİSTE!$B3=0,\"\",LİSTE!$B3)","v":""},{"$f":"IF(LİSTE!$B4=0,\"\",LİSTE!$B4)","v":""},{"$f":"IF(LİSTE!$B5=0,\"\",LİSTE!$B5)","v":""},{"$f":"IF(LİSTE!$B6=0,\"\",LİSTE!$B6)","v":""},{"$f":"IF(LİSTE!$B7=0,\"\",LİSTE!$B7)","v":""},{"$f":"IF(LİSTE!$B8=0,\"\",LİSTE!$B8)","v":""},{"$f":"IF(LİSTE!$B9=0,\"\",LİSTE!$B9)","v":""},{"$f":"IF(LİSTE!$B10=0,\"\",LİSTE!$B10)","v":""},{"$f":"IF(LİSTE!$B11=0,\"\",LİSTE!$B11)","v":""},{"$f":"IF(LİSTE!$B12=0,\"\",LİSTE!$B12)","v":""},{"$f":"IF(LİSTE!$B13=0,\"\",LİSTE!$B13)","v":""},{"$f":"IF(LİSTE!$B14=0,\"\",LİSTE!$B14)","v":""},{"$f":"IF(LİSTE!$B15=0,\"\",LİSTE!$B15)","v":""},{"$f":"IF(LİSTE!$B16=0,\"\",LİSTE!$B16)","v":""},{"$f":"IF(LİSTE!$B17=0,\"\",LİSTE!$B17)","v":""},{"$f":"IF(LİSTE!$B18=0,\"\",LİSTE!$B18)","v":""},{"$f":"IF(LİSTE!$B19=0,\"\",LİSTE!$B19)","v":""},{"$f":"IF(LİSTE!$B20=0,\"\",LİSTE!$B20)","v":""},{"$f":"IF(LİSTE!$B21=0,\"\",LİSTE!$B21)","v":""},{"$f":"IF(LİSTE!$B22=0,\"\",LİSTE!$B22)","v":""},{"$f":"IF(LİSTE!$B23=0,\"\",LİSTE!$B23)","v":""},{"$f":"IF(LİSTE!$B24=0,\"\",LİSTE!$B24)","v":""},{"$f":"IF(LİSTE!$B25=0,\"\",LİSTE!$B25)","v":""},{"$f":"IF(LİSTE!$B26=0,\"\",LİSTE!$B26)","v":""},{"$f":"IF(LİSTE!$B27=0,\"\",LİSTE!$B27)","v":""},{"$f":"IF(LİSTE!$B28=0,\"\",LİSTE!$B28)","v":""},{"$f":"IF(LİSTE!$B29=0,\"\",LİSTE!$B29)","v":""},{"$f":"IF(LİSTE!$B30=0,\"\",LİSTE!$B30)","v":""},{"$f":"IF(LİSTE!$B31=0,\"\",LİSTE!$B31)","v":""},{"$f":"IF(LİSTE!$B32=0,\"\",LİSTE!$B32)","v":""},{"$f":"IF(LİSTE!$B33=0,\"\",LİSTE!$B33)","v":""},{"$f":"IF(LİSTE!$B34=0,\"\",LİSTE!$B34)","v":""},{"$f":"IF(LİSTE!$B35=0,\"\",LİSTE!$B35)","v":""},{"$f":"IF(LİSTE!$B36=0,\"\",LİSTE!$B36)","v":""},{"$f":"IF(LİSTE!$B37=0,\"\",LİSTE!$B37)","v":""},{"$f":"IF(LİSTE!$B38=0,\"\",LİSTE!$B38)","v":""},{"$f":"IF(LİSTE!$B39=0,\"\",LİSTE!$B39)","v":""},{"$f":"IF(LİSTE!$B40=0,\"\",LİSTE!$B40)","v":""},{"$f":"IF(LİSTE!$B41=0,\"\",LİSTE!$B41)","v":""}]
[null,"KAZANIMLAR",{"$f":"IF(LİSTE!$A3=0,\"\",LİSTE!$A3)","v":""},{"$f":"IF(LİSTE!$A4=0,\"\",LİSTE!$A4)","v":""},{"$f":"IF(LİSTE!$A5=0,\"\",LİSTE!$A5)","v":""},{"$f":"IF(LİSTE!$A6=0,\"\",LİSTE!$A6)","v":""},{"$f":"IF(LİSTE!$A7=0,\"\",LİSTE!$A7)","v":""},{"$f":"IF(LİSTE!$A8=0,\"\",LİSTE!$A8)","v":""},{"$f":"IF(LİSTE!$A9=0,\"\",LİSTE!$A9)","v":""},{"$f":"IF(LİSTE!$A10=0,\"\",LİSTE!$A10)","v":""},{"$f":"IF(LİSTE!$A11=0,\"\",LİSTE!$A11)","v":""},{"$f":"IF(LİSTE!$A12=0,\"\",LİSTE!$A12)","v":""},{"$f":"IF(LİSTE!$A13=0,\"\",LİSTE!$A13)","v":""},{"$f":"IF(LİSTE!$A14=0,\"\",LİSTE!$A14)","v":""},{"$f":"IF(LİSTE!$A15=0,\"\",LİSTE!$A15)","v":""},{"$f":"IF(LİSTE!$A16=0,\"\",LİSTE!$A16)","v":""},{"$f":"IF(LİSTE!$A17=0,\"\",LİSTE!$A17)","v":""},{"$f":"IF(LİSTE!$A18=0,\"\",LİSTE!$A18)","v":""},{"$f":"IF(LİSTE!$A19=0,\"\",LİSTE!$A19)","v":""},{"$f":"IF(LİSTE!$A20=0,\"\",LİSTE!$A20)","v":""},{"$f":"IF(LİSTE!$A21=0,\"\",LİSTE!$A21)","v":""},{"$f":"IF(LİSTE!$A22=0,\"\",LİSTE!$A22)","v":""},{"$f":"IF(LİSTE!$A23=0,\"\",LİSTE!$A23)","v":""},{"$f":"IF(LİSTE!$A24=0,\"\",LİSTE!$A24)","v":""},{"$f":"IF(LİSTE!$A25=0,\"\",LİSTE!$A25)","v":""},{"$f":"IF(LİSTE!$A26=0,\"\",LİSTE!$A26)","v":""},{"$f":"IF(LİSTE!$A27=0,\"\",LİSTE!$A27)","v":""},{"$f":"IF(LİSTE!$A28=0,\"\",LİSTE!$A28)","v":""},{"$f":"IF(LİSTE!$A29=0,\"\",LİSTE!$A29)","v":""},{"$f":"IF(LİSTE!$A30=0,\"\",LİSTE!$A30)","v":""},{"$f":"IF(LİSTE!$A31=0,\"\",LİSTE!$A31)","v":""},{"$f":"IF(LİSTE!$A32=0,\"\",LİSTE!$A32)","v":""},{"$f":"IF(LİSTE!$A33=0,\"\",LİSTE!$A33)","v":""},{"$f":"IF(LİSTE!$A34=0,\"\",LİSTE!$A34)","v":""},{"$f":"IF(LİSTE!$A35=0,\"\",LİSTE!$A35)","v":""},{"$f":"IF(LİSTE!$A36=0,\"\",LİSTE!$A36)","v":""},{"$f":"IF(LİSTE!$A37=0,\"\",LİSTE!$A37)","v":""},{"$f":"IF(LİSTE!$A38=0,\"\",LİSTE!$A38)","v":""},{"$f":"IF(LİSTE!$A39=0,\"\",LİSTE!$A39)","v":""},{"$f":"IF(LİSTE!$A40=0,\"\",LİSTE!$A40)","v":""},{"$f":"IF(LİSTE!$A41=0,\"\",LİSTE!$A41)","v":""}]
[null,"Derslere ön hazırlık yaparak gelir. "]
[null,"Konulara uygun malzeme getirir."]
[null,"Malzemeleri konuya uygun olarak ve israf etmeden kullanır."]
[null,"Farkılı yöntem ve teknikleri dener."]
[null,"Temiz ve düzenli çalışır."]
[null,"Konulara uygun ürünler çıkarır."]
[null,"İş bitiminde ortamı temiz ve düzenli bırakır."]
[null,"Arkadaşlarının çalışmalarına saygı duyar."]
[null,"Derslere ve tartışmalara istekle katılır."]
[null,"Zamanı verimli kullanır."]
[null,"TOPLAM PUAN",{"$f":"SUM(C4:C13)","v":0},0,0,0,0,0,0,0,0,0,0,0,0,0,0,0,0,0,0,0,0,0,0,0,0,0,0,0,0,0,0,0,0,0,0,0,0,0,0]
[null,"NOT KARŞILIĞI",{"$f":"(C14*100)/40","v":0},{"$f":"(D14*100)/40","v":0},0,0,0,0,0,0,0,0,0,0,0,0,0,0,0,0,0,0,0,0,0,0,0,0,0,0,0,0,0,0,0,0,0,0,0,0,0]
[null,null,null,null,null,null,null,null,null,null,null,null,null,null,null,null,null,null,null,null,null,null,null,null,null,null,null,null,null,null,null,null,null,{"$f":"LİSTE!D5","v":0}]
[null,null,null,null,null,null,null,null,null,null,null,null,null,null,null,null,null,null,null,null,null,null,null,null,null,null,null,null,null,null,null,null,null,{"$f":"CONCATENATE(LİSTE!D6,\" \",\"SINIF ÖĞRETMENİ\")","v":"4- SINIF ÖĞRETMENİ"}]

{"sheet":"G3","index":9,"n_rows":14,"n_cols":41,"rows_kept":14,"cut":false,"hidden":false,"merged":[[12,2,12,9],[12,10,12,13],[12,33,12,39],[13,33,13,39]]}
[null,null,{"$f":"C12","v":0},{"$f":"D12","v":0},0,0,0,0,0,0,0,0,0,0,0,0,0,0,0,0,0,0,0,0,0,0,0,0,0,0,0,0,0,0,0,0,0,0,0,0,0]
[null,{"$f":"CONCATENATE(\" \",LİSTE!D2,\" \",LİSTE!D3,\"  \",LİSTE!D4,\" \",LİSTE!D6,\"\",\"SINIFI\",\" \",\"GÖRSEL SANATLAR DERSİ ÜRÜN DOSYASI DEĞERLENDİRME FORMU 3\")","v":" 2022-2023 EĞİTİM ÖĞRETİM YILI ATATÜRK İLKOKULU  1.DÖNEM 4-SINIFI GÖRSEL SANATLAR DERSİ ÜRÜN DOSYASI DEĞERLENDİRME FORMU 3"},{"$f":"IF(LİSTE!$B3=0,\"\",LİSTE!$B3)","v":""},{"$f":"IF(LİSTE!$B4=0,\"\",LİSTE!$B4)","v":""},{"$f":"IF(LİSTE!$B5=0,\"\",LİSTE!$B5)","v":""},{"$f":"IF(LİSTE!$B6=0,\"\",LİSTE!$B6)","v":""},{"$f":"IF(LİSTE!$B7=0,\"\",LİSTE!$B7)","v":""},{"$f":"IF(LİSTE!$B8=0,\"\",LİSTE!$B8)","v":""},{"$f":"IF(LİSTE!$B9=0,\"\",LİSTE!$B9)","v":""},{"$f":"IF(LİSTE!$B10=0,\"\",LİSTE!$B10)","v":""},{"$f":"IF(LİSTE!$B11=0,\"\",LİSTE!$B11)","v":""},{"$f":"IF(LİSTE!$B12=0,\"\",LİSTE!$B12)","v":""},{"$f":"IF(LİSTE!$B13=0,\"\",LİSTE!$B13)","v":""},{"$f":"IF(LİSTE!$B14=0,\"\",LİSTE!$B14)","v":""},{"$f":"IF(LİSTE!$B15=0,\"\",LİSTE!$B15)","v":""},{"$f":"IF(LİSTE!$B16=0,\"\",LİSTE!$B16)","v":""},{"$f":"IF(LİSTE!$B17=0,\"\",LİSTE!$B17)","v":""},{"$f":"IF(LİSTE!$B18=0,\"\",LİSTE!$B18)","v":""},{"$f":"IF(LİSTE!$B19=0,\"\",LİSTE!$B19)","v":""},{"$f":"IF(LİSTE!$B20=0,\"\",LİSTE!$B20)","v":""},{"$f":"IF(LİSTE!$B21=0,\"\",LİSTE!$B21)","v":""},{"$f":"IF(LİSTE!$B22=0,\"\",LİSTE!$B22)","v":""},{"$f":"IF(LİSTE!$B23=0,\"\",LİSTE!$B23)","v":""},{"$f":"IF(LİSTE!$B24=0,\"\",LİSTE!$B24)","v":""},{"$f":"IF(LİSTE!$B25=0,\"\",LİSTE!$B25)","v":""},{"$f":"IF(LİSTE!$B26=0,\"\",LİSTE!$B26)","v":""},{"$f":"IF(LİSTE!$B27=0,\"\",LİSTE!$B27)","v":""},{"$f":"IF(LİSTE!$B28=0,\"\",LİSTE!$B28)","v":""},{"$f":"IF(LİSTE!$B29=0,\"\",LİSTE!$B29)","v":""},{"$f":"IF(LİSTE!$B30=0,\"\",LİSTE!$B30)","v":""},{"$f":"IF(LİSTE!$B31=0,\"\",LİSTE!$B31)","v":""},{"$f":"IF(LİSTE!$B32=0,\"\",LİSTE!$B32)","v":""},{"$f":"IF(LİSTE!$B33=0,\"\",LİSTE!$B33)","v":""},{"$f":"IF(LİSTE!$B34=0,\"\",LİSTE!$B34)","v":""},{"$f":"IF(LİSTE!$B35=0,\"\",LİSTE!$B35)","v":""},{"$f":"IF(LİSTE!$B36=0,\"\",LİSTE!$B36)","v":""},{"$f":"IF(LİSTE!$B37=0,\"\",LİSTE!$B37)","v":""},{"$f":"IF(LİSTE!$B38=0,\"\",LİSTE!$B38)","v":""},{"$f":"IF(LİSTE!$B39=0,\"\",LİSTE!$B39)","v":""},{"$f":"IF(LİSTE!$B40=0,\"\",LİSTE!$B40)","v":""},{"$f":"IF(LİSTE!$B41=0,\"\",LİSTE!$B41)","v":""}]
[null,"KAZANIMLAR",{"$f":"IF(LİSTE!$A3=0,\"\",LİSTE!$A3)","v":""},{"$f":"IF(LİSTE!$A4=0,\"\",LİSTE!$A4)","v":""},{"$f":"IF(LİSTE!$A5=0,\"\",LİSTE!$A5)","v":""},{"$f":"IF(LİSTE!$A6=0,\"\",LİSTE!$A6)","v":""},{"$f":"IF(LİSTE!$A7=0,\"\",LİSTE!$A7)","v":""},{"$f":"IF(LİSTE!$A8=0,\"\",LİSTE!$A8)","v":""},{"$f":"IF(LİSTE!$A9=0,\"\",LİSTE!$A9)","v":""},{"$f":"IF(LİSTE!$A10=0,\"\",LİSTE!$A10)","v":""},{"$f":"IF(LİSTE!$A11=0,\"\",LİSTE!$A11)","v":""},{"$f":"IF(LİSTE!$A12=0,\"\",LİSTE!$A12)","v":""},{"$f":"IF(LİSTE!$A13=0,\"\",LİSTE!$A13)","v":""},{"$f":"IF(LİSTE!$A14=0,\"\",LİSTE!$A14)","v":""},{"$f":"IF(LİSTE!$A15=0,\"\",LİSTE!$A15)","v":""},{"$f":"IF(LİSTE!$A16=0,\"\",LİSTE!$A16)","v":""},{"$f":"IF(LİSTE!$A17=0,\"\",LİSTE!$A17)","v":""},{"$f":"IF(LİSTE!$A18=0,\"\",LİSTE!$A18)","v":""},{"$f":"IF(LİSTE!$A19=0,\"\",LİSTE!$A19)","v":""},{"$f":"IF(LİSTE!$A20=0,\"\",LİSTE!$A20)","v":""},{"$f":"IF(LİSTE!$A21=0,\"\",LİSTE!$A21)","v":""},{"$f":"IF(LİSTE!$A22=0,\"\",LİSTE!$A22)","v":""},{"$f":"IF(LİSTE!$A23=0,\"\",LİSTE!$A23)","v":""},{"$f":"IF(LİSTE!$A24=0,\"\",LİSTE!$A24)","v":""},{"$f":"IF(LİSTE!$A25=0,\"\",LİSTE!$A25)","v":""},{"$f":"IF(LİSTE!$A26=0,\"\",LİSTE!$A26)","v":""},{"$f":"IF(LİSTE!$A27=0,\"\",LİSTE!$A27)","v":""},{"$f":"IF(LİSTE!$A28=0,\"\",LİSTE!$A28)","v":""},{"$f":"IF(LİSTE!$A29=0,\"\",LİSTE!$A29)","v":""},{"$f":"IF(LİSTE!$A30=0,\"\",LİSTE!$A30)","v":""},{"$f":"IF(LİSTE!$A31=0,\"\",LİSTE!$A31)","v":""},{"$f":"IF(LİSTE!$A32=0,\"\",LİSTE!$A32)","v":""},{"$f":"IF(LİSTE!$A33=0,\"\",LİSTE!$A33)","v":""},{"$f":"IF(LİSTE!$A34=0,\"\",LİSTE!$A34)","v":""},{"$f":"IF(LİSTE!$A35=0,\"\",LİSTE!$A35)","v":""},{"$f":"IF(LİSTE!$A36=0,\"\",LİSTE!$A36)","v":""},{"$f":"IF(LİSTE!$A37=0,\"\",LİSTE!$A37)","v":""},{"$f":"IF(LİSTE!$A38=0,\"\",LİSTE!$A38)","v":""},{"$f":"IF(LİSTE!$A39=0,\"\",LİSTE!$A39)","v":""},{"$f":"IF(LİSTE!$A40=0,\"\",LİSTE!$A40)","v":""},{"$f":"IF(LİSTE!$A41=0,\"\",LİSTE!$A41)","v":""}]
[null,"Çalışmaların tam olması"]
[null,"Çalışmalardaki çeşitlilik"]
[null,"Çalışmaların amaca uygunluğu"]
[null,"Çalışmaların doğruluğu"]
[null,"Dosyanın düzenliliği"]
[null,"Yaratıcılığı gösterme"]
[null,"Öğrencinin gelişimini gösterme"]
[null,"TOPLAM PUAN",{"$f":"SUM(C4:C10)","v":0},0,0,0,0,0,0,0,0,0,0,0,0,0,0,0,0,0,0,0,0,0,0,0,0,0,0,0,0,0,0,0,0,0,0,0,0,0,0]
[null,"NOT KARŞILIĞI",{"$f":"(C11*100)/28","v":0},{"$f":"(D11*100)/28","v":0},0,0,0,0,0,0,0,0,0,0,0,0,0,0,0,0,0,0,0,0,0,0,0,0,0,0,0,0,0,0,0,0,0,0,0,0,0]
[null,null,null,null,null,null,null,null,null,null,null,null,null,null,null,null,null,null,null,null,null,null,null,null,null,null,null,null,null,null,null,null,null,{"$f":"LİSTE!D5","v":0}]
[null,null,null,null,null,null,null,null,null,null,null,null,null,null,null,null,null,null,null,null,null,null,null,null,null,null,null,null,null,null,null,null,null,{"$f":"CONCATENATE(LİSTE!D6,\" \",\"SINIF ÖĞRETMENİ\")","v":"4- SINIF ÖĞRETMENİ"}]

{"sheet":"İN1","index":10,"n_rows":23,"n_cols":41,"rows_kept":23,"cut":false,"hidden":false,"merged":[[21,2,21,9],[21,10,21,13],[21,33,21,39],[22,33,22,39]]}
[null,null,{"$f":"C21","v":0},{"$f":"D21","v":0},0,0,0,0,0,0,0,0,0,0,0,0,0,0,0,0,0,0,0,0,0,0,0,0,0,0,0,0,0,0,0,0,0,0,0,0,0]
[null,{"$f":"CONCATENATE(\" \",LİSTE!D2,\" \",LİSTE!D3,\"  \",LİSTE!D4,\" \",LİSTE!D6,\" \",\"SINIFI\",\" \",\"İNSAN HAKLARI, YURTTAŞLIK VE DEMOKRASİ  DERSİ DERS VE ETKİNLİKLERE KATILIM DEĞERLENDİRME FORMU 1 (KAZANIM)\")","v":" 2022-2023 EĞİTİM ÖĞRETİM YILI ATATÜRK İLKOKULU  1.DÖNEM 4- SINIFI İNSAN HAKLARI, YURTTAŞLIK VE DEMOKRASİ  DERSİ DERS VE ETKİNLİKLERE KATILIM DEĞERLENDİRME FORMU 1 (KAZANIM)"},{"$f":"IF(LİSTE!$B3=0,\"\",LİSTE!$B3)","v":""},{"$f":"IF(LİSTE!$B4=0,\"\",LİSTE!$B4)","v":""},{"$f":"IF(LİSTE!$B5=0,\"\",LİSTE!$B5)","v":""},{"$f":"IF(LİSTE!$B6=0,\"\",LİSTE!$B6)","v":""},{"$f":"IF(LİSTE!$B7=0,\"\",LİSTE!$B7)","v":""},{"$f":"IF(LİSTE!$B8=0,\"\",LİSTE!$B8)","v":""},{"$f":"IF(LİSTE!$B9=0,\"\",LİSTE!$B9)","v":""},{"$f":"IF(LİSTE!$B10=0,\"\",LİSTE!$B10)","v":""},{"$f":"IF(LİSTE!$B11=0,\"\",LİSTE!$B11)","v":""},{"$f":"IF(LİSTE!$B12=0,\"\",LİSTE!$B12)","v":""},{"$f":"IF(LİSTE!$B13=0,\"\",LİSTE!$B13)","v":""},{"$f":"IF(LİSTE!$B14=0,\"\",LİSTE!$B14)","v":""},{"$f":"IF(LİSTE!$B15=0,\"\",LİSTE!$B15)","v":""},{"$f":"IF(LİSTE!$B16=0,\"\",LİSTE!$B16)","v":""},{"$f":"IF(LİSTE!$B17=0,\"\",LİSTE!$B17)","v":""},{"$f":"IF(LİSTE!$B18=0,\"\",LİSTE!$B18)","v":""},{"$f":"IF(LİSTE!$B19=0,\"\",LİSTE!$B19)","v":""},{"$f":"IF(LİSTE!$B20=0,\"\",LİSTE!$B20)","v":""},{"$f":"IF(LİSTE!$B21=0,\"\",LİSTE!$B21)","v":""},{"$f":"IF(LİSTE!$B22=0,\"\",LİSTE!$B22)","v":""},{"$f":"IF(LİSTE!$B23=0,\"\",LİSTE!$B23)","v":""},{"$f":"IF(LİSTE!$B24=0,\"\",LİSTE!$B24)","v":""},{"$f":"IF(LİSTE!$B25=0,\"\",LİSTE!$B25)","v":""},{"$f":"IF(LİSTE!$B26=0,\"\",LİSTE!$B26)","v":""},{"$f":"IF(LİSTE!$B27=0,\"\",LİSTE!$B27)","v":""},{"$f":"IF(LİSTE!$B28=0,\"\",LİSTE!$B28)","v":""},{"$f":"IF(LİSTE!$B29=0,\"\",LİSTE!$B29)","v":""},{"$f":"IF(LİSTE!$B30=0,\"\",LİSTE!$B30)","v":""},{"$f":"IF(LİSTE!$B31=0,\"\",LİSTE!$B31)","v":""},{"$f":"IF(LİSTE!$B32=0,\"\",LİSTE!$B32)","v":""},{"$f":"IF(LİSTE!$B33=0,\"\",LİSTE!$B33)","v":""},{"$f":"IF(LİSTE!$B34=0,\"\",LİSTE!$B34)","v":""},{"$f":"IF(LİSTE!$B35=0,\"\",LİSTE!$B35)","v":""},{"$f":"IF(LİSTE!$B36=0,\"\",LİSTE!$B36)","v":""},{"$f":"IF(LİSTE!$B37=0,\"\",LİSTE!$B37)","v":""},{"$f":"IF(LİSTE!$B38=0,\"\",LİSTE!$B38)","v":""},{"$f":"IF(LİSTE!$B39=0,\"\",LİSTE!$B39)","v":""},{"$f":"IF(LİSTE!$B40=0,\"\",LİSTE!$B40)","v":""},{"$f":"IF(LİSTE!$B41=0,\"\",LİSTE!$B41)","v":""}]
[null,"KAZANIMLAR",{"$f":"IF(LİSTE!$A3=0,\"\",LİSTE!$A3)","v":""},{"$f":"IF(LİSTE!$A4=0,\"\",LİSTE!$A4)","v":""},{"$f":"IF(LİSTE!$A5=0,\"\",LİSTE!$A5)","v":""},{"$f":"IF(LİSTE!$A6=0,\"\",LİSTE!$A6)","v":""},{"$f":"IF(LİSTE!$A7=0,\"\",LİSTE!$A7)","v":""},{"$f":"IF(LİSTE!$A8=0,\"\",LİSTE!$A8)","v":""},{"$f":"IF(LİSTE!$A9=0,\"\",LİSTE!$A9)","v":""},{"$f":"IF(LİSTE!$A10=0,\"\",LİSTE!$A10)","v":""},{"$f":"IF(LİSTE!$A11=0,\"\",LİSTE!$A11)","v":""},{"$f":"IF(LİSTE!$A12=0,\"\",LİSTE!$A12)","v":""},{"$f":"IF(LİSTE!$A13=0,\"\",LİSTE!$A13)","v":""},{"$f":"IF(LİSTE!$A14=0,\"\",LİSTE!$A14)","v":""},{"$f":"IF(LİSTE!$A15=0,\"\",LİSTE!$A15)","v":""},{"$f":"IF(LİSTE!$A16=0,\"\",LİSTE!$A16)","v":""},{"$f":"IF(LİSTE!$A17=0,\"\",LİSTE!$A17)","v":""},{"$f":"IF(LİSTE!$A18=0,\"\",LİSTE!$A18)","v":""},{"$f":"IF(LİSTE!$A19=0,\"\",LİSTE!$A19)","v":""},{"$f":"IF(LİSTE!$A20=0,\"\",LİSTE!$A20)","v":""},{"$f":"IF(LİSTE!$A21=0,\"\",LİSTE!$A21)","v":""},{"$f":"IF(LİSTE!$A22=0,\"\",LİSTE!$A22)","v":""},{"$f":"IF(LİSTE!$A23=0,\"\",LİSTE!$A23)","v":""},{"$f":"IF(LİSTE!$A24=0,\"\",LİSTE!$A24)","v":""},{"$f":"IF(LİSTE!$A25=0,\"\",LİSTE!$A25)","v":""},{"$f":"IF(LİSTE!$A26=0,\"\",LİSTE!$A26)","v":""},{"$f":"IF(LİSTE!$A27=0,\"\",LİSTE!$A27)","v":""},{"$f":"IF(LİSTE!$A28=0,\"\",LİSTE!$A28)","v":""},{"$f":"IF(LİSTE!$A29=0,\"\",LİSTE!$A29)","v":""},{"$f":"IF(LİSTE!$A30=0,\"\",LİSTE!$A30)","v":""},{"$f":"IF(LİSTE!$A31=0,\"\",LİSTE!$A31)","v":""},{"$f":"IF(LİSTE!$A32=0,\"\",LİSTE!$A32)","v":""},{"$f":"IF(LİSTE!$A33=0,\"\",LİSTE!$A33)","v":""},{"$f":"IF(LİSTE!$A34=0,\"\",LİSTE!$A34)","v":""},{"$f":"IF(LİSTE!$A35=0,\"\",LİSTE!$A35)","v":""},{"$f":"IF(LİSTE!$A36=0,\"\",LİSTE!$A36)","v":""},{"$f":"IF(LİSTE!$A37=0,\"\",LİSTE!$A37)","v":""},{"$f":"IF(LİSTE!$A38=0,\"\",LİSTE!$A38)","v":""},{"$f":"IF(LİSTE!$A39=0,\"\",LİSTE!$A39)","v":""},{"$f":"IF(LİSTE!$A40=0,\"\",LİSTE!$A40)","v":""},{"$f":"IF(LİSTE!$A41=0,\"\",LİSTE!$A41)","v":""}]
[null,"Y.4.1.1. İnsan olmanın niteliklerini açıklar."]
[null,"Y.4.1.2. İnsanın doğuştan gelen temel ve vazgeçilmez hakları olduğunu bilir."]
[null,"Y.4.1.3. Haklarına kendi yaşamından örnekler verir."]
[null,"Y.4.1.4. Çocuk ile yetişkin arasındaki farkları açıklar."]
[null,"Y.4.2.1. Hak, özgürlük ve sorumluluk arasındaki ilişkiyi fark eder."]
[null,"Y.4.2.2. İnsan olma sorumluluğunu taşımanın yollarını açıklar."]
[null,"Y.4.2.3. Hak ve özgürlüklerini kullanabilen ve kullanamayan çocukların yaşantılarını karşılaştırır."]
[null,"Y.4.2.4. Hak ve özgürlüklerinin ihlal edildiği veya kısıtlandığı durumlarda hissettiklerini ifade eder."]
[null,"Y.4.2.5. Hak ve özgürlüklerin ihlal edildiği veya kısıtlandığı durumların çözümünde ne tür sorumluluklar üstlenebileceğine ilişkin örnekler verir."]
[null,"Y.4.2.6. Hak ve özgürlüklere saygı gösterir."]
[null,"Y.4.2.7. Hak ve özgürlüklerin kullanılmasının birlikte yaşama kültürüne etkisini değerlendirir."]
[null,"Y.4.3.1. İnsanların farklılıklarına saygı gösterir."]
[null,"Y.4.3.2. Adalet ve eşitlik kavramlarını birbiriyle ilişkili olarak açıklar."]
[null,"Y.4.3.3. İnsanların hak ve özgürlükler bakımından eşit olduğunu bilir."]
[null,"Y.4.3.4. Adaletin veya eşitliğin sağlandığı ve sağlanamadığı durumları karşılaştırır."]
[null,"Y.4.3.5. Adil veya eşit davranılmadığında insanlarda oluşabilecek duyguları açıklar."]
[null,"TOPLAM PUAN",{"$f":"SUM(C4:C19)","v":0},0,0,0,0,0,0,0,0,0,0,0,0,0,0,0,0,0,0,0,0,0,0,0,0,0,0,0,0,0,0,0,0,0,0,0,0,0,0]
[null,"NOT KARŞILIĞI",{"$f":"(C20*100)/64","v":0},{"$f":"(D20*100)/64","v":0},0,0,0,0,0,0,0,0,0,0,0,0,0,0,0,0,0,0,0,0,0,0,0,0,0,0,0,0,0,0,0,0,0,0,0,0,0]
[null,null,null,null,null,null,null,null,null,null,null,null,null,null,null,null,null,null,null,null,null,null,null,null,null,null,null,null,null,null,null,null,null,{"$f":"LİSTE!D5","v":0}]
[null,null,null,null,null,null,null,null,null,null,null,null,null,null,null,null,null,null,null,null,null,null,null,null,null,null,null,null,null,null,null,null,null,{"$f":"CONCATENATE(LİSTE!D6,\" \",\"SINIF ÖĞRETMENİ\")","v":"4- SINIF ÖĞRETMENİ"}]

{"sheet":"İN2","index":11,"n_rows":16,"n_cols":41,"rows_kept":16,"cut":false,"hidden":false,"merged":[[14,2,14,9],[14,10,14,13],[14,33,14,39],[15,33,15,39]]}
[null,null,{"$f":"C14","v":0},{"$f":"D14","v":0},0,0,0,0,0,0,0,0,0,0,0,0,0,0,0,0,0,0,0,0,0,0,0,0,0,0,0,0,0,0,0,0,0,0,0,0,0]
[null,{"$f":"CONCATENATE(\" \",LİSTE!D2,\" \",LİSTE!D3,\"  \",LİSTE!D4,\" \",LİSTE!D6,\" \",\"SINIFI\",\" \",\"İNSAN HAKLARI, YURTTAŞLIK VE DEMOKRASİ  DERSİ DERS VE ETKİNLİKLERE KATILIM DEĞERLENDİRME FORMU 2\")","v":" 2022-2023 EĞİTİM ÖĞRETİM YILI ATATÜRK İLKOKULU  1.DÖNEM 4- SINIFI İNSAN HAKLARI, YURTTAŞLIK VE DEMOKRASİ  DERSİ DERS VE ETKİNLİKLERE KATILIM DEĞERLENDİRME FORMU 2"},{"$f":"IF(LİSTE!$B3=0,\"\",LİSTE!$B3)","v":""},{"$f":"IF(LİSTE!$B4=0,\"\",LİSTE!$B4)","v":""},{"$f":"IF(LİSTE!$B5=0,\"\",LİSTE!$B5)","v":""},{"$f":"IF(LİSTE!$B6=0,\"\",LİSTE!$B6)","v":""},{"$f":"IF(LİSTE!$B7=0,\"\",LİSTE!$B7)","v":""},{"$f":"IF(LİSTE!$B8=0,\"\",LİSTE!$B8)","v":""},{"$f":"IF(LİSTE!$B9=0,\"\",LİSTE!$B9)","v":""},{"$f":"IF(LİSTE!$B10=0,\"\",LİSTE!$B10)","v":""},{"$f":"IF(LİSTE!$B11=0,\"\",LİSTE!$B11)","v":""},{"$f":"IF(LİSTE!$B12=0,\"\",LİSTE!$B12)","v":""},{"$f":"IF(LİSTE!$B13=0,\"\",LİSTE!$B13)","v":""},{"$f":"IF(LİSTE!$B14=0,\"\",LİSTE!$B14)","v":""},{"$f":"IF(LİSTE!$B15=0,\"\",LİSTE!$B15)","v":""},{"$f":"IF(LİSTE!$B16=0,\"\",LİSTE!$B16)","v":""},{"$f":"IF(LİSTE!$B17=0,\"\",LİSTE!$B17)","v":""},{"$f":"IF(LİSTE!$B18=0,\"\",LİSTE!$B18)","v":""},{"$f":"IF(LİSTE!$B19=0,\"\",LİSTE!$B19)","v":""},{"$f":"IF(LİSTE!$B20=0,\"\",LİSTE!$B20)","v":""},{"$f":"IF(LİSTE!$B21=0,\"\",LİSTE!$B21)","v":""},{"$f":"IF(LİSTE!$B22=0,\"\",LİSTE!$B22)","v":""},{"$f":"IF(LİSTE!$B23=0,\"\",LİSTE!$B23)","v":""},{"$f":"IF(LİSTE!$B24=0,\"\",LİSTE!$B24)","v":""},{"$f":"IF(LİSTE!$B25=0,\"\",LİSTE!$B25)","v":""},{"$f":"IF(LİSTE!$B26=0,\"\",LİSTE!$B26)","v":""},{"$f":"IF(LİSTE!$B27=0,\"\",LİSTE!$B27)","v":""},{"$f":"IF(LİSTE!$B28=0,\"\",LİSTE!$B28)","v":""},{"$f":"IF(LİSTE!$B29=0,\"\",LİSTE!$B29)","v":""},{"$f":"IF(LİSTE!$B30=0,\"\",LİSTE!$B30)","v":""},{"$f":"IF(LİSTE!$B31=0,\"\",LİSTE!$B31)","v":""},{"$f":"IF(LİSTE!$B32=0,\"\",LİSTE!$B32)","v":""},{"$f":"IF(LİSTE!$B33=0,\"\",LİSTE!$B33)","v":""},{"$f":"IF(LİSTE!$B34=0,\"\",LİSTE!$B34)","v":""},{"$f":"IF(LİSTE!$B35=0,\"\",LİSTE!$B35)","v":""},{"$f":"IF(LİSTE!$B36=0,\"\",LİSTE!$B36)","v":""},{"$f":"IF(LİSTE!$B37=0,\"\",LİSTE!$B37)","v":""},{"$f":"IF(LİSTE!$B38=0,\"\",LİSTE!$B38)","v":""},{"$f":"IF(LİSTE!$B39=0,\"\",LİSTE!$B39)","v":""},{"$f":"IF(LİSTE!$B40=0,\"\",LİSTE!$B40)","v":""},{"$f":"IF(LİSTE!$B41=0,\"\",LİSTE!$B41)","v":""}]
[null,"KAZANIMLAR",{"$f":"IF(LİSTE!$A3=0,\"\",LİSTE!$A3)","v":""},{"$f":"IF(LİSTE!$A4=0,\"\",LİSTE!$A4)","v":""},{"$f":"IF(LİSTE!$A5=0,\"\",LİSTE!$A5)","v":""},{"$f":"IF(LİSTE!$A6=0,\"\",LİSTE!$A6)","v":""},{"$f":"IF(LİSTE!$A7=0,\"\",LİSTE!$A7)","v":""},{"$f":"IF(LİSTE!$A8=0,\"\",LİSTE!$A8)","v":""},{"$f":"IF(LİSTE!$A9=0,\"\",LİSTE!$A9)","v":""},{"$f":"IF(LİSTE!$A10=0,\"\",LİSTE!$A10)","v":""},{"$f":"IF(LİSTE!$A11=0,\"\",LİSTE!$A11)","v":""},{"$f":"IF(LİSTE!$A12=0,\"\",LİSTE!$A12)","v":""},{"$f":"IF(LİSTE!$A13=0,\"\",LİSTE!$A13)","v":""},{"$f":"IF(LİSTE!$A14=0,\"\",LİSTE!$A14)","v":""},{"$f":"IF(LİSTE!$A15=0,\"\",LİSTE!$A15)","v":""},{"$f":"IF(LİSTE!$A16=0,\"\",LİSTE!$A16)","v":""},{"$f":"IF(LİSTE!$A17=0,\"\",LİSTE!$A17)","v":""},{"$f":"IF(LİSTE!$A18=0,\"\",LİSTE!$A18)","v":""},{"$f":"IF(LİSTE!$A19=0,\"\",LİSTE!$A19)","v":""},{"$f":"IF(LİSTE!$A20=0,\"\",LİSTE!$A20)","v":""},{"$f":"IF(LİSTE!$A21=0,\"\",LİSTE!$A21)","v":""},{"$f":"IF(LİSTE!$A22=0,\"\",LİSTE!$A22)","v":""},{"$f":"IF(LİSTE!$A23=0,\"\",LİSTE!$A23)","v":""},{"$f":"IF(LİSTE!$A24=0,\"\",LİSTE!$A24)","v":""},{"$f":"IF(LİSTE!$A25=0,\"\",LİSTE!$A25)","v":""},{"$f":"IF(LİSTE!$A26=0,\"\",LİSTE!$A26)","v":""},{"$f":"IF(LİSTE!$A27=0,\"\",LİSTE!$A27)","v":""},{"$f":"IF(LİSTE!$A28=0,\"\",LİSTE!$A28)","v":""},{"$f":"IF(LİSTE!$A29=0,\"\",LİSTE!$A29)","v":""},{"$f":"IF(LİSTE!$A30=0,\"\",LİSTE!$A30)","v":""},{"$f":"IF(LİSTE!$A31=0,\"\",LİSTE!$A31)","v":""},{"$f":"IF(LİSTE!$A32=0,\"\",LİSTE!$A32)","v":""},{"$f":"IF(LİSTE!$A33=0,\"\",LİSTE!$A33)","v":""},{"$f":"IF(LİSTE!$A34=0,\"\",LİSTE!$A34)","v":""},{"$f":"IF(LİSTE!$A35=0,\"\",LİSTE!$A35)","v":""},{"$f":"IF(LİSTE!$A36=0,\"\",LİSTE!$A36)","v":""},{"$f":"IF(LİSTE!$A37=0,\"\",LİSTE!$A37)","v":""},{"$f":"IF(LİSTE!$A38=0,\"\",LİSTE!$A38)","v":""},{"$f":"IF(LİSTE!$A39=0,\"\",LİSTE!$A39)","v":""},{"$f":"IF(LİSTE!$A40=0,\"\",LİSTE!$A40)","v":""},{"$f":"IF(LİSTE!$A41=0,\"\",LİSTE!$A41)","v":""}]
[null,"Öğrenci derse gerekli ön hazırlığı yaparak gelir."]
[null,"Öğrenci öğrenmeye isteklidir."]
[null,"Öğrenci dersi dikkatli bir şekilde dinler."]
[null,"Öğrenci sorulan sorulara uygun ve doğru cevaplar vermeye çalışır."]
[null,"Sınıf içinde yapılan etkinliklere katılmaya isteklidir."]
[null,"Öğrenci ders araç ve gereçlerini gerekli olduğu durumlarda sınıfa getirir."]
[null,"Öğrenci ders araç ve gereçlerini uygun ve doğru şekilde kullanır."]
[null,"Öğrenci ders kapsamında kendisine verilen ödev ve sorumlulukları zamanında yerine getirir."]
[null,"Öğrenci sınıf arkadaşlarına söz verildiğinde onları dinler."]
[null,"TOPLAM PUAN",{"$f":"SUM(C4:C12)","v":0},0,0,0,0,0,0,0,0,0,0,0,0,0,0,0,0,0,0,0,0,0,0,0,0,0,0,0,0,0,0,0,0,0,0,0,0,0,0]
[null,"NOT KARŞILIĞI",{"$f":"(C13*100)/36","v":0},{"$f":"(D13*100)/36","v":0},0,0,0,0,0,0,0,0,0,0,0,0,0,0,0,0,0,0,0,0,0,0,0,0,0,0,0,0,0,0,0,0,0,0,0,0,0]
[null,null,null,null,null,null,null,null,null,null,null,null,null,null,null,null,null,null,null,null,null,null,null,null,null,null,null,null,null,null,null,null,null,{"$f":"LİSTE!D5","v":0}]
[null,null,null,null,null,null,null,null,null,null,null,null,null,null,null,null,null,null,null,null,null,null,null,null,null,null,null,null,null,null,null,null,null,{"$f":"CONCATENATE(LİSTE!D6,\" \",\"SINIF ÖĞRETMENİ\")","v":"4- SINIF ÖĞRETMENİ"}]

{"sheet":"MZ1","index":12,"n_rows":13,"n_cols":41,"rows_kept":13,"cut":false,"hidden":false,"merged":[[11,2,11,9],[11,10,11,13],[11,33,11,39],[12,33,12,39]]}
[null,null,{"$f":"C11","v":0},{"$f":"D11","v":0},0,0,0,0,0,0,0,0,0,0,0,0,0,0,0,0,0,0,0,0,0,0,0,0,0,0,0,0,0,0,0,0,0,0,0,0,0]
[null,{"$f":"CONCATENATE(\" \",LİSTE!D2,\" \",LİSTE!D3,\"  \",LİSTE!D4,\" \",LİSTE!D6,\" \",\"SINIFI\",\" \",\"MÜZİK DERSİ DERS VE ETKİNLİKLERE KATILIM DEĞERLENDİRME FORMU 1 (KAZANIM)\")","v":" 2022-2023 EĞİTİM ÖĞRETİM YILI ATATÜRK İLKOKULU  1.DÖNEM 4- SINIFI MÜZİK DERSİ DERS VE ETKİNLİKLERE KATILIM DEĞERLENDİRME FORMU 1 (KAZANIM)"},{"$f":"IF(LİSTE!$B3=0,\"\",LİSTE!$B3)","v":""},{"$f":"IF(LİSTE!$B4=0,\"\",LİSTE!$B4)","v":""},{"$f":"IF(LİSTE!$B5=0,\"\",LİSTE!$B5)","v":""},{"$f":"IF(LİSTE!$B6=0,\"\",LİSTE!$B6)","v":""},{"$f":"IF(LİSTE!$B7=0,\"\",LİSTE!$B7)","v":""},{"$f":"IF(LİSTE!$B8=0,\"\",LİSTE!$B8)","v":""},{"$f":"IF(LİSTE!$B9=0,\"\",LİSTE!$B9)","v":""},{"$f":"IF(LİSTE!$B10=0,\"\",LİSTE!$B10)","v":""},{"$f":"IF(LİSTE!$B11=0,\"\",LİSTE!$B11)","v":""},{"$f":"IF(LİSTE!$B12=0,\"\",LİSTE!$B12)","v":""},{"$f":"IF(LİSTE!$B13=0,\"\",LİSTE!$B13)","v":""},{"$f":"IF(LİSTE!$B14=0,\"\",LİSTE!$B14)","v":""},{"$f":"IF(LİSTE!$B15=0,\"\",LİSTE!$B15)","v":""},{"$f":"IF(LİSTE!$B16=0,\"\",LİSTE!$B16)","v":""},{"$f":"IF(LİSTE!$B17=0,\"\",LİSTE!$B17)","v":""},{"$f":"IF(LİSTE!$B18=0,\"\",LİSTE!$B18)","v":""},{"$f":"IF(LİSTE!$B19=0,\"\",LİSTE!$B19)","v":""},{"$f":"IF(LİSTE!$B20=0,\"\",LİSTE!$B20)","v":""},{"$f":"IF(LİSTE!$B21=0,\"\",LİSTE!$B21)","v":""},{"$f":"IF(LİSTE!$B22=0,\"\",LİSTE!$B22)","v":""},{"$f":"IF(LİSTE!$B23=0,\"\",LİSTE!$B23)","v":""},{"$f":"IF(LİSTE!$B24=0,\"\",LİSTE!$B24)","v":""},{"$f":"IF(LİSTE!$B25=0,\"\",LİSTE!$B25)","v":""},{"$f":"IF(LİSTE!$B26=0,\"\",LİSTE!$B26)","v":""},{"$f":"IF(LİSTE!$B27=0,\"\",LİSTE!$B27)","v":""},{"$f":"IF(LİSTE!$B28=0,\"\",LİSTE!$B28)","v":""},{"$f":"IF(LİSTE!$B29=0,\"\",LİSTE!$B29)","v":""},{"$f":"IF(LİSTE!$B30=0,\"\",LİSTE!$B30)","v":""},{"$f":"IF(LİSTE!$B31=0,\"\",LİSTE!$B31)","v":""},{"$f":"IF(LİSTE!$B32=0,\"\",LİSTE!$B32)","v":""},{"$f":"IF(LİSTE!$B33=0,\"\",LİSTE!$B33)","v":""},{"$f":"IF(LİSTE!$B34=0,\"\",LİSTE!$B34)","v":""},{"$f":"IF(LİSTE!$B35=0,\"\",LİSTE!$B35)","v":""},{"$f":"IF(LİSTE!$B36=0,\"\",LİSTE!$B36)","v":""},{"$f":"IF(LİSTE!$B37=0,\"\",LİSTE!$B37)","v":""},{"$f":"IF(LİSTE!$B38=0,\"\",LİSTE!$B38)","v":""},{"$f":"IF(LİSTE!$B39=0,\"\",LİSTE!$B39)","v":""},{"$f":"IF(LİSTE!$B40=0,\"\",LİSTE!$B40)","v":""},{"$f":"IF(LİSTE!$B41=0,\"\",LİSTE!$B41)","v":""}]
[null,"KAZANIMLAR",{"$f":"IF(LİSTE!$A3=0,\"\",LİSTE!$A3)","v":""},{"$f":"IF(LİSTE!$A4=0,\"\",LİSTE!$A4)","v":""},{"$f":"IF(LİSTE!$A5=0,\"\",LİSTE!$A5)","v":""},{"$f":"IF(LİSTE!$A6=0,\"\",LİSTE!$A6)","v":""},{"$f":"IF(LİSTE!$A7=0,\"\",LİSTE!$A7)","v":""},{"$f":"IF(LİSTE!$A8=0,\"\",LİSTE!$A8)","v":""},{"$f":"IF(LİSTE!$A9=0,\"\",LİSTE!$A9)","v":""},{"$f":"IF(LİSTE!$A10=0,\"\",LİSTE!$A10)","v":""},{"$f":"IF(LİSTE!$A11=0,\"\",LİSTE!$A11)","v":""},{"$f":"IF(LİSTE!$A12=0,\"\",LİSTE!$A12)","v":""},{"$f":"IF(LİSTE!$A13=0,\"\",LİSTE!$A13)","v":""},{"$f":"IF(LİSTE!$A14=0,\"\",LİSTE!$A14)","v":""},{"$f":"IF(LİSTE!$A15=0,\"\",LİSTE!$A15)","v":""},{"$f":"IF(LİSTE!$A16=0,\"\",LİSTE!$A16)","v":""},{"$f":"IF(LİSTE!$A17=0,\"\",LİSTE!$A17)","v":""},{"$f":"IF(LİSTE!$A18=0,\"\",LİSTE!$A18)","v":""},{"$f":"IF(LİSTE!$A19=0,\"\",LİSTE!$A19)","v":""},{"$f":"IF(LİSTE!$A20=0,\"\",LİSTE!$A20)","v":""},{"$f":"IF(LİSTE!$A21=0,\"\",LİSTE!$A21)","v":""},{"$f":"IF(LİSTE!$A22=0,\"\",LİSTE!$A22)","v":""},{"$f":"IF(LİSTE!$A23=0,\"\",LİSTE!$A23)","v":""},{"$f":"IF(LİSTE!$A24=0,\"\",LİSTE!$A24)","v":""},{"$f":"IF(LİSTE!$A25=0,\"\",LİSTE!$A25)","v":""},{"$f":"IF(LİSTE!$A26=0,\"\",LİSTE!$A26)","v":""},{"$f":"IF(LİSTE!$A27=0,\"\",LİSTE!$A27)","v":""},{"$f":"IF(LİSTE!$A28=0,\"\",LİSTE!$A28)","v":""},{"$f":"IF(LİSTE!$A29=0,\"\",LİSTE!$A29)","v":""},{"$f":"IF(LİSTE!$A30=0,\"\",LİSTE!$A30)","v":""},{"$f":"IF(LİSTE!$A31=0,\"\",LİSTE!$A31)","v":""},{"$f":"IF(LİSTE!$A32=0,\"\",LİSTE!$A32)","v":""},{"$f":"IF(LİSTE!$A33=0,\"\",LİSTE!$A33)","v":""},{"$f":"IF(LİSTE!$A34=0,\"\",LİSTE!$A34)","v":""},{"$f":"IF(LİSTE!$A35=0,\"\",LİSTE!$A35)","v":""},{"$f":"IF(LİSTE!$A36=0,\"\",LİSTE!$A36)","v":""},{"$f":"IF(LİSTE!$A37=0,\"\",LİSTE!$A37)","v":""},{"$f":"IF(LİSTE!$A38=0,\"\",LİSTE!$A38)","v":""},{"$f":"IF(LİSTE!$A39=0,\"\",LİSTE!$A39)","v":""},{"$f":"IF(LİSTE!$A40=0,\"\",LİSTE!$A40)","v":""},{"$f":"IF(LİSTE!$A41=0,\"\",LİSTE!$A41)","v":""}]
[null,"Mü.4.A.2. İstiklâl Marşı’nı doğru söylemeye özen gösterir."]
[null,"Mü.4.A.1. Birlikte söyleme kurallarına uyar."]
[null,"Mü.4.B.1. Temel müzik yazı ve ögelerini tanır."]
[null,"Mü.4.A.4. Belirli gün ve haftaların anlamına uygun müzikler söyler."]
[null,"Mü.4.B.4. Öğrendiği seslerin temel özelliklerini ayırt eder."]
[null,"Mü.4.B.3. Şarkı, türkü ve oyun müziklerinde hız değişikliklerini fark eder."]
[null,"TOPLAM PUAN",{"$f":"SUM(C4:C9)","v":0},0,0,0,0,0,0,0,0,0,0,0,0,0,0,0,0,0,0,0,0,0,0,0,0,0,0,0,0,0,0,0,0,0,0,0,0,0,0]
[null,"NOT KARŞILIĞI",{"$f":"(C10*100)/24","v":0},{"$f":"(D10*100)/24","v":0},0,0,0,0,0,0,0,0,0,0,0,0,0,0,0,0,0,0,0,0,0,0,0,0,0,0,0,0,0,0,0,0,0,0,0,0,0]
[null,null,null,null,null,null,null,null,null,null,null,null,null,null,null,null,null,null,null,null,null,null,null,null,null,null,null,null,null,null,null,null,null,{"$f":"LİSTE!D5","v":0}]
[null,null,null,null,null,null,null,null,null,null,null,null,null,null,null,null,null,null,null,null,null,null,null,null,null,null,null,null,null,null,null,null,null,{"$f":"CONCATENATE(LİSTE!D6,\" \",\"SINIF ÖĞRETMENİ\")","v":"4- SINIF ÖĞRETMENİ"}]

{"sheet":"MZ2","index":13,"n_rows":17,"n_cols":41,"rows_kept":17,"cut":false,"hidden":false,"merged":[[15,2,15,9],[15,10,15,13],[15,33,15,39],[16,33,16,39]]}
[null,null,{"$f":"C15","v":0},{"$f":"D15","v":0},0,0,0,0,0,0,0,0,0,0,0,0,0,0,0,0,0,0,0,0,0,0,0,0,0,0,0,0,0,0,0,0,0,0,0,0,0]
[null,{"$f":"CONCATENATE(\" \",LİSTE!D2,\" \",LİSTE!D3,\"  \",LİSTE!D4,\" \",LİSTE!D6,\" \",LİSTE!D6,\" \",\"SINIFI\",\" \",\"MÜZİK DERSİ DERS VE ETKİNLİKLERE KATILIM DEĞERLENDİRME FORMU 2\")","v":" 2022-2023 EĞİTİM ÖĞRETİM YILI ATATÜRK İLKOKULU  1.DÖNEM 4- 4- SINIFI MÜZİK DERSİ DERS VE ETKİNLİKLERE KATILIM DEĞERLENDİRME FORMU 2"},{"$f":"IF(LİSTE!$B3=0,\"\",LİSTE!$B3)","v":""},{"$f":"IF(LİSTE!$B4=0,\"\",LİSTE!$B4)","v":""},{"$f":"IF(LİSTE!$B5=0,\"\",LİSTE!$B5)","v":""},{"$f":"IF(LİSTE!$B6=0,\"\",LİSTE!$B6)","v":""},{"$f":"IF(LİSTE!$B7=0,\"\",LİSTE!$B7)","v":""},{"$f":"IF(LİSTE!$B8=0,\"\",LİSTE!$B8)","v":""},{"$f":"IF(LİSTE!$B9=0,\"\",LİSTE!$B9)","v":""},{"$f":"IF(LİSTE!$B10=0,\"\",LİSTE!$B10)","v":""},{"$f":"IF(LİSTE!$B11=0,\"\",LİSTE!$B11)","v":""},{"$f":"IF(LİSTE!$B12=0,\"\",LİSTE!$B12)","v":""},{"$f":"IF(LİSTE!$B13=0,\"\",LİSTE!$B13)","v":""},{"$f":"IF(LİSTE!$B14=0,\"\",LİSTE!$B14)","v":""},{"$f":"IF(LİSTE!$B15=0,\"\",LİSTE!$B15)","v":""},{"$f":"IF(LİSTE!$B16=0,\"\",LİSTE!$B16)","v":""},{"$f":"IF(LİSTE!$B17=0,\"\",LİSTE!$B17)","v":""},{"$f":"IF(LİSTE!$B18=0,\"\",LİSTE!$B18)","v":""},{"$f":"IF(LİSTE!$B19=0,\"\",LİSTE!$B19)","v":""},{"$f":"IF(LİSTE!$B20=0,\"\",LİSTE!$B20)","v":""},{"$f":"IF(LİSTE!$B21=0,\"\",LİSTE!$B21)","v":""},{"$f":"IF(LİSTE!$B22=0,\"\",LİSTE!$B22)","v":""},{"$f":"IF(LİSTE!$B23=0,\"\",LİSTE!$B23)","v":""},{"$f":"IF(LİSTE!$B24=0,\"\",LİSTE!$B24)","v":""},{"$f":"IF(LİSTE!$B25=0,\"\",LİSTE!$B25)","v":""},{"$f":"IF(LİSTE!$B26=0,\"\",LİSTE!$B26)","v":""},{"$f":"IF(LİSTE!$B27=0,\"\",LİSTE!$B27)","v":""},{"$f":"IF(LİSTE!$B28=0,\"\",LİSTE!$B28)","v":""},{"$f":"IF(LİSTE!$B29=0,\"\",LİSTE!$B29)","v":""},{"$f":"IF(LİSTE!$B30=0,\"\",LİSTE!$B30)","v":""},{"$f":"IF(LİSTE!$B31=0,\"\",LİSTE!$B31)","v":""},{"$f":"IF(LİSTE!$B32=0,\"\",LİSTE!$B32)","v":""},{"$f":"IF(LİSTE!$B33=0,\"\",LİSTE!$B33)","v":""},{"$f":"IF(LİSTE!$B34=0,\"\",LİSTE!$B34)","v":""},{"$f":"IF(LİSTE!$B35=0,\"\",LİSTE!$B35)","v":""},{"$f":"IF(LİSTE!$B36=0,\"\",LİSTE!$B36)","v":""},{"$f":"IF(LİSTE!$B37=0,\"\",LİSTE!$B37)","v":""},{"$f":"IF(LİSTE!$B38=0,\"\",LİSTE!$B38)","v":""},{"$f":"IF(LİSTE!$B39=0,\"\",LİSTE!$B39)","v":""},{"$f":"IF(LİSTE!$B40=0,\"\",LİSTE!$B40)","v":""},{"$f":"IF(LİSTE!$B41=0,\"\",LİSTE!$B41)","v":""}]
[null,"KAZANIMLAR",{"$f":"IF(LİSTE!$A3=0,\"\",LİSTE!$A3)","v":""},{"$f":"IF(LİSTE!$A4=0,\"\",LİSTE!$A4)","v":""},{"$f":"IF(LİSTE!$A5=0,\"\",LİSTE!$A5)","v":""},{"$f":"IF(LİSTE!$A6=0,\"\",LİSTE!$A6)","v":""},{"$f":"IF(LİSTE!$A7=0,\"\",LİSTE!$A7)","v":""},{"$f":"IF(LİSTE!$A8=0,\"\",LİSTE!$A8)","v":""},{"$f":"IF(LİSTE!$A9=0,\"\",LİSTE!$A9)","v":""},{"$f":"IF(LİSTE!$A10=0,\"\",LİSTE!$A10)","v":""},{"$f":"IF(LİSTE!$A11=0,\"\",LİSTE!$A11)","v":""},{"$f":"IF(LİSTE!$A12=0,\"\",LİSTE!$A12)","v":""},{"$f":"IF(LİSTE!$A13=0,\"\",LİSTE!$A13)","v":""},{"$f":"IF(LİSTE!$A14=0,\"\",LİSTE!$A14)","v":""},{"$f":"IF(LİSTE!$A15=0,\"\",LİSTE!$A15)","v":""},{"$f":"IF(LİSTE!$A16=0,\"\",LİSTE!$A16)","v":""},{"$f":"IF(LİSTE!$A17=0,\"\",LİSTE!$A17)","v":""},{"$f":"IF(LİSTE!$A18=0,\"\",LİSTE!$A18)","v":""},{"$f":"IF(LİSTE!$A19=0,\"\",LİSTE!$A19)","v":""},{"$f":"IF(LİSTE!$A20=0,\"\",LİSTE!$A20)","v":""},{"$f":"IF(LİSTE!$A21=0,\"\",LİSTE!$A21)","v":""},{"$f":"IF(LİSTE!$A22=0,\"\",LİSTE!$A22)","v":""},{"$f":"IF(LİSTE!$A23=0,\"\",LİSTE!$A23)","v":""},{"$f":"IF(LİSTE!$A24=0,\"\",LİSTE!$A24)","v":""},{"$f":"IF(LİSTE!$A25=0,\"\",LİSTE!$A25)","v":""},{"$f":"IF(LİSTE!$A26=0,\"\",LİSTE!$A26)","v":""},{"$f":"IF(LİSTE!$A27=0,\"\",LİSTE!$A27)","v":""},{"$f":"IF(LİSTE!$A28=0,\"\",LİSTE!$A28)","v":""},{"$f":"IF(LİSTE!$A29=0,\"\",LİSTE!$A29)","v":""},{"$f":"IF(LİSTE!$A30=0,\"\",LİSTE!$A30)","v":""},{"$f":"IF(LİSTE!$A31=0,\"\",LİSTE!$A31)","v":""},{"$f":"IF(LİSTE!$A32=0,\"\",LİSTE!$A32)","v":""},{"$f":"IF(LİSTE!$A33=0,\"\",LİSTE!$A33)","v":""},{"$f":"IF(LİSTE!$A34=0,\"\",LİSTE!$A34)","v":""},{"$f":"IF(LİSTE!$A35=0,\"\",LİSTE!$A35)","v":""},{"$f":"IF(LİSTE!$A36=0,\"\",LİSTE!$A36)","v":""},{"$f":"IF(LİSTE!$A37=0,\"\",LİSTE!$A37)","v":""},{"$f":"IF(LİSTE!$A38=0,\"\",LİSTE!$A38)","v":""},{"$f":"IF(LİSTE!$A39=0,\"\",LİSTE!$A39)","v":""},{"$f":"IF(LİSTE!$A40=0,\"\",LİSTE!$A40)","v":""},{"$f":"IF(LİSTE!$A41=0,\"\",LİSTE!$A41)","v":""}]
[null,"Derse hazırlıklı ve araç-gereçleri tam gelir."]
[null,"Sınıf içinde yapılan çalışma ve etkinliklere aktif olarak katılır."]
[null,"Etkinlik örneklerini özenli ve dikkatli yapar."]
[null,"Sorulan sorulara konuya uygun ve doğru cevaplar verir."]
[null,"Duygu ve düşüncelerini uygun şekilde ifade eder."]
[null,"Uygun dinleme davranışları sergiler."]
[null,"Müzik dinleme ve yapma kurallarını uygular."]
[null,"Grup çalışmalarına aktif olarak katılır."]
[null,"Grup çalışmalarında arkadaşları ile uyumlu şekilde çalışır."]
[null,"Verilen ödev ve görevleri özenerek, isteyerek ve zamanında yapar."]
[null,"TOPLAM PUAN",{"$f":"SUM(C4:C13)","v":0},{"$f":"SUM(D4:D13)","v":0},0,0,0,0,0,0,0,0,0,0,0,0,0,0,0,0,0,0,0,0,0,0,0,0,0,0,0,0,0,0,0,0,0,0,0,0,0]
[null,"NOT KARŞILIĞI",{"$f":"(C14*100)/40","v":0},{"$f":"(D14*100)/40","v":0},0,0,0,0,0,0,0,0,0,0,0,0,0,0,0,0,0,0,0,0,0,0,0,0,0,0,0,0,0,0,0,0,0,0,0,0,0]
[null,null,null,null,null,null,null,null,null,null,null,null,null,null,null,null,null,null,null,null,null,null,null,null,null,null,null,null,null,null,null,null,null,{"$f":"LİSTE!D5","v":0}]
[null,null,null,null,null,null,null,null,null,null,null,null,null,null,null,null,null,null,null,null,null,null,null,null,null,null,null,null,null,null,null,null,null,{"$f":"CONCATENATE(LİSTE!D6,\" \",\"SINIF ÖĞRETMENİ\")","v":"4- SINIF ÖĞRETMENİ"}]

{"sheet":"SB1","index":14,"n_rows":16,"n_cols":41,"rows_kept":16,"cut":false,"hidden":false,"merged":[[14,2,14,9],[14,10,14,13],[14,33,14,39],[15,33,15,39]]}
[null,null,{"$f":"C14","v":0},{"$f":"D14","v":0},0,0,0,0,0,0,0,0,0,0,0,0,0,0,0,0,0,0,0,0,0,0,0,0,0,0,0,0,0,0,0,0,0,0,0,0,0]
[null,{"$f":"CONCATENATE(\" \",LİSTE!D2,\" \",LİSTE!D3,\"  \",LİSTE!D4,\" \",LİSTE!D6,\" \",\"SINIFI\",\" \",\"SOSYAL BİLGİLER DERSİ DERS VE ETKİNLİKLERE KATILIM DEĞERLENDİRME FORMU 1 (KAZANIM)\")","v":" 2022-2023 EĞİTİM ÖĞRETİM YILI ATATÜRK İLKOKULU  1.DÖNEM 4- SINIFI SOSYAL BİLGİLER DERSİ DERS VE ETKİNLİKLERE KATILIM DEĞERLENDİRME FORMU 1 (KAZANIM)"},{"$f":"IF(LİSTE!$B3=0,\"\",LİSTE!$B3)","v":""},{"$f":"IF(LİSTE!$B4=0,\"\",LİSTE!$B4)","v":""},{"$f":"IF(LİSTE!$B5=0,\"\",LİSTE!$B5)","v":""},{"$f":"IF(LİSTE!$B6=0,\"\",LİSTE!$B6)","v":""},{"$f":"IF(LİSTE!$B7=0,\"\",LİSTE!$B7)","v":""},{"$f":"IF(LİSTE!$B8=0,\"\",LİSTE!$B8)","v":""},{"$f":"IF(LİSTE!$B9=0,\"\",LİSTE!$B9)","v":""},{"$f":"IF(LİSTE!$B10=0,\"\",LİSTE!$B10)","v":""},{"$f":"IF(LİSTE!$B11=0,\"\",LİSTE!$B11)","v":""},{"$f":"IF(LİSTE!$B12=0,\"\",LİSTE!$B12)","v":""},{"$f":"IF(LİSTE!$B13=0,\"\",LİSTE!$B13)","v":""},{"$f":"IF(LİSTE!$B14=0,\"\",LİSTE!$B14)","v":""},{"$f":"IF(LİSTE!$B15=0,\"\",LİSTE!$B15)","v":""},{"$f":"IF(LİSTE!$B16=0,\"\",LİSTE!$B16)","v":""},{"$f":"IF(LİSTE!$B17=0,\"\",LİSTE!$B17)","v":""},{"$f":"IF(LİSTE!$B18=0,\"\",LİSTE!$B18)","v":""},{"$f":"IF(LİSTE!$B19=0,\"\",LİSTE!$B19)","v":""},{"$f":"IF(LİSTE!$B20=0,\"\",LİSTE!$B20)","v":""},{"$f":"IF(LİSTE!$B21=0,\"\",LİSTE!$B21)","v":""},{"$f":"IF(LİSTE!$B22=0,\"\",LİSTE!$B22)","v":""},{"$f":"IF(LİSTE!$B23=0,\"\",LİSTE!$B23)","v":""},{"$f":"IF(LİSTE!$B24=0,\"\",LİSTE!$B24)","v":""},{"$f":"IF(LİSTE!$B25=0,\"\",LİSTE!$B25)","v":""},{"$f":"IF(LİSTE!$B26=0,\"\",LİSTE!$B26)","v":""},{"$f":"IF(LİSTE!$B27=0,\"\",LİSTE!$B27)","v":""},{"$f":"IF(LİSTE!$B28=0,\"\",LİSTE!$B28)","v":""},{"$f":"IF(LİSTE!$B29=0,\"\",LİSTE!$B29)","v":""},{"$f":"IF(LİSTE!$B30=0,\"\",LİSTE!$B30)","v":""},{"$f":"IF(LİSTE!$B31=0,\"\",LİSTE!$B31)","v":""},{"$f":"IF(LİSTE!$B32=0,\"\",LİSTE!$B32)","v":""},{"$f":"IF(LİSTE!$B33=0,\"\",LİSTE!$B33)","v":""},{"$f":"IF(LİSTE!$B34=0,\"\",LİSTE!$B34)","v":""},{"$f":"IF(LİSTE!$B35=0,\"\",LİSTE!$B35)","v":""},{"$f":"IF(LİSTE!$B36=0,\"\",LİSTE!$B36)","v":""},{"$f":"IF(LİSTE!$B37=0,\"\",LİSTE!$B37)","v":""},{"$f":"IF(LİSTE!$B38=0,\"\",LİSTE!$B38)","v":""},{"$f":"IF(LİSTE!$B39=0,\"\",LİSTE!$B39)","v":""},{"$f":"IF(LİSTE!$B40=0,\"\",LİSTE!$B40)","v":""},{"$f":"IF(LİSTE!$B41=0,\"\",LİSTE!$B41)","v":""}]
[null,"KAZANIMLAR",{"$f":"IF(LİSTE!$A3=0,\"\",LİSTE!$A3)","v":""},{"$f":"IF(LİSTE!$A4=0,\"\",LİSTE!$A4)","v":""},{"$f":"IF(LİSTE!$A5=0,\"\",LİSTE!$A5)","v":""},{"$f":"IF(LİSTE!$A6=0,\"\",LİSTE!$A6)","v":""},{"$f":"IF(LİSTE!$A7=0,\"\",LİSTE!$A7)","v":""},{"$f":"IF(LİSTE!$A8=0,\"\",LİSTE!$A8)","v":""},{"$f":"IF(LİSTE!$A9=0,\"\",LİSTE!$A9)","v":""},{"$f":"IF(LİSTE!$A10=0,\"\",LİSTE!$A10)","v":""},{"$f":"IF(LİSTE!$A11=0,\"\",LİSTE!$A11)","v":""},{"$f":"IF(LİSTE!$A12=0,\"\",LİSTE!$A12)","v":""},{"$f":"IF(LİSTE!$A13=0,\"\",LİSTE!$A13)","v":""},{"$f":"IF(LİSTE!$A14=0,\"\",LİSTE!$A14)","v":""},{"$f":"IF(LİSTE!$A15=0,\"\",LİSTE!$A15)","v":""},{"$f":"IF(LİSTE!$A16=0,\"\",LİSTE!$A16)","v":""},{"$f":"IF(LİSTE!$A17=0,\"\",LİSTE!$A17)","v":""},{"$f":"IF(LİSTE!$A18=0,\"\",LİSTE!$A18)","v":""},{"$f":"IF(LİSTE!$A19=0,\"\",LİSTE!$A19)","v":""},{"$f":"IF(LİSTE!$A20=0,\"\",LİSTE!$A20)","v":""},{"$f":"IF(LİSTE!$A21=0,\"\",LİSTE!$A21)","v":""},{"$f":"IF(LİSTE!$A22=0,\"\",LİSTE!$A22)","v":""},{"$f":"IF(LİSTE!$A23=0,\"\",LİSTE!$A23)","v":""},{"$f":"IF(LİSTE!$A24=0,\"\",LİSTE!$A24)","v":""},{"$f":"IF(LİSTE!$A25=0,\"\",LİSTE!$A25)","v":""},{"$f":"IF(LİSTE!$A26=0,\"\",LİSTE!$A26)","v":""},{"$f":"IF(LİSTE!$A27=0,\"\",LİSTE!$A27)","v":""},{"$f":"IF(LİSTE!$A28=0,\"\",LİSTE!$A28)","v":""},{"$f":"IF(LİSTE!$A29=0,\"\",LİSTE!$A29)","v":""},{"$f":"IF(LİSTE!$A30=0,\"\",LİSTE!$A30)","v":""},{"$f":"IF(LİSTE!$A31=0,\"\",LİSTE!$A31)","v":""},{"$f":"IF(LİSTE!$A32=0,\"\",LİSTE!$A32)","v":""},{"$f":"IF(LİSTE!$A33=0,\"\",LİSTE!$A33)","v":""},{"$f":"IF(LİSTE!$A34=0,\"\",LİSTE!$A34)","v":""},{"$f":"IF(LİSTE!$A35=0,\"\",LİSTE!$A35)","v":""},{"$f":"IF(LİSTE!$A36=0,\"\",LİSTE!$A36)","v":""},{"$f":"IF(LİSTE!$A37=0,\"\",LİSTE!$A37)","v":""},{"$f":"IF(LİSTE!$A38=0,\"\",LİSTE!$A38)","v":""},{"$f":"IF(LİSTE!$A39=0,\"\",LİSTE!$A39)","v":""},{"$f":"IF(LİSTE!$A40=0,\"\",LİSTE!$A40)","v":""},{"$f":"IF(LİSTE!$A41=0,\"\",LİSTE!$A41)","v":""}]
[null,"SB.4.1.1. Resmî kimlik belgesini inceleyerek kişisel kimliğine ilişkin çıkarımlarda bulunur."]
[null,"SB.4.1.2. Yaşamına ilişkin belli başlı olayları kronolojik sıraya koyar."]
[null,"SB.4.1.3. Bireysel ilgi, ihtiyaç ve yeteneklerini tanır."]
[null,"SB.4.1.4. Kendisini farklı özelliklere sahip diğer bireylerin yerine koyar."]
[null,"SB.4.1.5. Diğer bireylerin farklı özelliklerini saygı ile karşılar."]
[null,"SB.4.2.1. Sözlü, yazılı, görsel kaynaklar ve nesnelerden yararlanarak aile tarihi çalışması yapar."]
[null,"SB.4.2.2. Ailesi ve çevresindeki millî kültürü yansıtan ögeleri araştırarak örnekler verir."]
[null,"SB.4.2.3. Geleneksel çocuk oyunlarını değişim ve süreklilik açısından günümüzdeki oyunlarla karşılaştırır."]
[null,"SB.4.2.4. Millî Mücadele kahramanlarının hayatlarından hareketle Millî Mücadele’nin önemini kavrar."]
[null,"TOPLAM PUAN",{"$f":"SUM(C4:C12)","v":0},0,0,0,0,0,0,0,0,0,0,0,0,0,0,0,0,0,0,0,0,0,0,0,0,0,0,0,0,0,0,0,0,0,0,0,0,0,0]
[null,"NOT KARŞILIĞI",{"$f":"(C13*100)/36","v":0},{"$f":"(D13*100)/36","v":0},0,0,0,0,0,0,0,0,0,0,0,0,0,0,0,0,0,0,0,0,0,0,0,0,0,0,0,0,0,0,0,0,0,0,0,0,0]
[null,null,null,null,null,null,null,null,null,null,null,null,null,null,null,null,null,null,null,null,null,null,null,null,null,null,null,null,null,null,null,null,null,{"$f":"LİSTE!D5","v":0}]
[null,null,null,null,null,null,null,null,null,null,null,null,null,null,null,null,null,null,null,null,null,null,null,null,null,null,null,null,null,null,null,null,null,{"$f":"CONCATENATE(LİSTE!D6,\" \",\"SINIF ÖĞRETMENİ\")","v":"4- SINIF ÖĞRETMENİ"}]

{"sheet":"SB2","index":15,"n_rows":16,"n_cols":41,"rows_kept":16,"cut":false,"hidden":false,"merged":[[14,2,14,9],[14,10,14,13],[14,33,14,39],[15,33,15,39]]}
[null,null,{"$f":"C14","v":0},{"$f":"D14","v":0},0,0,0,0,0,0,0,0,0,0,0,0,0,0,0,0,0,0,0,0,0,0,0,0,0,0,0,0,0,0,0,0,0,0,0,0,0]
[null,{"$f":"CONCATENATE(\" \",LİSTE!D2,\" \",LİSTE!D3,\"  \",LİSTE!D4,\" \",LİSTE!D6,\" \",\"SINIFI\",\" \",\"SOSYAL BİLGİLER DERSİ DERS VE ETKİNLİKLERE KATILIM DEĞERLENDİRME FORMU 2 (KAZANIM)\")","v":" 2022-2023 EĞİTİM ÖĞRETİM YILI ATATÜRK İLKOKULU  1.DÖNEM 4- SINIFI SOSYAL BİLGİLER DERSİ DERS VE ETKİNLİKLERE KATILIM DEĞERLENDİRME FORMU 2 (KAZANIM)"},{"$f":"IF(LİSTE!$B3=0,\"\",LİSTE!$B3)","v":""},{"$f":"IF(LİSTE!$B4=0,\"\",LİSTE!$B4)","v":""},{"$f":"IF(LİSTE!$B5=0,\"\",LİSTE!$B5)","v":""},{"$f":"IF(LİSTE!$B6=0,\"\",LİSTE!$B6)","v":""},{"$f":"IF(LİSTE!$B7=0,\"\",LİSTE!$B7)","v":""},{"$f":"IF(LİSTE!$B8=0,\"\",LİSTE!$B8)","v":""},{"$f":"IF(LİSTE!$B9=0,\"\",LİSTE!$B9)","v":""},{"$f":"IF(LİSTE!$B10=0,\"\",LİSTE!$B10)","v":""},{"$f":"IF(LİSTE!$B11=0,\"\",LİSTE!$B11)","v":""},{"$f":"IF(LİSTE!$B12=0,\"\",LİSTE!$B12)","v":""},{"$f":"IF(LİSTE!$B13=0,\"\",LİSTE!$B13)","v":""},{"$f":"IF(LİSTE!$B14=0,\"\",LİSTE!$B14)","v":""},{"$f":"IF(LİSTE!$B15=0,\"\",LİSTE!$B15)","v":""},{"$f":"IF(LİSTE!$B16=0,\"\",LİSTE!$B16)","v":""},{"$f":"IF(LİSTE!$B17=0,\"\",LİSTE!$B17)","v":""},{"$f":"IF(LİSTE!$B18=0,\"\",LİSTE!$B18)","v":""},{"$f":"IF(LİSTE!$B19=0,\"\",LİSTE!$B19)","v":""},{"$f":"IF(LİSTE!$B20=0,\"\",LİSTE!$B20)","v":""},{"$f":"IF(LİSTE!$B21=0,\"\",LİSTE!$B21)","v":""},{"$f":"IF(LİSTE!$B22=0,\"\",LİSTE!$B22)","v":""},{"$f":"IF(LİSTE!$B23=0,\"\",LİSTE!$B23)","v":""},{"$f":"IF(LİSTE!$B24=0,\"\",LİSTE!$B24)","v":""},{"$f":"IF(LİSTE!$B25=0,\"\",LİSTE!$B25)","v":""},{"$f":"IF(LİSTE!$B26=0,\"\",LİSTE!$B26)","v":""},{"$f":"IF(LİSTE!$B27=0,\"\",LİSTE!$B27)","v":""},{"$f":"IF(LİSTE!$B28=0,\"\",LİSTE!$B28)","v":""},{"$f":"IF(LİSTE!$B29=0,\"\",LİSTE!$B29)","v":""},{"$f":"IF(LİSTE!$B30=0,\"\",LİSTE!$B30)","v":""},{"$f":"IF(LİSTE!$B31=0,\"\",LİSTE!$B31)","v":""},{"$f":"IF(LİSTE!$B32=0,\"\",LİSTE!$B32)","v":""},{"$f":"IF(LİSTE!$B33=0,\"\",LİSTE!$B33)","v":""},{"$f":"IF(LİSTE!$B34=0,\"\",LİSTE!$B34)","v":""},{"$f":"IF(LİSTE!$B35=0,\"\",LİSTE!$B35)","v":""},{"$f":"IF(LİSTE!$B36=0,\"\",LİSTE!$B36)","v":""},{"$f":"IF(LİSTE!$B37=0,\"\",LİSTE!$B37)","v":""},{"$f":"IF(LİSTE!$B38=0,\"\",LİSTE!$B38)","v":""},{"$f":"IF(LİSTE!$B39=0,\"\",LİSTE!$B39)","v":""},{"$f":"IF(LİSTE!$B40=0,\"\",LİSTE!$B40)","v":""},{"$f":"IF(LİSTE!$B41=0,\"\",LİSTE!$B41)","v":""}]
[null,"KAZANIMLAR",{"$f":"IF(LİSTE!$A3=0,\"\",LİSTE!$A3)","v":""},{"$f":"IF(LİSTE!$A4=0,\"\",LİSTE!$A4)","v":""},{"$f":"IF(LİSTE!$A5=0,\"\",LİSTE!$A5)","v":""},{"$f":"IF(LİSTE!$A6=0,\"\",LİSTE!$A6)","v":""},{"$f":"IF(LİSTE!$A7=0,\"\",LİSTE!$A7)","v":""},{"$f":"IF(LİSTE!$A8=0,\"\",LİSTE!$A8)","v":""},{"$f":"IF(LİSTE!$A9=0,\"\",LİSTE!$A9)","v":""},{"$f":"IF(LİSTE!$A10=0,\"\",LİSTE!$A10)","v":""},{"$f":"IF(LİSTE!$A11=0,\"\",LİSTE!$A11)","v":""},{"$f":"IF(LİSTE!$A12=0,\"\",LİSTE!$A12)","v":""},{"$f":"IF(LİSTE!$A13=0,\"\",LİSTE!$A13)","v":""},{"$f":"IF(LİSTE!$A14=0,\"\",LİSTE!$A14)","v":""},{"$f":"IF(LİSTE!$A15=0,\"\",LİSTE!$A15)","v":""},{"$f":"IF(LİSTE!$A16=0,\"\",LİSTE!$A16)","v":""},{"$f":"IF(LİSTE!$A17=0,\"\",LİSTE!$A17)","v":""},{"$f":"IF(LİSTE!$A18=0,\"\",LİSTE!$A18)","v":""},{"$f":"IF(LİSTE!$A19=0,\"\",LİSTE!$A19)","v":""},{"$f":"IF(LİSTE!$A20=0,\"\",LİSTE!$A20)","v":""},{"$f":"IF(LİSTE!$A21=0,\"\",LİSTE!$A21)","v":""},{"$f":"IF(LİSTE!$A22=0,\"\",LİSTE!$A22)","v":""},{"$f":"IF(LİSTE!$A23=0,\"\",LİSTE!$A23)","v":""},{"$f":"IF(LİSTE!$A24=0,\"\",LİSTE!$A24)","v":""},{"$f":"IF(LİSTE!$A25=0,\"\",LİSTE!$A25)","v":""},{"$f":"IF(LİSTE!$A26=0,\"\",LİSTE!$A26)","v":""},{"$f":"IF(LİSTE!$A27=0,\"\",LİSTE!$A27)","v":""},{"$f":"IF(LİSTE!$A28=0,\"\",LİSTE!$A28)","v":""},{"$f":"IF(LİSTE!$A29=0,\"\",LİSTE!$A29)","v":""},{"$f":"IF(LİSTE!$A30=0,\"\",LİSTE!$A30)","v":""},{"$f":"IF(LİSTE!$A31=0,\"\",LİSTE!$A31)","v":""},{"$f":"IF(LİSTE!$A32=0,\"\",LİSTE!$A32)","v":""},{"$f":"IF(LİSTE!$A33=0,\"\",LİSTE!$A33)","v":""},{"$f":"IF(LİSTE!$A34=0,\"\",LİSTE!$A34)","v":""},{"$f":"IF(LİSTE!$A35=0,\"\",LİSTE!$A35)","v":""},{"$f":"IF(LİSTE!$A36=0,\"\",LİSTE!$A36)","v":""},{"$f":"IF(LİSTE!$A37=0,\"\",LİSTE!$A37)","v":""},{"$f":"IF(LİSTE!$A38=0,\"\",LİSTE!$A38)","v":""},{"$f":"IF(LİSTE!$A39=0,\"\",LİSTE!$A39)","v":""},{"$f":"IF(LİSTE!$A40=0,\"\",LİSTE!$A40)","v":""},{"$f":"IF(LİSTE!$A41=0,\"\",LİSTE!$A41)","v":""}]
[null,"SB.4.3.1. Çevresindeki herhangi bir yerin konumu ile ilgili çıkarımlarda bulunur."]
[null,"SB.4.3.2. Günlük yaşamında kullandığı mekânların krokisini çizer."]
[null,"SB.4.3.3. Yaşadığı çevredeki doğal ve beşerî unsurları ayırt eder."]
[null,"SB.4.3.4. Çevresinde meydana gelen hava olaylarını gözlemleyerek bulgularını resimli grafiklere aktarır."]
[null,"SB.4.3.5. Yaşadığı yer ve çevresindeki yer şekilleri ve nüfus özellikleri hakkında çıkarımlarda bulunur."]
[null,"SB.4.3.6. Doğal afetlere yönelik gerekli hazırlıkları yapar."]
[null,"SB.4.4.1. Çevresindeki teknolojik ürünleri, kullanım alanlarına göre sınıflandırır."]
[null,"SB.4.4.2. Teknolojik ürünlerin geçmişteki ve bugünkü kullanımlarını karşılaştırır."]
[null,"SB.4.4.3. Kullandığı teknolojik ürünlerin mucitlerini ve bu ürünlerin zaman içerisindeki gelişimini araştırır."]
[null,"TOPLAM PUAN",{"$f":"SUM(C4:C12)","v":0},0,0,0,0,0,0,0,0,0,0,0,0,0,0,0,0,0,0,0,0,0,0,0,0,0,0,0,0,0,0,0,0,0,0,0,0,0,0]
[null,"NOT KARŞILIĞI",{"$f":"(C13*100)/36","v":0},{"$f":"(D13*100)/36","v":0},0,0,0,0,0,0,0,0,0,0,0,0,0,0,0,0,0,0,0,0,0,0,0,0,0,0,0,0,0,0,0,0,0,0,0,0,0]
[null,null,null,null,null,null,null,null,null,null,null,null,null,null,null,null,null,null,null,null,null,null,null,null,null,null,null,null,null,null,null,null,null,{"$f":"LİSTE!D5","v":0}]
[null,null,null,null,null,null,null,null,null,null,null,null,null,null,null,null,null,null,null,null,null,null,null,null,null,null,null,null,null,null,null,null,null,{"$f":"CONCATENATE(LİSTE!D6,\" \",\"SINIF ÖĞRETMENİ\")","v":"4- SINIF ÖĞRETMENİ"}]

{"sheet":"SB3","index":16,"n_rows":22,"n_cols":41,"rows_kept":22,"cut":false,"hidden":false,"merged":[[20,2,20,9],[20,10,20,13],[20,33,20,39],[21,33,21,39]]}
[null,null,{"$f":"C20","v":0},{"$f":"D20","v":0},0,0,0,0,0,0,0,0,0,0,0,0,0,0,0,0,0,0,0,0,0,0,0,0,0,0,0,0,0,0,0,0,0,0,0,0,0]
[null,{"$f":"CONCATENATE(\" \",LİSTE!D2,\" \",LİSTE!D3,\"  \",LİSTE!D4,\" \",LİSTE!D6,\" \",\"SINIFI\",\" \",\"SOSYAL BİLGİLER DERSİ DERS VE ETKİNLİKLERE KATILIM DEĞERLENDİRME FORMU 3\")","v":" 2022-2023 EĞİTİM ÖĞRETİM YILI ATATÜRK İLKOKULU  1.DÖNEM 4- SINIFI SOSYAL BİLGİLER DERSİ DERS VE ETKİNLİKLERE KATILIM DEĞERLENDİRME FORMU 3"},{"$f":"IF(LİSTE!$B3=0,\"\",LİSTE!$B3)","v":""},{"$f":"IF(LİSTE!$B4=0,\"\",LİSTE!$B4)","v":""},{"$f":"IF(LİSTE!$B5=0,\"\",LİSTE!$B5)","v":""},{"$f":"IF(LİSTE!$B6=0,\"\",LİSTE!$B6)","v":""},{"$f":"IF(LİSTE!$B7=0,\"\",LİSTE!$B7)","v":""},{"$f":"IF(LİSTE!$B8=0,\"\",LİSTE!$B8)","v":""},{"$f":"IF(LİSTE!$B9=0,\"\",LİSTE!$B9)","v":""},{"$f":"IF(LİSTE!$B10=0,\"\",LİSTE!$B10)","v":""},{"$f":"IF(LİSTE!$B11=0,\"\",LİSTE!$B11)","v":""},{"$f":"IF(LİSTE!$B12=0,\"\",LİSTE!$B12)","v":""},{"$f":"IF(LİSTE!$B13=0,\"\",LİSTE!$B13)","v":""},{"$f":"IF(LİSTE!$B14=0,\"\",LİSTE!$B14)","v":""},{"$f":"IF(LİSTE!$B15=0,\"\",LİSTE!$B15)","v":""},{"$f":"IF(LİSTE!$B16=0,\"\",LİSTE!$B16)","v":""},{"$f":"IF(LİSTE!$B17=0,\"\",LİSTE!$B17)","v":""},{"$f":"IF(LİSTE!$B18=0,\"\",LİSTE!$B18)","v":""},{"$f":"IF(LİSTE!$B19=0,\"\",LİSTE!$B19)","v":""},{"$f":"IF(LİSTE!$B20=0,\"\",LİSTE!$B20)","v":""},{"$f":"IF(LİSTE!$B21=0,\"\",LİSTE!$B21)","v":""},{"$f":"IF(LİSTE!$B22=0,\"\",LİSTE!$B22)","v":""},{"$f":"IF(LİSTE!$B23=0,\"\",LİSTE!$B23)","v":""},{"$f":"IF(LİSTE!$B24=0,\"\",LİSTE!$B24)","v":""},{"$f":"IF(LİSTE!$B25=0,\"\",LİSTE!$B25)","v":""},{"$f":"IF(LİSTE!$B26=0,\"\",LİSTE!$B26)","v":""},{"$f":"IF(LİSTE!$B27=0,\"\",LİSTE!$B27)","v":""},{"$f":"IF(LİSTE!$B28=0,\"\",LİSTE!$B28)","v":""},{"$f":"IF(LİSTE!$B29=0,\"\",LİSTE!$B29)","v":""},{"$f":"IF(LİSTE!$B30=0,\"\",LİSTE!$B30)","v":""},{"$f":"IF(LİSTE!$B31=0,\"\",LİSTE!$B31)","v":""},{"$f":"IF(LİSTE!$B32=0,\"\",LİSTE!$B32)","v":""},{"$f":"IF(LİSTE!$B33=0,\"\",LİSTE!$B33)","v":""},{"$f":"IF(LİSTE!$B34=0,\"\",LİSTE!$B34)","v":""},{"$f":"IF(LİSTE!$B35=0,\"\",LİSTE!$B35)","v":""},{"$f":"IF(LİSTE!$B36=0,\"\",LİSTE!$B36)","v":""},{"$f":"IF(LİSTE!$B37=0,\"\",LİSTE!$B37)","v":""},{"$f":"IF(LİSTE!$B38=0,\"\",LİSTE!$B38)","v":""},{"$f":"IF(LİSTE!$B39=0,\"\",LİSTE!$B39)","v":""},{"$f":"IF(LİSTE!$B40=0,\"\",LİSTE!$B40)","v":""},{"$f":"IF(LİSTE!$B41=0,\"\",LİSTE!$B41)","v":""}]
[null,"KAZANIMLAR",{"$f":"IF(LİSTE!$A3=0,\"\",LİSTE!$A3)","v":""},{"$f":"IF(LİSTE!$A4=0,\"\",LİSTE!$A4)","v":""},{"$f":"IF(LİSTE!$A5=0,\"\",LİSTE!$A5)","v":""},{"$f":"IF(LİSTE!$A6=0,\"\",LİSTE!$A6)","v":""},{"$f":"IF(LİSTE!$A7=0,\"\",LİSTE!$A7)","v":""},{"$f":"IF(LİSTE!$A8=0,\"\",LİSTE!$A8)","v":""},{"$f":"IF(LİSTE!$A9=0,\"\",LİSTE!$A9)","v":""},{"$f":"IF(LİSTE!$A10=0,\"\",LİSTE!$A10)","v":""},{"$f":"IF(LİSTE!$A11=0,\"\",LİSTE!$A11)","v":""},{"$f":"IF(LİSTE!$A12=0,\"\",LİSTE!$A12)","v":""},{"$f":"IF(LİSTE!$A13=0,\"\",LİSTE!$A13)","v":""},{"$f":"IF(LİSTE!$A14=0,\"\",LİSTE!$A14)","v":""},{"$f":"IF(LİSTE!$A15=0,\"\",LİSTE!$A15)","v":""},{"$f":"IF(LİSTE!$A16=0,\"\",LİSTE!$A16)","v":""},{"$f":"IF(LİSTE!$A17=0,\"\",LİSTE!$A17)","v":""},{"$f":"IF(LİSTE!$A18=0,\"\",LİSTE!$A18)","v":""},{"$f":"IF(LİSTE!$A19=0,\"\",LİSTE!$A19)","v":""},{"$f":"IF(LİSTE!$A20=0,\"\",LİSTE!$A20)","v":""},{"$f":"IF(LİSTE!$A21=0,\"\",LİSTE!$A21)","v":""},{"$f":"IF(LİSTE!$A22=0,\"\",LİSTE!$A22)","v":""},{"$f":"IF(LİSTE!$A23=0,\"\",LİSTE!$A23)","v":""},{"$f":"IF(LİSTE!$A24=0,\"\",LİSTE!$A24)","v":""},{"$f":"IF(LİSTE!$A25=0,\"\",LİSTE!$A25)","v":""},{"$f":"IF(LİSTE!$A26=0,\"\",LİSTE!$A26)","v":""},{"$f":"IF(LİSTE!$A27=0,\"\",LİSTE!$A27)","v":""},{"$f":"IF(LİSTE!$A28=0,\"\",LİSTE!$A28)","v":""},{"$f":"IF(LİSTE!$A29=0,\"\",LİSTE!$A29)","v":""},{"$f":"IF(LİSTE!$A30=0,\"\",LİSTE!$A30)","v":""},{"$f":"IF(LİSTE!$A31=0,\"\",LİSTE!$A31)","v":""},{"$f":"IF(LİSTE!$A32=0,\"\",LİSTE!$A32)","v":""},{"$f":"IF(LİSTE!$A33=0,\"\",LİSTE!$A33)","v":""},{"$f":"IF(LİSTE!$A34=0,\"\",LİSTE!$A34)","v":""},{"$f":"IF(LİSTE!$A35=0,\"\",LİSTE!$A35)","v":""},{"$f":"IF(LİSTE!$A36=0,\"\",LİSTE!$A36)","v":""},{"$f":"IF(LİSTE!$A37=0,\"\",LİSTE!$A37)","v":""},{"$f":"IF(LİSTE!$A38=0,\"\",LİSTE!$A38)","v":""},{"$f":"IF(LİSTE!$A39=0,\"\",LİSTE!$A39)","v":""},{"$f":"IF(LİSTE!$A40=0,\"\",LİSTE!$A40)","v":""},{"$f":"IF(LİSTE!$A41=0,\"\",LİSTE!$A41)","v":""}]
[null,"Derse hazırlıklı ve araç-gereçleri tam gelir."]
[null,"Ders araç-gereçlerini amacına uygun ve temiz kullanır."]
[null,"Kendiliğinden söz alarak, sorulan sorulara cevap verir."]
[null,"İşlenen konu ile ilgili görüşünü çekinmeden ifade eder."]
[null,"Tartışmalara katılarak görüş belirtir."]
[null,"Arkadaşları ile uyumlu ve işbirliği içinde çalışır."]
[null,"Ders içi ve dersler arası ilişkilendirmeler yapar."]
[null,"Etkinliklerle ilgili yönergeleri dikkatle takip eder."]
[null,"Etkinlik örneklerini özenli ve dikkatli yapar."]
[null,"Derste öğretmenini /söz alan arkadaşlarını dikkatle dinler."]
[null,"Ders Sürecini ve Akışını Bozacak davranışlardan kaçınır."]
[null,"Verilen ödev ve görevleri özenerek, isteyerek ve zamanında yapar."]
[null,"Gözlem, inceleme ve araştırma ödevlerini özenerek yapar."]
[null,"Bilgi toplamak için çeşitli kaynaklara başvurur."]
[null,"Yazarken ve konuşurken Türkçeyi doğru ve düzgün kullanır."]
[null,"TOPLAM PUAN",{"$f":"SUM(C4:C18)","v":0},0,0,0,0,0,0,0,0,0,0,0,0,0,0,0,0,0,0,0,0,0,0,0,0,0,0,0,0,0,0,0,0,0,0,0,0,0,0]
[null,"NOT KARŞILIĞI",{"$f":"(C19*100)/60","v":0},{"$f":"(D19*100)/60","v":0},0,0,0,0,0,0,0,0,0,0,0,0,0,0,0,0,0,0,0,0,0,0,0,0,0,0,0,0,0,0,0,0,0,0,0,0,0]
[null,null,null,null,null,null,null,null,null,null,null,null,null,null,null,null,null,null,null,null,null,null,null,null,null,null,null,null,null,null,null,null,null,{"$f":"LİSTE!D5","v":0}]
[null,null,null,null,null,null,null,null,null,null,null,null,null,null,null,null,null,null,null,null,null,null,null,null,null,null,null,null,null,null,null,null,null,{"$f":"CONCATENATE(LİSTE!D6,\" \",\"SINIF ÖĞRETMENİ\")","v":"4- SINIF ÖĞRETMENİ"}]

{"sheet":"FB1","index":17,"n_rows":18,"n_cols":41,"rows_kept":18,"cut":false,"hidden":false,"merged":[[16,2,16,9],[16,10,16,13],[16,33,16,39],[17,33,17,39]]}
[null,null,{"$f":"C16","v":0},{"$f":"D16","v":0},0,0,0,0,0,0,0,0,0,0,0,0,0,0,0,0,0,0,0,0,0,0,0,0,0,0,0,0,0,0,0,0,0,0,0,0,0]
[null,{"$f":"CONCATENATE(\" \",LİSTE!D2,\" \",LİSTE!D3,\"  \",LİSTE!D4,\" \",LİSTE!D6,\" \",\"SINIFI\",\" \",\"FEN BİLİMLERİ DERSİ DERS VE ETKİNLİKLERE KATILIM DEĞERLENDİRME FORMU 1 (KAZANIM)\")","v":" 2022-2023 EĞİTİM ÖĞRETİM YILI ATATÜRK İLKOKULU  1.DÖNEM 4- SINIFI FEN BİLİMLERİ DERSİ DERS VE ETKİNLİKLERE KATILIM DEĞERLENDİRME FORMU 1 (KAZANIM)"},{"$f":"IF(LİSTE!$B3=0,\"\",LİSTE!$B3)","v":""},{"$f":"IF(LİSTE!$B4=0,\"\",LİSTE!$B4)","v":""},{"$f":"IF(LİSTE!$B5=0,\"\",LİSTE!$B5)","v":""},{"$f":"IF(LİSTE!$B6=0,\"\",LİSTE!$B6)","v":""},{"$f":"IF(LİSTE!$B7=0,\"\",LİSTE!$B7)","v":""},{"$f":"IF(LİSTE!$B8=0,\"\",LİSTE!$B8)","v":""},{"$f":"IF(LİSTE!$B9=0,\"\",LİSTE!$B9)","v":""},{"$f":"IF(LİSTE!$B10=0,\"\",LİSTE!$B10)","v":""},{"$f":"IF(LİSTE!$B11=0,\"\",LİSTE!$B11)","v":""},{"$f":"IF(LİSTE!$B12=0,\"\",LİSTE!$B12)","v":""},{"$f":"IF(LİSTE!$B13=0,\"\",LİSTE!$B13)","v":""},{"$f":"IF(LİSTE!$B14=0,\"\",LİSTE!$B14)","v":""},{"$f":"IF(LİSTE!$B15=0,\"\",LİSTE!$B15)","v":""},{"$f":"IF(LİSTE!$B16=0,\"\",LİSTE!$B16)","v":""},{"$f":"IF(LİSTE!$B17=0,\"\",LİSTE!$B17)","v":""},{"$f":"IF(LİSTE!$B18=0,\"\",LİSTE!$B18)","v":""},{"$f":"IF(LİSTE!$B19=0,\"\",LİSTE!$B19)","v":""},{"$f":"IF(LİSTE!$B20=0,\"\",LİSTE!$B20)","v":""},{"$f":"IF(LİSTE!$B21=0,\"\",LİSTE!$B21)","v":""},{"$f":"IF(LİSTE!$B22=0,\"\",LİSTE!$B22)","v":""},{"$f":"IF(LİSTE!$B23=0,\"\",LİSTE!$B23)","v":""},{"$f":"IF(LİSTE!$B24=0,\"\",LİSTE!$B24)","v":""},{"$f":"IF(LİSTE!$B25=0,\"\",LİSTE!$B25)","v":""},{"$f":"IF(LİSTE!$B26=0,\"\",LİSTE!$B26)","v":""},{"$f":"IF(LİSTE!$B27=0,\"\",LİSTE!$B27)","v":""},{"$f":"IF(LİSTE!$B28=0,\"\",LİSTE!$B28)","v":""},{"$f":"IF(LİSTE!$B29=0,\"\",LİSTE!$B29)","v":""},{"$f":"IF(LİSTE!$B30=0,\"\",LİSTE!$B30)","v":""},{"$f":"IF(LİSTE!$B31=0,\"\",LİSTE!$B31)","v":""},{"$f":"IF(LİSTE!$B32=0,\"\",LİSTE!$B32)","v":""},{"$f":"IF(LİSTE!$B33=0,\"\",LİSTE!$B33)","v":""},{"$f":"IF(LİSTE!$B34=0,\"\",LİSTE!$B34)","v":""},{"$f":"IF(LİSTE!$B35=0,\"\",LİSTE!$B35)","v":""},{"$f":"IF(LİSTE!$B36=0,\"\",LİSTE!$B36)","v":""},{"$f":"IF(LİSTE!$B37=0,\"\",LİSTE!$B37)","v":""},{"$f":"IF(LİSTE!$B38=0,\"\",LİSTE!$B38)","v":""},{"$f":"IF(LİSTE!$B39=0,\"\",LİSTE!$B39)","v":""},{"$f":"IF(LİSTE!$B40=0,\"\",LİSTE!$B40)","v":""},{"$f":"IF(LİSTE!$B41=0,\"\",LİSTE!$B41)","v":""}]
[null,"KAZANIMLAR",{"$f":"IF(LİSTE!$A3=0,\"\",LİSTE!$A3)","v":""},{"$f":"IF(LİSTE!$A4=0,\"\",LİSTE!$A4)","v":""},{"$f":"IF(LİSTE!$A5=0,\"\",LİSTE!$A5)","v":""},{"$f":"IF(LİSTE!$A6=0,\"\",LİSTE!$A6)","v":""},{"$f":"IF(LİSTE!$A7=0,\"\",LİSTE!$A7)","v":""},{"$f":"IF(LİSTE!$A8=0,\"\",LİSTE!$A8)","v":""},{"$f":"IF(LİSTE!$A9=0,\"\",LİSTE!$A9)","v":""},{"$f":"IF(LİSTE!$A10=0,\"\",LİSTE!$A10)","v":""},{"$f":"IF(LİSTE!$A11=0,\"\",LİSTE!$A11)","v":""},{"$f":"IF(LİSTE!$A12=0,\"\",LİSTE!$A12)","v":""},{"$f":"IF(LİSTE!$A13=0,\"\",LİSTE!$A13)","v":""},{"$f":"IF(LİSTE!$A14=0,\"\",LİSTE!$A14)","v":""},{"$f":"IF(LİSTE!$A15=0,\"\",LİSTE!$A15)","v":""},{"$f":"IF(LİSTE!$A16=0,\"\",LİSTE!$A16)","v":""},{"$f":"IF(LİSTE!$A17=0,\"\",LİSTE!$A17)","v":""},{"$f":"IF(LİSTE!$A18=0,\"\",LİSTE!$A18)","v":""},{"$f":"IF(LİSTE!$A19=0,\"\",LİSTE!$A19)","v":""},{"$f":"IF(LİSTE!$A20=0,\"\",LİSTE!$A20)","v":""},{"$f":"IF(LİSTE!$A21=0,\"\",LİSTE!$A21)","v":""},{"$f":"IF(LİSTE!$A22=0,\"\",LİSTE!$A22)","v":""},{"$f":"IF(LİSTE!$A23=0,\"\",LİSTE!$A23)","v":""},{"$f":"IF(LİSTE!$A24=0,\"\",LİSTE!$A24)","v":""},{"$f":"IF(LİSTE!$A25=0,\"\",LİSTE!$A25)","v":""},{"$f":"IF(LİSTE!$A26=0,\"\",LİSTE!$A26)","v":""},{"$f":"IF(LİSTE!$A27=0,\"\",LİSTE!$A27)","v":""},{"$f":"IF(LİSTE!$A28=0,\"\",LİSTE!$A28)","v":""},{"$f":"IF(LİSTE!$A29=0,\"\",LİSTE!$A29)","v":""},{"$f":"IF(LİSTE!$A30=0,\"\",LİSTE!$A30)","v":""},{"$f":"IF(LİSTE!$A31=0,\"\",LİSTE!$A31)","v":""},{"$f":"IF(LİSTE!$A32=0,\"\",LİSTE!$A32)","v":""},{"$f":"IF(LİSTE!$A33=0,\"\",LİSTE!$A33)","v":""},{"$f":"IF(LİSTE!$A34=0,\"\",LİSTE!$A34)","v":""},{"$f":"IF(LİSTE!$A35=0,\"\",LİSTE!$A35)","v":""},{"$f":"IF(LİSTE!$A36=0,\"\",LİSTE!$A36)","v":""},{"$f":"IF(LİSTE!$A37=0,\"\",LİSTE!$A37)","v":""},{"$f":"IF(LİSTE!$A38=0,\"\",LİSTE!$A38)","v":""},{"$f":"IF(LİSTE!$A39=0,\"\",LİSTE!$A39)","v":""},{"$f":"IF(LİSTE!$A40=0,\"\",LİSTE!$A40)","v":""},{"$f":"IF(LİSTE!$A41=0,\"\",LİSTE!$A41)","v":""}]
[null,"F.4.1.1.1. Yer kabuğunun kara tabakasının kayaçlardan oluştuğunu belirtir."]
[null,"F.4.1.1.2. Kayaçlarla madenleri ilişkilendirir ve kayaçların ham madde olarak önemini tartışır."]
[null,"F.4.1.1.3. Fosillerin oluşumunu açıklar."]
[null,"F.4.1.2.1. Dünya’nın dönme ve dolanma hareketleri arasındaki farkı açıklar."]
[null,"F.4.1.2.2. Dünya’nın hareketleri sonucu gerçekleşen olayları açıklar."]
[null,"F.4.2.1.1. Canlı yaşamı ve besin içerikleri arasındaki ilişkiyi açıklar."]
[null,"F.4.2.1.2. Su ve minerallerin bütün besinlerde bulunduğu çıkarımını yapar."]
[null,"F.4.2.1.3. Sağlıklı bir yaşam için besinlerin tazeliğinin ve doğallığının önemini, araştırma verilerine dayalı olarak tartışır."]
[null,"F.4.2.1.4. İnsan sağlığı ile dengeli beslenmeyi ilişkilendirir."]
[null,"F.4.2.1.5. Alkol ve sigara kullanımının insan sağlığına olan olumsuz etkilerinin farkına varır."]
[null,"F.4.2.1.6. Yakın çevresinde sigara kullanımını azaltmaya yönelik sorumluluk üstlenir."]
[null,"TOPLAM PUAN",{"$f":"SUM(C4:C14)","v":0},0,0,0,0,0,0,0,0,0,0,0,0,0,0,0,0,0,0,0,0,0,0,0,0,0,0,0,0,0,0,0,0,0,0,0,0,0,0]
[null,"NOT KARŞILIĞI",{"$f":"(C15*100)/44","v":0},{"$f":"(D15*100)/44","v":0},0,0,0,0,0,0,0,0,0,0,0,0,0,0,0,0,0,0,0,0,0,0,0,0,0,0,0,0,0,0,0,0,0,0,0,0,0]
[null,null,null,null,null,null,null,null,null,null,null,null,null,null,null,null,null,null,null,null,null,null,null,null,null,null,null,null,null,null,null,null,null,{"$f":"LİSTE!D5","v":0}]
[null,null,null,null,null,null,null,null,null,null,null,null,null,null,null,null,null,null,null,null,null,null,null,null,null,null,null,null,null,null,null,null,null,{"$f":"CONCATENATE(LİSTE!D6,\" \",\"SINIF ÖĞRETMENİ\")","v":"4- SINIF ÖĞRETMENİ"}]

{"sheet":"FB2","index":18,"n_rows":16,"n_cols":41,"rows_kept":16,"cut":false,"hidden":false,"merged":[[14,2,14,9],[14,10,14,13],[14,33,14,39],[15,33,15,39]]}
[null,null,{"$f":"C14","v":0},{"$f":"D14","v":0},0,0,0,0,0,0,0,0,0,0,0,0,0,0,0,0,0,0,0,0,0,0,0,0,0,0,0,0,0,0,0,0,0,0,0,0,0]
[null,{"$f":"CONCATENATE(\" \",LİSTE!D2,\" \",LİSTE!D3,\"  \",LİSTE!D4,\" \",LİSTE!D6,\" \",\"SINIFI\",\" \",\"FEN BİLİMLERİ DERSİ DERS VE ETKİNLİKLERE KATILIM DEĞERLENDİRME FORMU 2 (KAZANIM)\")","v":" 2022-2023 EĞİTİM ÖĞRETİM YILI ATATÜRK İLKOKULU  1.DÖNEM 4- SINIFI FEN BİLİMLERİ DERSİ DERS VE ETKİNLİKLERE KATILIM DEĞERLENDİRME FORMU 2 (KAZANIM)"},{"$f":"IF(LİSTE!$B3=0,\"\",LİSTE!$B3)","v":""},{"$f":"IF(LİSTE!$B4=0,\"\",LİSTE!$B4)","v":""},{"$f":"IF(LİSTE!$B5=0,\"\",LİSTE!$B5)","v":""},{"$f":"IF(LİSTE!$B6=0,\"\",LİSTE!$B6)","v":""},{"$f":"IF(LİSTE!$B7=0,\"\",LİSTE!$B7)","v":""},{"$f":"IF(LİSTE!$B8=0,\"\",LİSTE!$B8)","v":""},{"$f":"IF(LİSTE!$B9=0,\"\",LİSTE!$B9)","v":""},{"$f":"IF(LİSTE!$B10=0,\"\",LİSTE!$B10)","v":""},{"$f":"IF(LİSTE!$B11=0,\"\",LİSTE!$B11)","v":""},{"$f":"IF(LİSTE!$B12=0,\"\",LİSTE!$B12)","v":""},{"$f":"IF(LİSTE!$B13=0,\"\",LİSTE!$B13)","v":""},{"$f":"IF(LİSTE!$B14=0,\"\",LİSTE!$B14)","v":""},{"$f":"IF(LİSTE!$B15=0,\"\",LİSTE!$B15)","v":""},{"$f":"IF(LİSTE!$B16=0,\"\",LİSTE!$B16)","v":""},{"$f":"IF(LİSTE!$B17=0,\"\",LİSTE!$B17)","v":""},{"$f":"IF(LİSTE!$B18=0,\"\",LİSTE!$B18)","v":""},{"$f":"IF(LİSTE!$B19=0,\"\",LİSTE!$B19)","v":""},{"$f":"IF(LİSTE!$B20=0,\"\",LİSTE!$B20)","v":""},{"$f":"IF(LİSTE!$B21=0,\"\",LİSTE!$B21)","v":""},{"$f":"IF(LİSTE!$B22=0,\"\",LİSTE!$B22)","v":""},{"$f":"IF(LİSTE!$B23=0,\"\",LİSTE!$B23)","v":""},{"$f":"IF(LİSTE!$B24=0,\"\",LİSTE!$B24)","v":""},{"$f":"IF(LİSTE!$B25=0,\"\",LİSTE!$B25)","v":""},{"$f":"IF(LİSTE!$B26=0,\"\",LİSTE!$B26)","v":""},{"$f":"IF(LİSTE!$B27=0,\"\",LİSTE!$B27)","v":""},{"$f":"IF(LİSTE!$B28=0,\"\",LİSTE!$B28)","v":""},{"$f":"IF(LİSTE!$B29=0,\"\",LİSTE!$B29)","v":""},{"$f":"IF(LİSTE!$B30=0,\"\",LİSTE!$B30)","v":""},{"$f":"IF(LİSTE!$B31=0,\"\",LİSTE!$B31)","v":""},{"$f":"IF(LİSTE!$B32=0,\"\",LİSTE!$B32)","v":""},{"$f":"IF(LİSTE!$B33=0,\"\",LİSTE!$B33)","v":""},{"$f":"IF(LİSTE!$B34=0,\"\",LİSTE!$B34)","v":""},{"$f":"IF(LİSTE!$B35=0,\"\",LİSTE!$B35)","v":""},{"$f":"IF(LİSTE!$B36=0,\"\",LİSTE!$B36)","v":""},{"$f":"IF(LİSTE!$B37=0,\"\",LİSTE!$B37)","v":""},{"$f":"IF(LİSTE!$B38=0,\"\",LİSTE!$B38)","v":""},{"$f":"IF(LİSTE!$B39=0,\"\",LİSTE!$B39)","v":""},{"$f":"IF(LİSTE!$B40=0,\"\",LİSTE!$B40)","v":""},{"$f":"IF(LİSTE!$B41=0,\"\",LİSTE!$B41)","v":""}]
[null,"KAZANIMLAR",{"$f":"IF(LİSTE!$A3=0,\"\",LİSTE!$A3)","v":""},{"$f":"IF(LİSTE!$A4=0,\"\",LİSTE!$A4)","v":""},{"$f":"IF(LİSTE!$A5=0,\"\",LİSTE!$A5)","v":""},{"$f":"IF(LİSTE!$A6=0,\"\",LİSTE!$A6)","v":""},{"$f":"IF(LİSTE!$A7=0,\"\",LİSTE!$A7)","v":""},{"$f":"IF(LİSTE!$A8=0,\"\",LİSTE!$A8)","v":""},{"$f":"IF(LİSTE!$A9=0,\"\",LİSTE!$A9)","v":""},{"$f":"IF(LİSTE!$A10=0,\"\",LİSTE!$A10)","v":""},{"$f":"IF(LİSTE!$A11=0,\"\",LİSTE!$A11)","v":""},{"$f":"IF(LİSTE!$A12=0,\"\",LİSTE!$A12)","v":""},{"$f":"IF(LİSTE!$A13=0,\"\",LİSTE!$A13)","v":""},{"$f":"IF(LİSTE!$A14=0,\"\",LİSTE!$A14)","v":""},{"$f":"IF(LİSTE!$A15=0,\"\",LİSTE!$A15)","v":""},{"$f":"IF(LİSTE!$A16=0,\"\",LİSTE!$A16)","v":""},{"$f":"IF(LİSTE!$A17=0,\"\",LİSTE!$A17)","v":""},{"$f":"IF(LİSTE!$A18=0,\"\",LİSTE!$A18)","v":""},{"$f":"IF(LİSTE!$A19=0,\"\",LİSTE!$A19)","v":""},{"$f":"IF(LİSTE!$A20=0,\"\",LİSTE!$A20)","v":""},{"$f":"IF(LİSTE!$A21=0,\"\",LİSTE!$A21)","v":""},{"$f":"IF(LİSTE!$A22=0,\"\",LİSTE!$A22)","v":""},{"$f":"IF(LİSTE!$A23=0,\"\",LİSTE!$A23)","v":""},{"$f":"IF(LİSTE!$A24=0,\"\",LİSTE!$A24)","v":""},{"$f":"IF(LİSTE!$A25=0,\"\",LİSTE!$A25)","v":""},{"$f":"IF(LİSTE!$A26=0,\"\",LİSTE!$A26)","v":""},{"$f":"IF(LİSTE!$A27=0,\"\",LİSTE!$A27)","v":""},{"$f":"IF(LİSTE!$A28=0,\"\",LİSTE!$A28)","v":""},{"$f":"IF(LİSTE!$A29=0,\"\",LİSTE!$A29)","v":""},{"$f":"IF(LİSTE!$A30=0,\"\",LİSTE!$A30)","v":""},{"$f":"IF(LİSTE!$A31=0,\"\",LİSTE!$A31)","v":""},{"$f":"IF(LİSTE!$A32=0,\"\",LİSTE!$A32)","v":""},{"$f":"IF(LİSTE!$A33=0,\"\",LİSTE!$A33)","v":""},{"$f":"IF(LİSTE!$A34=0,\"\",LİSTE!$A34)","v":""},{"$f":"IF(LİSTE!$A35=0,\"\",LİSTE!$A35)","v":""},{"$f":"IF(LİSTE!$A36=0,\"\",LİSTE!$A36)","v":""},{"$f":"IF(LİSTE!$A37=0,\"\",LİSTE!$A37)","v":""},{"$f":"IF(LİSTE!$A38=0,\"\",LİSTE!$A38)","v":""},{"$f":"IF(LİSTE!$A39=0,\"\",LİSTE!$A39)","v":""},{"$f":"IF(LİSTE!$A40=0,\"\",LİSTE!$A40)","v":""},{"$f":"IF(LİSTE!$A41=0,\"\",LİSTE!$A41)","v":""}]
[null,"F.4.3.1.1. Kuvvetin, cisimlere hareket kazandırmasına ve cisimlerin şekillerini değiştirmesine yönelik deneyler yapar."]
[null,"F.4.3.2.1. Mıknatısı tanır ve kutupları olduğunu keşfeder."]
[null,"F.4.3.2.2. Mıknatısın etki ettiği maddeleri deney yaparak keşfeder."]
[null,"F.4.3.2.3. Mıknatısların günlük yaşamdaki kullanım alanlarına örnekler verir."]
[null,"F.4.3.2.4. Mıknatısların yeni kullanım alanları konusunda fikirlerini açıklar."]
[null,"F.4.4.1.1. Beş duyu organını kullanarak maddeyi niteleyen temel özellikleri açıklar."]
[null,"F.4.4.2.1. Farklı maddelerin kütle ve hacimlerini ölçerek karşılaştırır."]
[null,"F.4.4.2.2. Ölçülebilir özelliklerini kullanarak maddeyi tanımlar."]
[null,"F.4.4.3.1. Maddelerin hâllerine ait temel özellikleri karşılaştırır."]
[null,"TOPLAM PUAN",{"$f":"SUM(C4:C12)","v":0},0,0,0,0,0,0,0,0,0,0,0,0,0,0,0,0,0,0,0,0,0,0,0,0,0,0,0,0,0,0,0,0,0,0,0,0,0,0]
[null,"NOT KARŞILIĞI",{"$f":"(C13*100)/36","v":0},{"$f":"(D13*100)/36","v":0},0,0,0,0,0,0,0,0,0,0,0,0,0,0,0,0,0,0,0,0,0,0,0,0,0,0,0,0,0,0,0,0,0,0,0,0,0]
[null,null,null,null,null,null,null,null,null,null,null,null,null,null,null,null,null,null,null,null,null,null,null,null,null,null,null,null,null,null,null,null,null,{"$f":"LİSTE!D5","v":0}]
[null,null,null,null,null,null,null,null,null,null,null,null,null,null,null,null,null,null,null,null,null,null,null,null,null,null,null,null,null,null,null,null,null,{"$f":"CONCATENATE(LİSTE!D6,\" \",\"SINIF ÖĞRETMENİ\")","v":"4- SINIF ÖĞRETMENİ"}]

{"sheet":"FB3","index":19,"n_rows":19,"n_cols":41,"rows_kept":19,"cut":false,"hidden":false,"merged":[[17,2,17,9],[17,10,17,13],[17,33,17,39],[18,33,18,39]]}
[null,null,{"$f":"C17","v":0},{"$f":"D17","v":0},0,0,0,0,0,0,0,0,0,0,0,0,0,0,0,0,0,0,0,0,0,0,0,0,0,0,0,0,0,0,0,0,0,0,0]
[null,{"$f":"CONCATENATE(\" \",LİSTE!D2,\" \",LİSTE!D3,\"  \",LİSTE!D4,\" \",LİSTE!D6,\" \",\"SINIFI\",\" \",\"FEN BİLİMLERİ DERSİ DERS VE ETKİNLİKLERE KATILIM DEĞERLENDİRME FORMU 3 (KAZANIM)\")","v":" 2022-2023 EĞİTİM ÖĞRETİM YILI ATATÜRK İLKOKULU  1.DÖNEM 4- SINIFI FEN BİLİMLERİ DERSİ DERS VE ETKİNLİKLERE KATILIM DEĞERLENDİRME FORMU 3 (KAZANIM)"},{"$f":"IF(LİSTE!$B3=0,\"\",LİSTE!$B3)","v":""},{"$f":"IF(LİSTE!$B4=0,\"\",LİSTE!$B4)","v":""},{"$f":"IF(LİSTE!$B5=0,\"\",LİSTE!$B5)","v":""},{"$f":"IF(LİSTE!$B6=0,\"\",LİSTE!$B6)","v":""},{"$f":"IF(LİSTE!$B7=0,\"\",LİSTE!$B7)","v":""},{"$f":"IF(LİSTE!$B8=0,\"\",LİSTE!$B8)","v":""},{"$f":"IF(LİSTE!$B9=0,\"\",LİSTE!$B9)","v":""},{"$f":"IF(LİSTE!$B10=0,\"\",LİSTE!$B10)","v":""},{"$f":"IF(LİSTE!$B11=0,\"\",LİSTE!$B11)","v":""},{"$f":"IF(LİSTE!$B12=0,\"\",LİSTE!$B12)","v":""},{"$f":"IF(LİSTE!$B13=0,\"\",LİSTE!$B13)","v":""},{"$f":"IF(LİSTE!$B14=0,\"\",LİSTE!$B14)","v":""},{"$f":"IF(LİSTE!$B15=0,\"\",LİSTE!$B15)","v":""},{"$f":"IF(LİSTE!$B16=0,\"\",LİSTE!$B16)","v":""},{"$f":"IF(LİSTE!$B17=0,\"\",LİSTE!$B17)","v":""},{"$f":"IF(LİSTE!$B18=0,\"\",LİSTE!$B18)","v":""},{"$f":"IF(LİSTE!$B19=0,\"\",LİSTE!$B19)","v":""},{"$f":"IF(LİSTE!$B20=0,\"\",LİSTE!$B20)","v":""},{"$f":"IF(LİSTE!$B21=0,\"\",LİSTE!$B21)","v":""},{"$f":"IF(LİSTE!$B22=0,\"\",LİSTE!$B22)","v":""},{"$f":"IF(LİSTE!$B23=0,\"\",LİSTE!$B23)","v":""},{"$f":"IF(LİSTE!$B24=0,\"\",LİSTE!$B24)","v":""},{"$f":"IF(LİSTE!$B25=0,\"\",LİSTE!$B25)","v":""},{"$f":"IF(LİSTE!$B26=0,\"\",LİSTE!$B26)","v":""},{"$f":"IF(LİSTE!$B27=0,\"\",LİSTE!$B27)","v":""},{"$f":"IF(LİSTE!$B28=0,\"\",LİSTE!$B28)","v":""},{"$f":"IF(LİSTE!$B29=0,\"\",LİSTE!$B29)","v":""},{"$f":"IF(LİSTE!$B30=0,\"\",LİSTE!$B30)","v":""},{"$f":"IF(LİSTE!$B31=0,\"\",LİSTE!$B31)","v":""},{"$f":"IF(LİSTE!$B32=0,\"\",LİSTE!$B32)","v":""},{"$f":"IF(LİSTE!$B33=0,\"\",LİSTE!$B33)","v":""},{"$f":"IF(LİSTE!$B34=0,\"\",LİSTE!$B34)","v":""},{"$f":"IF(LİSTE!$B35=0,\"\",LİSTE!$B35)","v":""},{"$f":"IF(LİSTE!$B36=0,\"\",LİSTE!$B36)","v":""},{"$f":"IF(LİSTE!$B37=0,\"\",LİSTE!$B37)","v":""},{"$f":"IF(LİSTE!$B38=0,\"\",LİSTE!$B38)","v":""},{"$f":"IF(LİSTE!$B39=0,\"\",LİSTE!$B39)","v":""},{"$f":"IF(LİSTE!$B40=0,\"\",LİSTE!$B40)","v":""},{"$f":"IF(LİSTE!$B41=0,\"\",LİSTE!$B41)","v":""}]
[null,"KAZANIMLAR",{"$f":"IF(LİSTE!$A3=0,\"\",LİSTE!$A3)","v":""},{"$f":"IF(LİSTE!$A4=0,\"\",LİSTE!$A4)","v":""},{"$f":"IF(LİSTE!$A5=0,\"\",LİSTE!$A5)","v":""},{"$f":"IF(LİSTE!$A6=0,\"\",LİSTE!$A6)","v":""},{"$f":"IF(LİSTE!$A7=0,\"\",LİSTE!$A7)","v":""},{"$f":"IF(LİSTE!$A8=0,\"\",LİSTE!$A8)","v":""},{"$f":"IF(LİSTE!$A9=0,\"\",LİSTE!$A9)","v":""},{"$f":"IF(LİSTE!$A10=0,\"\",LİSTE!$A10)","v":""},{"$f":"IF(LİSTE!$A11=0,\"\",LİSTE!$A11)","v":""},{"$f":"IF(LİSTE!$A12=0,\"\",LİSTE!$A12)","v":""},{"$f":"IF(LİSTE!$A13=0,\"\",LİSTE!$A13)","v":""},{"$f":"IF(LİSTE!$A14=0,\"\",LİSTE!$A14)","v":""},{"$f":"IF(LİSTE!$A15=0,\"\",LİSTE!$A15)","v":""},{"$f":"IF(LİSTE!$A16=0,\"\",LİSTE!$A16)","v":""},{"$f":"IF(LİSTE!$A17=0,\"\",LİSTE!$A17)","v":""},{"$f":"IF(LİSTE!$A18=0,\"\",LİSTE!$A18)","v":""},{"$f":"IF(LİSTE!$A19=0,\"\",LİSTE!$A19)","v":""},{"$f":"IF(LİSTE!$A20=0,\"\",LİSTE!$A20)","v":""},{"$f":"IF(LİSTE!$A21=0,\"\",LİSTE!$A21)","v":""},{"$f":"IF(LİSTE!$A22=0,\"\",LİSTE!$A22)","v":""},{"$f":"IF(LİSTE!$A23=0,\"\",LİSTE!$A23)","v":""},{"$f":"IF(LİSTE!$A24=0,\"\",LİSTE!$A24)","v":""},{"$f":"IF(LİSTE!$A25=0,\"\",LİSTE!$A25)","v":""},{"$f":"IF(LİSTE!$A26=0,\"\",LİSTE!$A26)","v":""},{"$f":"IF(LİSTE!$A27=0,\"\",LİSTE!$A27)","v":""},{"$f":"IF(LİSTE!$A28=0,\"\",LİSTE!$A28)","v":""},{"$f":"IF(LİSTE!$A29=0,\"\",LİSTE!$A29)","v":""},{"$f":"IF(LİSTE!$A30=0,\"\",LİSTE!$A30)","v":""},{"$f":"IF(LİSTE!$A31=0,\"\",LİSTE!$A31)","v":""},{"$f":"IF(LİSTE!$A32=0,\"\",LİSTE!$A32)","v":""},{"$f":"IF(LİSTE!$A33=0,\"\",LİSTE!$A33)","v":""},{"$f":"IF(LİSTE!$A34=0,\"\",LİSTE!$A34)","v":""},{"$f":"IF(LİSTE!$A35=0,\"\",LİSTE!$A35)","v":""},{"$f":"IF(LİSTE!$A36=0,\"\",LİSTE!$A36)","v":""},{"$f":"IF(LİSTE!$A37=0,\"\",LİSTE!$A37)","v":""},{"$f":"IF(LİSTE!$A38=0,\"\",LİSTE!$A38)","v":""},{"$f":"IF(LİSTE!$A39=0,\"\",LİSTE!$A39)","v":""},{"$f":"IF(LİSTE!$A40=0,\"\",LİSTE!$A40)","v":""},{"$f":"IF(LİSTE!$A41=0,\"\",LİSTE!$A41)","v":""}]
[null,"Derse hazırlıklı ve araç-gereçleri tam gelir."]
[null,"Ders araç-gereçlerini amacına uygun ve temiz kullanır."]
[null,"Kendiliğinden söz alarak, sorulan sorulara cevap verir."]
[null,"Özgün örnekler verir,özgün sorular sorar."]
[null,"Verileri grafik ve çizelgelere dönüştürür."]
[null,"Deney sonuçlarını yorumlar,çıkarımlarda bulunur ve genellemelere ulaşır."]
[null,"İşlenen konu ile ilgili görüşünü çekinmeden ifade eder."]
[null,"Etkinliklerle ilgili yönergeleri dikkatle takip eder."]
[null,"Etkinlik örneklerini özenli ve dikkatli yapar."]
[null,"Derste öğretmenini /söz alan arkadaşlarını dikkatle dinler."]
[null,"Verilen ödev ve görevleri özenerek, isteyerek ve zamanında yapar."]
[null,"Bilgi toplamak için çeşitli kaynaklara başvurur."]
[null,"TOPLAM PUAN",{"$f":"SUM(C4:C15)","v":0},0,0,0,0,0,0,0,0,0,0,0,0,0,0,0,0,0,0,0,0,0,0,0,0,0,0,0,0,0,0,0,0,0,0,0,0,0,0]
[null,"NOT KARŞILIĞI",{"$f":"(C16*100)/48","v":0},{"$f":"(D16*100)/48","v":0},0,0,0,0,0,0,0,0,0,0,0,0,0,0,0,0,0,0,0,0,0,0,0,0,0,0,0,0,0,0,0,0,0,0,0,0,0]
[null,null,null,null,null,null,null,null,null,null,null,null,null,null,null,null,null,null,null,null,null,null,null,null,null,null,null,null,null,null,null,null,null,{"$f":"LİSTE!D5","v":0}]
[null,null,null,null,null,null,null,null,null,null,null,null,null,null,null,null,null,null,null,null,null,null,null,null,null,null,null,null,null,null,null,null,null,{"$f":"CONCATENATE(LİSTE!D6,\" \",\"SINIF ÖĞRETMENİ\")","v":"4- SINIF ÖĞRETMENİ"}]

{"sheet":"M1","index":20,"n_rows":21,"n_cols":41,"rows_kept":21,"cut":false,"hidden":false,"merged":[[19,2,19,9],[19,10,19,13],[19,33,19,39],[20,33,20,39]]}
[null,null,{"$f":"C19","v":0},{"$f":"D19","v":0},0,0,0,0,0,0,0,0,0,0,0,0,0,0,0,0,0,0,0,0,0,0,0,0,0,0,0,0,0,0,0,0,0,0,0,0,0]
[null,{"$f":"CONCATENATE(\" \",LİSTE!D2,\" \",LİSTE!D3,\"  \",LİSTE!D4,\" \",LİSTE!D6,\" \",\"SINIFI\",\" \",\"MATEMATİK DERSİ DERS VE ETKİNLİKLERE KATILIM DEĞERLENDİRME FORMU 1 (KAZANIM)\")","v":" 2022-2023 EĞİTİM ÖĞRETİM YILI ATATÜRK İLKOKULU  1.DÖNEM 4- SINIFI MATEMATİK DERSİ DERS VE ETKİNLİKLERE KATILIM DEĞERLENDİRME FORMU 1 (KAZANIM)"},{"$f":"IF(LİSTE!$B3=0,\"\",LİSTE!$B3)","v":""},{"$f":"IF(LİSTE!$B4=0,\"\",LİSTE!$B4)","v":""},{"$f":"IF(LİSTE!$B5=0,\"\",LİSTE!$B5)","v":""},{"$f":"IF(LİSTE!$B6=0,\"\",LİSTE!$B6)","v":""},{"$f":"IF(LİSTE!$B7=0,\"\",LİSTE!$B7)","v":""},{"$f":"IF(LİSTE!$B8=0,\"\",LİSTE!$B8)","v":""},{"$f":"IF(LİSTE!$B9=0,\"\",LİSTE!$B9)","v":""},{"$f":"IF(LİSTE!$B10=0,\"\",LİSTE!$B10)","v":""},{"$f":"IF(LİSTE!$B11=0,\"\",LİSTE!$B11)","v":""},{"$f":"IF(LİSTE!$B12=0,\"\",LİSTE!$B12)","v":""},{"$f":"IF(LİSTE!$B13=0,\"\",LİSTE!$B13)","v":""},{"$f":"IF(LİSTE!$B14=0,\"\",LİSTE!$B14)","v":""},{"$f":"IF(LİSTE!$B15=0,\"\",LİSTE!$B15)","v":""},{"$f":"IF(LİSTE!$B16=0,\"\",LİSTE!$B16)","v":""},{"$f":"IF(LİSTE!$B17=0,\"\",LİSTE!$B17)","v":""},{"$f":"IF(LİSTE!$B18=0,\"\",LİSTE!$B18)","v":""},{"$f":"IF(LİSTE!$B19=0,\"\",LİSTE!$B19)","v":""},{"$f":"IF(LİSTE!$B20=0,\"\",LİSTE!$B20)","v":""},{"$f":"IF(LİSTE!$B21=0,\"\",LİSTE!$B21)","v":""},{"$f":"IF(LİSTE!$B22=0,\"\",LİSTE!$B22)","v":""},{"$f":"IF(LİSTE!$B23=0,\"\",LİSTE!$B23)","v":""},{"$f":"IF(LİSTE!$B24=0,\"\",LİSTE!$B24)","v":""},{"$f":"IF(LİSTE!$B25=0,\"\",LİSTE!$B25)","v":""},{"$f":"IF(LİSTE!$B26=0,\"\",LİSTE!$B26)","v":""},{"$f":"IF(LİSTE!$B27=0,\"\",LİSTE!$B27)","v":""},{"$f":"IF(LİSTE!$B28=0,\"\",LİSTE!$B28)","v":""},{"$f":"IF(LİSTE!$B29=0,\"\",LİSTE!$B29)","v":""},{"$f":"IF(LİSTE!$B30=0,\"\",LİSTE!$B30)","v":""},{"$f":"IF(LİSTE!$B31=0,\"\",LİSTE!$B31)","v":""},{"$f":"IF(LİSTE!$B32=0,\"\",LİSTE!$B32)","v":""},{"$f":"IF(LİSTE!$B33=0,\"\",LİSTE!$B33)","v":""},{"$f":"IF(LİSTE!$B34=0,\"\",LİSTE!$B34)","v":""},{"$f":"IF(LİSTE!$B35=0,\"\",LİSTE!$B35)","v":""},{"$f":"IF(LİSTE!$B36=0,\"\",LİSTE!$B36)","v":""},{"$f":"IF(LİSTE!$B37=0,\"\",LİSTE!$B37)","v":""},{"$f":"IF(LİSTE!$B38=0,\"\",LİSTE!$B38)","v":""},{"$f":"IF(LİSTE!$B39=0,\"\",LİSTE!$B39)","v":""},{"$f":"IF(LİSTE!$B40=0,\"\",LİSTE!$B40)","v":""},{"$f":"IF(LİSTE!$B41=0,\"\",LİSTE!$B41)","v":""}]
[null,"KAZANIMLAR",{"$f":"IF(LİSTE!$A3=0,\"\",LİSTE!$A3)","v":""},{"$f":"IF(LİSTE!$A4=0,\"\",LİSTE!$A4)","v":""},{"$f":"IF(LİSTE!$A5=0,\"\",LİSTE!$A5)","v":""},{"$f":"IF(LİSTE!$A6=0,\"\",LİSTE!$A6)","v":""},{"$f":"IF(LİSTE!$A7=0,\"\",LİSTE!$A7)","v":""},{"$f":"IF(LİSTE!$A8=0,\"\",LİSTE!$A8)","v":""},{"$f":"IF(LİSTE!$A9=0,\"\",LİSTE!$A9)","v":""},{"$f":"IF(LİSTE!$A10=0,\"\",LİSTE!$A10)","v":""},{"$f":"IF(LİSTE!$A11=0,\"\",LİSTE!$A11)","v":""},{"$f":"IF(LİSTE!$A12=0,\"\",LİSTE!$A12)","v":""},{"$f":"IF(LİSTE!$A13=0,\"\",LİSTE!$A13)","v":""},{"$f":"IF(LİSTE!$A14=0,\"\",LİSTE!$A14)","v":""},{"$f":"IF(LİSTE!$A15=0,\"\",LİSTE!$A15)","v":""},{"$f":"IF(LİSTE!$A16=0,\"\",LİSTE!$A16)","v":""},{"$f":"IF(LİSTE!$A17=0,\"\",LİSTE!$A17)","v":""},{"$f":"IF(LİSTE!$A18=0,\"\",LİSTE!$A18)","v":""},{"$f":"IF(LİSTE!$A19=0,\"\",LİSTE!$A19)","v":""},{"$f":"IF(LİSTE!$A20=0,\"\",LİSTE!$A20)","v":""},{"$f":"IF(LİSTE!$A21=0,\"\",LİSTE!$A21)","v":""},{"$f":"IF(LİSTE!$A22=0,\"\",LİSTE!$A22)","v":""},{"$f":"IF(LİSTE!$A23=0,\"\",LİSTE!$A23)","v":""},{"$f":"IF(LİSTE!$A24=0,\"\",LİSTE!$A24)","v":""},{"$f":"IF(LİSTE!$A25=0,\"\",LİSTE!$A25)","v":""},{"$f":"IF(LİSTE!$A26=0,\"\",LİSTE!$A26)","v":""},{"$f":"IF(LİSTE!$A27=0,\"\",LİSTE!$A27)","v":""},{"$f":"IF(LİSTE!$A28=0,\"\",LİSTE!$A28)","v":""},{"$f":"IF(LİSTE!$A29=0,\"\",LİSTE!$A29)","v":""},{"$f":"IF(LİSTE!$A30=0,\"\",LİSTE!$A30)","v":""},{"$f":"IF(LİSTE!$A31=0,\"\",LİSTE!$A31)","v":""},{"$f":"IF(LİSTE!$A32=0,\"\",LİSTE!$A32)","v":""},{"$f":"IF(LİSTE!$A33=0,\"\",LİSTE!$A33)","v":""},{"$f":"IF(LİSTE!$A34=0,\"\",LİSTE!$A34)","v":""},{"$f":"IF(LİSTE!$A35=0,\"\",LİSTE!$A35)","v":""},{"$f":"IF(LİSTE!$A36=0,\"\",LİSTE!$A36)","v":""},{"$f":"IF(LİSTE!$A37=0,\"\",LİSTE!$A37)","v":""},{"$f":"IF(LİSTE!$A38=0,\"\",LİSTE!$A38)","v":""},{"$f":"IF(LİSTE!$A39=0,\"\",LİSTE!$A39)","v":""},{"$f":"IF(LİSTE!$A40=0,\"\",LİSTE!$A40)","v":""},{"$f":"IF(LİSTE!$A41=0,\"\",LİSTE!$A41)","v":""}]
[null,"M.4.1.1.1. 4, 5 ve 6 basamaklı doğal sayıları okur ve yazar."]
[null,"M.4.1.1.2. 10 000’e kadar (10 000 dâhil) yüzer ve biner sayar."]
[null,"M.4.1.1.3. 4, 5 ve 6 basamaklı doğal sayıların bölüklerini ve basamaklarını, basamaklarındaki rakamların basamak değerlerini belirler ve çözümler."]
[null,"M.4.1.1.4. Doğal sayıları en yakın onluğa veya yüzlüğe yuvarlar."]
[null,"M.4.1.1.5. En çok altı basamaklı doğal sayıları büyük/küçük sembolü kullanarak sıralar."]
[null,"M.4.1.1.6. Belli bir kurala göre artan veya azalan sayı örüntüleri oluşturur ve kuralını açıklar."]
[null,"M.4.1.2.1. En çok dört basamaklı doğal sayılarla toplama işlemini yapar."]
[null,"M.4.1.3.1. En çok dört basamaklı doğal sayılarla çıkarma işlemini yapar."]
[null,"M.4.1.3.2. Üç basamaklı doğal sayılardan 10’un katı olan iki basamaklı doğal sayıları ve 100’ün katı olan üç basamaklı doğal sayıları zihinden çıkarır."]
[null,"M.4.1.2.2. İki doğal sayının toplamını tahmin eder ve tahminini işlem sonucu ile karşılaştırır."]
[null,"M.4.1.2.3. En çok dört basamaklı doğal sayıları 100’ün katlarıyla zihinden toplar."]
[null,"M.4.1.2.4. Doğal sayılarla toplama işlemini gerektiren problemleri çözer."]
[null,"M.4.1.3.3. Doğal sayılarla yapılan çıkarma işleminin sonucunu tahmin eder, tahminini işlem sonucuyla karşılaştırır."]
[null,"M.4.1.3.4. Doğal sayılarla toplama ve çıkarma işlemini gerektiren problemleri çözer."]
[null,"TOPLAM PUAN",{"$f":"SUM(C4:C17)","v":0},0,0,0,0,0,0,0,0,0,0,0,0,0,0,0,0,0,0,0,0,0,0,0,0,0,0,0,0,0,0,0,0,0,0,0,0,0,0]
[null,"NOT KARŞILIĞI",{"$f":"(C18*100)/56","v":0},{"$f":"(D18*100)/56","v":0},0,0,0,0,0,0,0,0,0,0,0,0,0,0,0,0,0,0,0,0,0,0,0,0,0,0,0,0,0,0,0,0,0,0,0,0,0]
[null,null,null,null,null,null,null,null,null,null,null,null,null,null,null,null,null,null,null,null,null,null,null,null,null,null,null,null,null,null,null,null,null,{"$f":"LİSTE!D5","v":0}]
[null,null,null,null,null,null,null,null,null,null,null,null,null,null,null,null,null,null,null,null,null,null,null,null,null,null,null,null,null,null,null,null,null,{"$f":"CONCATENATE(LİSTE!D6,\" \",\"SINIF ÖĞRETMENİ\")","v":"4- SINIF ÖĞRETMENİ"}]

{"sheet":"M2","index":21,"n_rows":22,"n_cols":41,"rows_kept":22,"cut":false,"hidden":false,"merged":[[20,2,20,9],[20,10,20,13],[20,33,20,39],[21,33,21,39]]}
[null,null,{"$f":"C20","v":0},{"$f":"D20","v":0},0,0,0,0,0,0,0,0,0,0,0,0,0,0,0,0,0,0,0,0,0,0,0,0,0,0,0,0,0,0,0,0,0,0,0,0,0]
[null,{"$f":"CONCATENATE(\" \",LİSTE!D2,\" \",LİSTE!D3,\"  \",LİSTE!D4,\" \",LİSTE!D6,\" \",\"SINIFI\",\" \",\"MATEMATİK DERSİ DERS VE ETKİNLİKLERE KATILIM DEĞERLENDİRME FORMU 2 (KAZANIM)\")","v":" 2022-2023 EĞİTİM ÖĞRETİM YILI ATATÜRK İLKOKULU  1.DÖNEM 4- SINIFI MATEMATİK DERSİ DERS VE ETKİNLİKLERE KATILIM DEĞERLENDİRME FORMU 2 (KAZANIM)"},{"$f":"IF(LİSTE!$B3=0,\"\",LİSTE!$B3)","v":""},{"$f":"IF(LİSTE!$B4=0,\"\",LİSTE!$B4)","v":""},{"$f":"IF(LİSTE!$B5=0,\"\",LİSTE!$B5)","v":""},{"$f":"IF(LİSTE!$B6=0,\"\",LİSTE!$B6)","v":""},{"$f":"IF(LİSTE!$B7=0,\"\",LİSTE!$B7)","v":""},{"$f":"IF(LİSTE!$B8=0,\"\",LİSTE!$B8)","v":""},{"$f":"IF(LİSTE!$B9=0,\"\",LİSTE!$B9)","v":""},{"$f":"IF(LİSTE!$B10=0,\"\",LİSTE!$B10)","v":""},{"$f":"IF(LİSTE!$B11=0,\"\",LİSTE!$B11)","v":""},{"$f":"IF(LİSTE!$B12=0,\"\",LİSTE!$B12)","v":""},{"$f":"IF(LİSTE!$B13=0,\"\",LİSTE!$B13)","v":""},{"$f":"IF(LİSTE!$B14=0,\"\",LİSTE!$B14)","v":""},{"$f":"IF(LİSTE!$B15=0,\"\",LİSTE!$B15)","v":""},{"$f":"IF(LİSTE!$B16=0,\"\",LİSTE!$B16)","v":""},{"$f":"IF(LİSTE!$B17=0,\"\",LİSTE!$B17)","v":""},{"$f":"IF(LİSTE!$B18=0,\"\",LİSTE!$B18)","v":""},{"$f":"IF(LİSTE!$B19=0,\"\",LİSTE!$B19)","v":""},{"$f":"IF(LİSTE!$B20=0,\"\",LİSTE!$B20)","v":""},{"$f":"IF(LİSTE!$B21=0,\"\",LİSTE!$B21)","v":""},{"$f":"IF(LİSTE!$B22=0,\"\",LİSTE!$B22)","v":""},{"$f":"IF(LİSTE!$B23=0,\"\",LİSTE!$B23)","v":""},{"$f":"IF(LİSTE!$B24=0,\"\",LİSTE!$B24)","v":""},{"$f":"IF(LİSTE!$B25=0,\"\",LİSTE!$B25)","v":""},{"$f":"IF(LİSTE!$B26=0,\"\",LİSTE!$B26)","v":""},{"$f":"IF(LİSTE!$B27=0,\"\",LİSTE!$B27)","v":""},{"$f":"IF(LİSTE!$B28=0,\"\",LİSTE!$B28)","v":""},{"$f":"IF(LİSTE!$B29=0,\"\",LİSTE!$B29)","v":""},{"$f":"IF(LİSTE!$B30=0,\"\",LİSTE!$B30)","v":""},{"$f":"IF(LİSTE!$B31=0,\"\",LİSTE!$B31)","v":""},{"$f":"IF(LİSTE!$B32=0,\"\",LİSTE!$B32)","v":""},{"$f":"IF(LİSTE!$B33=0,\"\",LİSTE!$B33)","v":""},{"$f":"IF(LİSTE!$B34=0,\"\",LİSTE!$B34)","v":""},{"$f":"IF(LİSTE!$B35=0,\"\",LİSTE!$B35)","v":""},{"$f":"IF(LİSTE!$B36=0,\"\",LİSTE!$B36)","v":""},{"$f":"IF(LİSTE!$B37=0,\"\",LİSTE!$B37)","v":""},{"$f":"IF(LİSTE!$B38=0,\"\",LİSTE!$B38)","v":""},{"$f":"IF(LİSTE!$B39=0,\"\",LİSTE!$B39)","v":""},{"$f":"IF(LİSTE!$B40=0,\"\",LİSTE!$B40)","v":""},{"$f":"IF(LİSTE!$B41=0,\"\",LİSTE!$B41)","v":""}]
[null,"KAZANIMLAR",{"$f":"IF(LİSTE!$A3=0,\"\",LİSTE!$A3)","v":""},{"$f":"IF(LİSTE!$A4=0,\"\",LİSTE!$A4)","v":""},{"$f":"IF(LİSTE!$A5=0,\"\",LİSTE!$A5)","v":""},{"$f":"IF(LİSTE!$A6=0,\"\",LİSTE!$A6)","v":""},{"$f":"IF(LİSTE!$A7=0,\"\",LİSTE!$A7)","v":""},{"$f":"IF(LİSTE!$A8=0,\"\",LİSTE!$A8)","v":""},{"$f":"IF(LİSTE!$A9=0,\"\",LİSTE!$A9)","v":""},{"$f":"IF(LİSTE!$A10=0,\"\",LİSTE!$A10)","v":""},{"$f":"IF(LİSTE!$A11=0,\"\",LİSTE!$A11)","v":""},{"$f":"IF(LİSTE!$A12=0,\"\",LİSTE!$A12)","v":""},{"$f":"IF(LİSTE!$A13=0,\"\",LİSTE!$A13)","v":""},{"$f":"IF(LİSTE!$A14=0,\"\",LİSTE!$A14)","v":""},{"$f":"IF(LİSTE!$A15=0,\"\",LİSTE!$A15)","v":""},{"$f":"IF(LİSTE!$A16=0,\"\",LİSTE!$A16)","v":""},{"$f":"IF(LİSTE!$A17=0,\"\",LİSTE!$A17)","v":""},{"$f":"IF(LİSTE!$A18=0,\"\",LİSTE!$A18)","v":""},{"$f":"IF(LİSTE!$A19=0,\"\",LİSTE!$A19)","v":""},{"$f":"IF(LİSTE!$A20=0,\"\",LİSTE!$A20)","v":""},{"$f":"IF(LİSTE!$A21=0,\"\",LİSTE!$A21)","v":""},{"$f":"IF(LİSTE!$A22=0,\"\",LİSTE!$A22)","v":""},{"$f":"IF(LİSTE!$A23=0,\"\",LİSTE!$A23)","v":""},{"$f":"IF(LİSTE!$A24=0,\"\",LİSTE!$A24)","v":""},{"$f":"IF(LİSTE!$A25=0,\"\",LİSTE!$A25)","v":""},{"$f":"IF(LİSTE!$A26=0,\"\",LİSTE!$A26)","v":""},{"$f":"IF(LİSTE!$A27=0,\"\",LİSTE!$A27)","v":""},{"$f":"IF(LİSTE!$A28=0,\"\",LİSTE!$A28)","v":""},{"$f":"IF(LİSTE!$A29=0,\"\",LİSTE!$A29)","v":""},{"$f":"IF(LİSTE!$A30=0,\"\",LİSTE!$A30)","v":""},{"$f":"IF(LİSTE!$A31=0,\"\",LİSTE!$A31)","v":""},{"$f":"IF(LİSTE!$A32=0,\"\",LİSTE!$A32)","v":""},{"$f":"IF(LİSTE!$A33=0,\"\",LİSTE!$A33)","v":""},{"$f":"IF(LİSTE!$A34=0,\"\",LİSTE!$A34)","v":""},{"$f":"IF(LİSTE!$A35=0,\"\",LİSTE!$A35)","v":""},{"$f":"IF(LİSTE!$A36=0,\"\",LİSTE!$A36)","v":""},{"$f":"IF(LİSTE!$A37=0,\"\",LİSTE!$A37)","v":""},{"$f":"IF(LİSTE!$A38=0,\"\",LİSTE!$A38)","v":""},{"$f":"IF(LİSTE!$A39=0,\"\",LİSTE!$A39)","v":""},{"$f":"IF(LİSTE!$A40=0,\"\",LİSTE!$A40)","v":""},{"$f":"IF(LİSTE!$A41=0,\"\",LİSTE!$A41)","v":""}]
[null,"M.4.1.4.1 Üç basamaklı doğal sayılarla iki basamaklı doğal sayıları çarpar."]
[null,"M.4.1.4.2. Üç doğal sayı ile yapılan çarpma işleminde sayıların birbirleriyle çarpılma sırasının değişmesinin, sonucu değiştirmediğini gösterir."]
[null,"M.4.1.4.3. En çok üç basamaklı doğal sayıları 10, 100 ve 1000’in en çok dokuz katı olan doğal sayılarla; en çok iki basamaklı doğal sayıları 5, 25 ve 50 ile kısa yoldan çarpar."]
[null,"M.4.1.4.4. En çok üç basamaklı doğal sayıları 10, 100 ve 1000 ile zihinden çarpar."]
[null,"M.4.1.4.5. En çok iki basamaklı bir doğal sayı ile bir basamaklı bir doğal sayının çarpımını tahmin eder ve tahminini işlem sonucu ile karşılaştırır."]
[null,"M.4.1.4.6. Doğal sayılarla çarpma işlemini gerektiren problemleri çözer."]
[null,"M.4.1.5.1. Üç basamaklı doğal sayıları en çok iki basamaklı doğal sayılara böler."]
[null,"M.4.1.5.2. En çok dört basamaklı bir sayıyı bir basamaklı bir sayıya böler."]
[null,"M.4.1.5.3. Son üç basamağı sıfır olan en çok beş basamaklı doğal sayıları 10, 100 ve 1000’e zihinden böler."]
[null,"M.4.1.5.4. Bir bölme işleminin sonucunu tahmin eder ve tahminini işlem sonucu ile karşılaştırır."]
[null,"M.4.1.5.5. Çarpma ve bölme arasındaki ilişkiyi fark eder."]
[null,"M.4.1.5.6. Doğal sayılarla en az bir bölme işlemi gerektiren problemleri çözer."]
[null,"M.4.1.5.7. Aralarında eşitlik durumu olan iki matematiksel ifadeden birinde verilmeyen değeri belirler ve eşitliğin sağlandığını açıklar."]
[null,"M.4.1.5.8. Aralarında eşitlik durumu olmayan iki matematiksel ifadenin eşit olması için yapılması gereken işlemleri açıklar."]
[null,"M.4.1.6.1. Basit, bileşik ve tam sayılı kesri tanır ve modellerle gösterir."]
[null,"TOPLAM PUAN",{"$f":"SUM(C4:C18)","v":0},0,0,0,0,0,0,0,0,0,0,0,0,0,0,0,0,0,0,0,0,0,0,0,0,0,0,0,0,0,0,0,0,0,0,0,0,0,0]
[null,"NOT KARŞILIĞI",{"$f":"(C19*100)/60","v":0},{"$f":"(D19*100)/60","v":0},0,0,0,0,0,0,0,0,0,0,0,0,0,0,0,0,0,0,0,0,0,0,0,0,0,0,0,0,0,0,0,0,0,0,0,0,0]
[null,null,null,null,null,null,null,null,null,null,null,null,null,null,null,null,null,null,null,null,null,null,null,null,null,null,null,null,null,null,null,null,null,{"$f":"LİSTE!D5","v":0}]
[null,null,null,null,null,null,null,null,null,null,null,null,null,null,null,null,null,null,null,null,null,null,null,null,null,null,null,null,null,null,null,null,null,{"$f":"CONCATENATE(LİSTE!D6,\" \",\"SINIF ÖĞRETMENİ\")","v":"4- SINIF ÖĞRETMENİ"}]

{"sheet":"M3","index":22,"n_rows":17,"n_cols":41,"rows_kept":17,"cut":false,"hidden":false,"merged":[[15,2,15,9],[15,10,15,13],[15,33,15,39],[16,33,16,39]]}
[null,null,{"$f":"C15","v":0},{"$f":"D15","v":0},0,0,0,0,0,0,0,0,0,0,0,0,0,0,0,0,0,0,0,0,0,0,0,0,0,0,0,0,0,0,0,0,0,0,0,0,0]
[null,{"$f":"CONCATENATE(\" \",LİSTE!D2,\" \",LİSTE!D3,\"  \",LİSTE!D4,\" \",LİSTE!D6,\" \",\"SINIFI\",\" \",\"MATEMATİK DERSİ DERS VE ETKİNLİKLERE KATILIM DEĞERLENDİRME FORMU 3 (KAZANIM)\")","v":" 2022-2023 EĞİTİM ÖĞRETİM YILI ATATÜRK İLKOKULU  1.DÖNEM 4- SINIFI MATEMATİK DERSİ DERS VE ETKİNLİKLERE KATILIM DEĞERLENDİRME FORMU 3 (KAZANIM)"},{"$f":"IF(LİSTE!$B3=0,\"\",LİSTE!$B3)","v":""},{"$f":"IF(LİSTE!$B4=0,\"\",LİSTE!$B4)","v":""},{"$f":"IF(LİSTE!$B5=0,\"\",LİSTE!$B5)","v":""},{"$f":"IF(LİSTE!$B6=0,\"\",LİSTE!$B6)","v":""},{"$f":"IF(LİSTE!$B7=0,\"\",LİSTE!$B7)","v":""},{"$f":"IF(LİSTE!$B8=0,\"\",LİSTE!$B8)","v":""},{"$f":"IF(LİSTE!$B9=0,\"\",LİSTE!$B9)","v":""},{"$f":"IF(LİSTE!$B10=0,\"\",LİSTE!$B10)","v":""},{"$f":"IF(LİSTE!$B11=0,\"\",LİSTE!$B11)","v":""},{"$f":"IF(LİSTE!$B12=0,\"\",LİSTE!$B12)","v":""},{"$f":"IF(LİSTE!$B13=0,\"\",LİSTE!$B13)","v":""},{"$f":"IF(LİSTE!$B14=0,\"\",LİSTE!$B14)","v":""},{"$f":"IF(LİSTE!$B15=0,\"\",LİSTE!$B15)","v":""},{"$f":"IF(LİSTE!$B16=0,\"\",LİSTE!$B16)","v":""},{"$f":"IF(LİSTE!$B17=0,\"\",LİSTE!$B17)","v":""},{"$f":"IF(LİSTE!$B18=0,\"\",LİSTE!$B18)","v":""},{"$f":"IF(LİSTE!$B19=0,\"\",LİSTE!$B19)","v":""},{"$f":"IF(LİSTE!$B20=0,\"\",LİSTE!$B20)","v":""},{"$f":"IF(LİSTE!$B21=0,\"\",LİSTE!$B21)","v":""},{"$f":"IF(LİSTE!$B22=0,\"\",LİSTE!$B22)","v":""},{"$f":"IF(LİSTE!$B23=0,\"\",LİSTE!$B23)","v":""},{"$f":"IF(LİSTE!$B24=0,\"\",LİSTE!$B24)","v":""},{"$f":"IF(LİSTE!$B25=0,\"\",LİSTE!$B25)","v":""},{"$f":"IF(LİSTE!$B26=0,\"\",LİSTE!$B26)","v":""},{"$f":"IF(LİSTE!$B27=0,\"\",LİSTE!$B27)","v":""},{"$f":"IF(LİSTE!$B28=0,\"\",LİSTE!$B28)","v":""},{"$f":"IF(LİSTE!$B29=0,\"\",LİSTE!$B29)","v":""},{"$f":"IF(LİSTE!$B30=0,\"\",LİSTE!$B30)","v":""},{"$f":"IF(LİSTE!$B31=0,\"\",LİSTE!$B31)","v":""},{"$f":"IF(LİSTE!$B32=0,\"\",LİSTE!$B32)","v":""},{"$f":"IF(LİSTE!$B33=0,\"\",LİSTE!$B33)","v":""},{"$f":"IF(LİSTE!$B34=0,\"\",LİSTE!$B34)","v":""},{"$f":"IF(LİSTE!$B35=0,\"\",LİSTE!$B35)","v":""},{"$f":"IF(LİSTE!$B36=0,\"\",LİSTE!$B36)","v":""},{"$f":"IF(LİSTE!$B37=0,\"\",LİSTE!$B37)","v":""},{"$f":"IF(LİSTE!$B38=0,\"\",LİSTE!$B38)","v":""},{"$f":"IF(LİSTE!$B39=0,\"\",LİSTE!$B39)","v":""},{"$f":"IF(LİSTE!$B40=0,\"\",LİSTE!$B40)","v":""},{"$f":"IF(LİSTE!$B41=0,\"\",LİSTE!$B41)","v":""}]
[null,"KAZANIMLAR",{"$f":"IF(LİSTE!$A3=0,\"\",LİSTE!$A3)","v":""},{"$f":"IF(LİSTE!$A4=0,\"\",LİSTE!$A4)","v":""},{"$f":"IF(LİSTE!$A5=0,\"\",LİSTE!$A5)","v":""},{"$f":"IF(LİSTE!$A6=0,\"\",LİSTE!$A6)","v":""},{"$f":"IF(LİSTE!$A7=0,\"\",LİSTE!$A7)","v":""},{"$f":"IF(LİSTE!$A8=0,\"\",LİSTE!$A8)","v":""},{"$f":"IF(LİSTE!$A9=0,\"\",LİSTE!$A9)","v":""},{"$f":"IF(LİSTE!$A10=0,\"\",LİSTE!$A10)","v":""},{"$f":"IF(LİSTE!$A11=0,\"\",LİSTE!$A11)","v":""},{"$f":"IF(LİSTE!$A12=0,\"\",LİSTE!$A12)","v":""},{"$f":"IF(LİSTE!$A13=0,\"\",LİSTE!$A13)","v":""},{"$f":"IF(LİSTE!$A14=0,\"\",LİSTE!$A14)","v":""},{"$f":"IF(LİSTE!$A15=0,\"\",LİSTE!$A15)","v":""},{"$f":"IF(LİSTE!$A16=0,\"\",LİSTE!$A16)","v":""},{"$f":"IF(LİSTE!$A17=0,\"\",LİSTE!$A17)","v":""},{"$f":"IF(LİSTE!$A18=0,\"\",LİSTE!$A18)","v":""},{"$f":"IF(LİSTE!$A19=0,\"\",LİSTE!$A19)","v":""},{"$f":"IF(LİSTE!$A20=0,\"\",LİSTE!$A20)","v":""},{"$f":"IF(LİSTE!$A21=0,\"\",LİSTE!$A21)","v":""},{"$f":"IF(LİSTE!$A22=0,\"\",LİSTE!$A22)","v":""},{"$f":"IF(LİSTE!$A23=0,\"\",LİSTE!$A23)","v":""},{"$f":"IF(LİSTE!$A24=0,\"\",LİSTE!$A24)","v":""},{"$f":"IF(LİSTE!$A25=0,\"\",LİSTE!$A25)","v":""},{"$f":"IF(LİSTE!$A26=0,\"\",LİSTE!$A26)","v":""},{"$f":"IF(LİSTE!$A27=0,\"\",LİSTE!$A27)","v":""},{"$f":"IF(LİSTE!$A28=0,\"\",LİSTE!$A28)","v":""},{"$f":"IF(LİSTE!$A29=0,\"\",LİSTE!$A29)","v":""},{"$f":"IF(LİSTE!$A30=0,\"\",LİSTE!$A30)","v":""},{"$f":"IF(LİSTE!$A31=0,\"\",LİSTE!$A31)","v":""},{"$f":"IF(LİSTE!$A32=0,\"\",LİSTE!$A32)","v":""},{"$f":"IF(LİSTE!$A33=0,\"\",LİSTE!$A33)","v":""},{"$f":"IF(LİSTE!$A34=0,\"\",LİSTE!$A34)","v":""},{"$f":"IF(LİSTE!$A35=0,\"\",LİSTE!$A35)","v":""},{"$f":"IF(LİSTE!$A36=0,\"\",LİSTE!$A36)","v":""},{"$f":"IF(LİSTE!$A37=0,\"\",LİSTE!$A37)","v":""},{"$f":"IF(LİSTE!$A38=0,\"\",LİSTE!$A38)","v":""},{"$f":"IF(LİSTE!$A39=0,\"\",LİSTE!$A39)","v":""},{"$f":"IF(LİSTE!$A40=0,\"\",LİSTE!$A40)","v":""},{"$f":"IF(LİSTE!$A41=0,\"\",LİSTE!$A41)","v":""}]
[null,"Derslere hazırlıklı gelme"]
[null,"Verilen görevleri isteyerek ve zamanında yapma"]
[null,"Ders araç-gereçlerini amacına uygun ve temiz kullanma"]
[null,"Dikkatini derse yoğunlaştırma"]
[null,"Derse katılımda istekli ve aktif olma, soru sorma, özgüven"]
[null,"Görüşleriyle tartışmalara katılma"]
[null,"İşbirliği yapma"]
[null,"Etkinlik örneklerini özenli ve dikkatli yapma"]
[null,"Türkçeyi doğru, güzel ve etkili kullanma"]
[null,"Problemi çözmede mantık yürütme"]
[null,"TOPLAM PUAN",{"$f":"SUM(C4:C13)","v":0},0,0,0,0,0,0,0,0,0,0,0,0,0,0,0,0,0,0,0,0,0,0,0,0,0,0,0,0,0,0,0,0,0,0,0,0,0,0]
[null,"NOT KARŞILIĞI",{"$f":"(C14*100)/40","v":0},{"$f":"(D14*100)/40","v":0},0,0,0,0,0,0,0,0,0,0,0,0,0,0,0,0,0,0,0,0,0,0,0,0,0,0,0,0,0,0,0,0,0,0,0,0,0]
[null,null,null,null,null,null,null,null,null,null,null,null,null,null,null,null,null,null,null,null,null,null,null,null,null,null,null,null,null,null,null,null,null,{"$f":"LİSTE!D5","v":0}]
[null,null,null,null,null,null,null,null,null,null,null,null,null,null,null,null,null,null,null,null,null,null,null,null,null,null,null,null,null,null,null,null,null,{"$f":"CONCATENATE(LİSTE!D6,\" \",\"SINIF ÖĞRETMENİ\")","v":"4- SINIF ÖĞRETMENİ"}]

{"sheet":"TR1","index":23,"n_rows":46,"n_cols":41,"rows_kept":46,"cut":false,"hidden":false,"merged":[[44,2,44,9],[44,10,44,13],[44,33,44,39],[45,33,45,39]]}
[null,null,{"$f":"C44","v":0},{"$f":"D44","v":0},0,0,0,0,0,0,0,0,0,0,0,0,0,0,0,0,0,0,0,0,0,0,0,0,0,0,0,0,0,0,0,0,0,0,0]
[null,{"$f":"CONCATENATE(\" \",LİSTE!D2,\" \",LİSTE!D3,\"  \",LİSTE!D4,\" \",LİSTE!D6,\" \",\"SINIFI\",\" \",\"TÜRKÇE DERSİ DERS VE ETKİNLİKLERE KATILIM DEĞERLENDİRME FORMU 1 (KAZANIM)\")","v":" 2022-2023 EĞİTİM ÖĞRETİM YILI ATATÜRK İLKOKULU  1.DÖNEM 4- SINIFI TÜRKÇE DERSİ DERS VE ETKİNLİKLERE KATILIM DEĞERLENDİRME FORMU 1 (KAZANIM)"},{"$f":"IF(LİSTE!$B3=0,\"\",LİSTE!$B3)","v":""},{"$f":"IF(LİSTE!$B4=0,\"\",LİSTE!$B4)","v":""},{"$f":"IF(LİSTE!$B5=0,\"\",LİSTE!$B5)","v":""},{"$f":"IF(LİSTE!$B6=0,\"\",LİSTE!$B6)","v":""},{"$f":"IF(LİSTE!$B7=0,\"\",LİSTE!$B7)","v":""},{"$f":"IF(LİSTE!$B8=0,\"\",LİSTE!$B8)","v":""},{"$f":"IF(LİSTE!$B9=0,\"\",LİSTE!$B9)","v":""},{"$f":"IF(LİSTE!$B10=0,\"\",LİSTE!$B10)","v":""},{"$f":"IF(LİSTE!$B11=0,\"\",LİSTE!$B11)","v":""},{"$f":"IF(LİSTE!$B12=0,\"\",LİSTE!$B12)","v":""},{"$f":"IF(LİSTE!$B13=0,\"\",LİSTE!$B13)","v":""},{"$f":"IF(LİSTE!$B14=0,\"\",LİSTE!$B14)","v":""},{"$f":"IF(LİSTE!$B15=0,\"\",LİSTE!$B15)","v":""},{"$f":"IF(LİSTE!$B16=0,\"\",LİSTE!$B16)","v":""},{"$f":"IF(LİSTE!$B17=0,\"\",LİSTE!$B17)","v":""},{"$f":"IF(LİSTE!$B18=0,\"\",LİSTE!$B18)","v":""},{"$f":"IF(LİSTE!$B19=0,\"\",LİSTE!$B19)","v":""},{"$f":"IF(LİSTE!$B20=0,\"\",LİSTE!$B20)","v":""},{"$f":"IF(LİSTE!$B21=0,\"\",LİSTE!$B21)","v":""},{"$f":"IF(LİSTE!$B22=0,\"\",LİSTE!$B22)","v":""},{"$f":"IF(LİSTE!$B23=0,\"\",LİSTE!$B23)","v":""},{"$f":"IF(LİSTE!$B24=0,\"\",LİSTE!$B24)","v":""},{"$f":"IF(LİSTE!$B25=0,\"\",LİSTE!$B25)","v":""},{"$f":"IF(LİSTE!$B26=0,\"\",LİSTE!$B26)","v":""},{"$f":"IF(LİSTE!$B27=0,\"\",LİSTE!$B27)","v":""},{"$f":"IF(LİSTE!$B28=0,\"\",LİSTE!$B28)","v":""},{"$f":"IF(LİSTE!$B29=0,\"\",LİSTE!$B29)","v":""},{"$f":"IF(LİSTE!$B30=0,\"\",LİSTE!$B30)","v":""},{"$f":"IF(LİSTE!$B31=0,\"\",LİSTE!$B31)","v":""},{"$f":"IF(LİSTE!$B32=0,\"\",LİSTE!$B32)","v":""},{"$f":"IF(LİSTE!$B33=0,\"\",LİSTE!$B33)","v":""},{"$f":"IF(LİSTE!$B34=0,\"\",LİSTE!$B34)","v":""},{"$f":"IF(LİSTE!$B35=0,\"\",LİSTE!$B35)","v":""},{"$f":"IF(LİSTE!$B36=0,\"\",LİSTE!$B36)","v":""},{"$f":"IF(LİSTE!$B37=0,\"\",LİSTE!$B37)","v":""},{"$f":"IF(LİSTE!$B38=0,\"\",LİSTE!$B38)","v":""},{"$f":"IF(LİSTE!$B39=0,\"\",LİSTE!$B39)","v":""},{"$f":"IF(LİSTE!$B40=0,\"\",LİSTE!$B40)","v":""},{"$f":"IF(LİSTE!$B41=0,\"\",LİSTE!$B41)","v":""}]
[null,"KAZANIMLAR",{"$f":"IF(LİSTE!$A3=0,\"\",LİSTE!$A3)","v":""},{"$f":"IF(LİSTE!$A4=0,\"\",LİSTE!$A4)","v":""},{"$f":"IF(LİSTE!$A5=0,\"\",LİSTE!$A5)","v":""},{"$f":"IF(LİSTE!$A6=0,\"\",LİSTE!$A6)","v":""},{"$f":"IF(LİSTE!$A7=0,\"\",LİSTE!$A7)","v":""},{"$f":"IF(LİSTE!$A8=0,\"\",LİSTE!$A8)","v":""},{"$f":"IF(LİSTE!$A9=0,\"\",LİSTE!$A9)","v":""},{"$f":"IF(LİSTE!$A10=0,\"\",LİSTE!$A10)","v":""},{"$f":"IF(LİSTE!$A11=0,\"\",LİSTE!$A11)","v":""},{"$f":"IF(LİSTE!$A12=0,\"\",LİSTE!$A12)","v":""},{"$f":"IF(LİSTE!$A13=0,\"\",LİSTE!$A13)","v":""},{"$f":"IF(LİSTE!$A14=0,\"\",LİSTE!$A14)","v":""},{"$f":"IF(LİSTE!$A15=0,\"\",LİSTE!$A15)","v":""},{"$f":"IF(LİSTE!$A16=0,\"\",LİSTE!$A16)","v":""},{"$f":"IF(LİSTE!$A17=0,\"\",LİSTE!$A17)","v":""},{"$f":"IF(LİSTE!$A18=0,\"\",LİSTE!$A18)","v":""},{"$f":"IF(LİSTE!$A19=0,\"\",LİSTE!$A19)","v":""},{"$f":"IF(LİSTE!$A20=0,\"\",LİSTE!$A20)","v":""},{"$f":"IF(LİSTE!$A21=0,\"\",LİSTE!$A21)","v":""},{"$f":"IF(LİSTE!$A22=0,\"\",LİSTE!$A22)","v":""},{"$f":"IF(LİSTE!$A23=0,\"\",LİSTE!$A23)","v":""},{"$f":"IF(LİSTE!$A24=0,\"\",LİSTE!$A24)","v":""},{"$f":"IF(LİSTE!$A25=0,\"\",LİSTE!$A25)","v":""},{"$f":"IF(LİSTE!$A26=0,\"\",LİSTE!$A26)","v":""},{"$f":"IF(LİSTE!$A27=0,\"\",LİSTE!$A27)","v":""},{"$f":"IF(LİSTE!$A28=0,\"\",LİSTE!$A28)","v":""},{"$f":"IF(LİSTE!$A29=0,\"\",LİSTE!$A29)","v":""},{"$f":"IF(LİSTE!$A30=0,\"\",LİSTE!$A30)","v":""},{"$f":"IF(LİSTE!$A31=0,\"\",LİSTE!$A31)","v":""},{"$f":"IF(LİSTE!$A32=0,\"\",LİSTE!$A32)","v":""},{"$f":"IF(LİSTE!$A33=0,\"\",LİSTE!$A33)","v":""},{"$f":"IF(LİSTE!$A34=0,\"\",LİSTE!$A34)","v":""},{"$f":"IF(LİSTE!$A35=0,\"\",LİSTE!$A35)","v":""},{"$f":"IF(LİSTE!$A36=0,\"\",LİSTE!$A36)","v":""},{"$f":"IF(LİSTE!$A37=0,\"\",LİSTE!$A37)","v":""},{"$f":"IF(LİSTE!$A38=0,\"\",LİSTE!$A38)","v":""},{"$f":"IF(LİSTE!$A39=0,\"\",LİSTE!$A39)","v":""},{"$f":"IF(LİSTE!$A40=0,\"\",LİSTE!$A40)","v":""},{"$f":"IF(LİSTE!$A41=0,\"\",LİSTE!$A41)","v":""}]
[null,"Görselden/görsellerden hareketle dinleyeceği/izleyeceği metnin konusunu tahmin eder."]
[null,"Dinlediklerinde/izlediklerinde geçen olayların gelişimi ve sonucu hakkında tahminde bulunur."]
[null,"Dinlediği/izlediği metni ana hatlarıyla anlatır."]
[null,"Dinlediklerinde/izlediklerinde geçen, bilmediği kelimelerin anlamını tahmin eder."]
[null,"Dinlediklerinin/izlediklerinin konusunu belirler."]
[null,"Dinlediklerinin/izlediklerinin ana fikrini/ana duygusunu belirler."]
[null,"Dinlediklerine/izlediklerine yönelik sorulara cevap verir."]
[null,"Dinlediklerine/izlediklerine farklı başlıklar önerir."]
[null,"Dinledikleriyle/izledikleriyle ilgili görüşlerini ifade eder."]
[null,"Dinlediği/izlediği hikâye edici metinleri canlandırır."]
[null,"Dinlediklerinin/izlediklerinin içeriğini değerlendirir."]
[null,"Dinleme stratejilerini uygular."]
[null,"Konuşmacının sözlü olmayan mesajlarını kavrar."]
[null,"Kelimeleri anlamlarına uygun kullanır."]
[null,"Hazırlıksız konuşmalar yapar."]
[null,"Hazırlıklı konuşmalar yapar."]
[null,"Konuşma stratejilerini uygular."]
[null,"Sınıf içindeki tartışma ve konuşmalara katılır."]
[null,"Konuşmalarında yabancı dillerden alınmış, dilimize henüz yerleşmemiş kelimelerin Türkçelerini kullanır."]
[null,"Noktalama işaretlerine dikkat ederek sesli ve sessiz okur."]
[null,"Vurgu, tonlama ve telaffuza dikkat ederek okur."]
[null,"Şiir okur."]
[null,"Metinleri türün özelliklerine uygun biçimde okur."]
[null,"Farklı yazı karakterleri ile yazılmış yazıları okur."]
[null,"Okuma stratejilerini uygular."]
[null,"Kelimelerin zıt anlamlılarını bulur."]
[null,"Kelimelerin eş anlamlılarını bulur."]
[null,"Eş sesli kelimelerin anlamlarını ayırt eder."]
[null,"Okuduğu metindeki gerçek, mecaz ve terim anlamlı sözcükleri belirler."]
[null,"Deyim ve atasözlerinin metnin anlamına katkısını kavrar."]
[null,"Bağlamdan yararlanarak bilmediği kelime ve kelime gruplarının anlamını tahmin eder."]
[null,"Görsellerle ilgili soruları cevaplar."]
[null,"Görsellerden ve başlıktan hareketle okuyacağı metnin konusunu tahmin eder."]
[null,"Okuduklarını ana hatlarıyla anlatır."]
[null,"Okuduğu metnin konusunu belirler."]
[null,"Metnin ana fikri/ana duygusunu belirler."]
[null,"Okuduğu metinle ilgili soruları cevaplar."]
[null,"Metinle ilgili sorular sorar."]
[null,"Okuduğu metinlerdeki hikâye unsurlarını belirler."]
[null,"TOPLAM PUAN",{"$f":"SUM(C4:C42)","v":0},0,0,0,0,0,0,0,0,0,0,0,0,0,0,0,0,0,0,0,0,0,0,0,0,0,0,0,0,0,0,0,0,0,0,0,0,0,0]
[null,"NOT KARŞILIĞI",{"$f":"(C43*100)/156","v":0},{"$f":"(D43*100)/156","v":0},0,0,0,0,0,0,0,0,0,0,0,0,0,0,0,0,0,0,0,0,0,0,0,0,0,0,0,0,0,0,0,0,0,0,0,0,0]
[null,null,null,null,null,null,null,null,null,null,null,null,null,null,null,null,null,null,null,null,null,null,null,null,null,null,null,null,null,null,null,null,null,{"$f":"LİSTE!D5","v":0}]
[null,null,null,null,null,null,null,null,null,null,null,null,null,null,null,null,null,null,null,null,null,null,null,null,null,null,null,null,null,null,null,null,null,{"$f":"CONCATENATE(LİSTE!D6,\" \",\"SINIF ÖĞRETMENİ\")","v":"4- SINIF ÖĞRETMENİ"}]

{"sheet":"TR2","index":24,"n_rows":46,"n_cols":41,"rows_kept":46,"cut":false,"hidden":false,"merged":[[44,2,44,9],[44,10,44,13],[44,33,44,39],[45,33,45,39]]}
[null,null,{"$f":"C44","v":0},{"$f":"D44","v":0},0,0,0,0,0,0,0,0,0,0,0,0,0,0,0,0,0,0,0,0,0,0,0,0,0,0,0,0,0,0,0,0,0,0,0,0,0]
[null,{"$f":"CONCATENATE(\" \",LİSTE!D2,\" \",LİSTE!D3,\"  \",LİSTE!D4,\" \",LİSTE!D6,\" \",\"SINIFI\",\" \",\"TÜRKÇE DERSİ DERS VE ETKİNLİKLERE KATILIM DEĞERLENDİRME FORMU 2 (KAZANIM)\")","v":" 2022-2023 EĞİTİM ÖĞRETİM YILI ATATÜRK İLKOKULU  1.DÖNEM 4- SINIFI TÜRKÇE DERSİ DERS VE ETKİNLİKLERE KATILIM DEĞERLENDİRME FORMU 2 (KAZANIM)"},{"$f":"IF(LİSTE!$B3=0,\"\",LİSTE!$B3)","v":""},{"$f":"IF(LİSTE!$B4=0,\"\",LİSTE!$B4)","v":""},{"$f":"IF(LİSTE!$B5=0,\"\",LİSTE!$B5)","v":""},{"$f":"IF(LİSTE!$B6=0,\"\",LİSTE!$B6)","v":""},{"$f":"IF(LİSTE!$B7=0,\"\",LİSTE!$B7)","v":""},{"$f":"IF(LİSTE!$B8=0,\"\",LİSTE!$B8)","v":""},{"$f":"IF(LİSTE!$B9=0,\"\",LİSTE!$B9)","v":""},{"$f":"IF(LİSTE!$B10=0,\"\",LİSTE!$B10)","v":""},{"$f":"IF(LİSTE!$B11=0,\"\",LİSTE!$B11)","v":""},{"$f":"IF(LİSTE!$B12=0,\"\",LİSTE!$B12)","v":""},{"$f":"IF(LİSTE!$B13=0,\"\",LİSTE!$B13)","v":""},{"$f":"IF(LİSTE!$B14=0,\"\",LİSTE!$B14)","v":""},{"$f":"IF(LİSTE!$B15=0,\"\",LİSTE!$B15)","v":""},{"$f":"IF(LİSTE!$B16=0,\"\",LİSTE!$B16)","v":""},{"$f":"IF(LİSTE!$B17=0,\"\",LİSTE!$B17)","v":""},{"$f":"IF(LİSTE!$B18=0,\"\",LİSTE!$B18)","v":""},{"$f":"IF(LİSTE!$B19=0,\"\",LİSTE!$B19)","v":""},{"$f":"IF(LİSTE!$B20=0,\"\",LİSTE!$B20)","v":""},{"$f":"IF(LİSTE!$B21=0,\"\",LİSTE!$B21)","v":""},{"$f":"IF(LİSTE!$B22=0,\"\",LİSTE!$B22)","v":""},{"$f":"IF(LİSTE!$B23=0,\"\",LİSTE!$B23)","v":""},{"$f":"IF(LİSTE!$B24=0,\"\",LİSTE!$B24)","v":""},{"$f":"IF(LİSTE!$B25=0,\"\",LİSTE!$B25)","v":""},{"$f":"IF(LİSTE!$B26=0,\"\",LİSTE!$B26)","v":""},{"$f":"IF(LİSTE!$B27=0,\"\",LİSTE!$B27)","v":""},{"$f":"IF(LİSTE!$B28=0,\"\",LİSTE!$B28)","v":""},{"$f":"IF(LİSTE!$B29=0,\"\",LİSTE!$B29)","v":""},{"$f":"IF(LİSTE!$B30=0,\"\",LİSTE!$B30)","v":""},{"$f":"IF(LİSTE!$B31=0,\"\",LİSTE!$B31)","v":""},{"$f":"IF(LİSTE!$B32=0,\"\",LİSTE!$B32)","v":""},{"$f":"IF(LİSTE!$B33=0,\"\",LİSTE!$B33)","v":""},{"$f":"IF(LİSTE!$B34=0,\"\",LİSTE!$B34)","v":""},{"$f":"IF(LİSTE!$B35=0,\"\",LİSTE!$B35)","v":""},{"$f":"IF(LİSTE!$B36=0,\"\",LİSTE!$B36)","v":""},{"$f":"IF(LİSTE!$B37=0,\"\",LİSTE!$B37)","v":""},{"$f":"IF(LİSTE!$B38=0,\"\",LİSTE!$B38)","v":""},{"$f":"IF(LİSTE!$B39=0,\"\",LİSTE!$B39)","v":""},{"$f":"IF(LİSTE!$B40=0,\"\",LİSTE!$B40)","v":""},{"$f":"IF(LİSTE!$B41=0,\"\",LİSTE!$B41)","v":""}]
[null,"KAZANIMLAR",{"$f":"IF(LİSTE!$A3=0,\"\",LİSTE!$A3)","v":""},{"$f":"IF(LİSTE!$A4=0,\"\",LİSTE!$A4)","v":""},{"$f":"IF(LİSTE!$A5=0,\"\",LİSTE!$A5)","v":""},{"$f":"IF(LİSTE!$A6=0,\"\",LİSTE!$A6)","v":""},{"$f":"IF(LİSTE!$A7=0,\"\",LİSTE!$A7)","v":""},{"$f":"IF(LİSTE!$A8=0,\"\",LİSTE!$A8)","v":""},{"$f":"IF(LİSTE!$A9=0,\"\",LİSTE!$A9)","v":""},{"$f":"IF(LİSTE!$A10=0,\"\",LİSTE!$A10)","v":""},{"$f":"IF(LİSTE!$A11=0,\"\",LİSTE!$A11)","v":""},{"$f":"IF(LİSTE!$A12=0,\"\",LİSTE!$A12)","v":""},{"$f":"IF(LİSTE!$A13=0,\"\",LİSTE!$A13)","v":""},{"$f":"IF(LİSTE!$A14=0,\"\",LİSTE!$A14)","v":""},{"$f":"IF(LİSTE!$A15=0,\"\",LİSTE!$A15)","v":""},{"$f":"IF(LİSTE!$A16=0,\"\",LİSTE!$A16)","v":""},{"$f":"IF(LİSTE!$A17=0,\"\",LİSTE!$A17)","v":""},{"$f":"IF(LİSTE!$A18=0,\"\",LİSTE!$A18)","v":""},{"$f":"IF(LİSTE!$A19=0,\"\",LİSTE!$A19)","v":""},{"$f":"IF(LİSTE!$A20=0,\"\",LİSTE!$A20)","v":""},{"$f":"IF(LİSTE!$A21=0,\"\",LİSTE!$A21)","v":""},{"$f":"IF(LİSTE!$A22=0,\"\",LİSTE!$A22)","v":""},{"$f":"IF(LİSTE!$A23=0,\"\",LİSTE!$A23)","v":""},{"$f":"IF(LİSTE!$A24=0,\"\",LİSTE!$A24)","v":""},{"$f":"IF(LİSTE!$A25=0,\"\",LİSTE!$A25)","v":""},{"$f":"IF(LİSTE!$A26=0,\"\",LİSTE!$A26)","v":""},{"$f":"IF(LİSTE!$A27=0,\"\",LİSTE!$A27)","v":""},{"$f":"IF(LİSTE!$A28=0,\"\",LİSTE!$A28)","v":""},{"$f":"IF(LİSTE!$A29=0,\"\",LİSTE!$A29)","v":""},{"$f":"IF(LİSTE!$A30=0,\"\",LİSTE!$A30)","v":""},{"$f":"IF(LİSTE!$A31=0,\"\",LİSTE!$A31)","v":""},{"$f":"IF(LİSTE!$A32=0,\"\",LİSTE!$A32)","v":""},{"$f":"IF(LİSTE!$A33=0,\"\",LİSTE!$A33)","v":""},{"$f":"IF(LİSTE!$A34=0,\"\",LİSTE!$A34)","v":""},{"$f":"IF(LİSTE!$A35=0,\"\",LİSTE!$A35)","v":""},{"$f":"IF(LİSTE!$A36=0,\"\",LİSTE!$A36)","v":""},{"$f":"IF(LİSTE!$A37=0,\"\",LİSTE!$A37)","v":""},{"$f":"IF(LİSTE!$A38=0,\"\",LİSTE!$A38)","v":""},{"$f":"IF(LİSTE!$A39=0,\"\",LİSTE!$A39)","v":""},{"$f":"IF(LİSTE!$A40=0,\"\",LİSTE!$A40)","v":""},{"$f":"IF(LİSTE!$A41=0,\"\",LİSTE!$A41)","v":""}]
[null,"Okuduğu metnin içeriğine uygun başlık belirler."]
[null,"Şekil, sembol ve işaretlerin anlamlarını kavrar."]
[null,"Metin türlerini ayırt eder."]
[null,"Hikâye edici ve bilgilendirici metinleri oluşturan ögeleri tanır."]
[null,"Yönergeleri kavrar."]
[null,"Metindeki gerçek ve hayalî ögeleri ayırt eder."]
[null,"Okuduğu metindeki kahramanların özelliklerini karşılaştırır."]
[null,"Okudukları ile ilgili çıkarımlar yapar."]
[null,"Görsellerle okuduğu metnin içeriğini ilişkilendirir."]
[null,"Metindeki renkli, altı çizili, koyu ifadelerin önemli noktaları vurguladığını kavrar."]
[null,"Metinler arasında karşılaştırma yapar."]
[null,"Kısa ve basit dijital metinlerdeki mesajı kavrar."]
[null,"Medya metinlerini değerlendirir."]
[null,"Grafik, tablo ve çizelgelerle ilgili soruları cevaplar."]
[null,"Bilgi kaynaklarını etkili bir şekilde kullanır."]
[null,"Bilgi kaynaklarının güvenilirliğini sorgular."]
[null,"Okuduğu metindeki olaylara ilişkin düşüncelerini ifade eder."]
[null,"Şiir yazar."]
[null,"Bir işin işlem basamaklarına ilişkin yönergeler yazar."]
[null,"Hikâye edici metin yazar."]
[null,"Bilgilendirici metin yazar."]
[null,"Hayalî ögeler barındıran kısa metin yazar."]
[null,"Görselleri ilişkilendirerek bir olayı anlatır."]
[null,"Yazdıklarının içeriğine uygun başlık belirler."]
[null,"Yazdıklarında yabancı dillerden alınmış, dilimize henüz yerleşmemiş kelimelerin Türkçelerini kullanır."]
[null,"Formları yönergelerine uygun doldurur."]
[null,"Büyük harfleri ve noktalama işaretlerini uygun yerlerde kullanır."]
[null,"Yazdıklarını düzenler."]
[null,"Yazdıklarını paylaşır."]
[null,"Yazılarında eş sesli kelimeleri anlamlarına uygun kullanır."]
[null,"Yazdıklarını zenginleştirmek için çizim, grafik ve görseller kullanır."]
[null,"İmza atar."]
[null,"Kısaltmaları ve kısaltmalara gelen ekleri doğru yazar."]
[null,"Sayıları doğru yazar."]
[null,"Yazılarında bağlaçları kuralına uygun kullanır."]
[null,"Yazılarında kelimeleri gerçek, mecaz ve terim anlamları ile kullanır."]
[null,"Harflerin yapısal özelliklerine uygun metin yazar."]
[null,"Yazma stratejilerini uygular."]
[null,"Pekiştirmeli sözcükleri doğru yazar."]
[null,"TOPLAM PUAN",{"$f":"SUM(C4:C42)","v":0},0,0,0,0,0,0,0,0,0,0,0,0,0,0,0,0,0,0,0,0,0,0,0,0,0,0,0,0,0,0,0,0,0,0,0,0,0,0]
[null,"NOT KARŞILIĞI",{"$f":"(C43*100)/156","v":0},{"$f":"(D43*100)/156","v":0},0,0,0,0,0,0,0,0,0,0,0,0,0,0,0,0,0,0,0,0,0,0,0,0,0,0,0,0,0,0,0,0,0,0,0,0,0]
[null,null,null,null,null,null,null,null,null,null,null,null,null,null,null,null,null,null,null,null,null,null,null,null,null,null,null,null,null,null,null,null,null,{"$f":"LİSTE!D5","v":0}]
[null,null,null,null,null,null,null,null,null,null,null,null,null,null,null,null,null,null,null,null,null,null,null,null,null,null,null,null,null,null,null,null,null,{"$f":"CONCATENATE(LİSTE!D6,\" \",\"SINIF ÖĞRETMENİ\")","v":"4- SINIF ÖĞRETMENİ"}]

{"sheet":"TR3","index":25,"n_rows":17,"n_cols":41,"rows_kept":17,"cut":false,"hidden":false,"merged":[[15,2,15,9],[15,10,15,13],[15,33,15,39],[16,33,16,39]]}
[null,null,{"$f":"C15","v":70},{"$f":"D15","v":100},90,60,75,50,50,100,90,100,95,85,80,60,90,0,0,0,0,0,0,0,0,0,0,0,0,0,0,0,0,0,0,0,0,0,0,0,0]
[null,{"$f":"CONCATENATE(\" \",LİSTE!D2,\" \",LİSTE!D3,\"  \",LİSTE!D4,\" \",LİSTE!D6,\" \",\"SINIFI\",\" \",\"TÜRKÇE DERSİ DERS VE ETKİNLİKLERE KATILIM DEĞERLENDİRME FORMU 3 (KAZANIM)\")","v":" 2022-2023 EĞİTİM ÖĞRETİM YILI ATATÜRK İLKOKULU  1.DÖNEM 4- SINIFI TÜRKÇE DERSİ DERS VE ETKİNLİKLERE KATILIM DEĞERLENDİRME FORMU 3 (KAZANIM)"},{"$f":"IF(LİSTE!$B3=0,\"\",LİSTE!$B3)","v":""},{"$f":"IF(LİSTE!$B4=0,\"\",LİSTE!$B4)","v":""},{"$f":"IF(LİSTE!$B5=0,\"\",LİSTE!$B5)","v":""},{"$f":"IF(LİSTE!$B6=0,\"\",LİSTE!$B6)","v":""},{"$f":"IF(LİSTE!$B7=0,\"\",LİSTE!$B7)","v":""},{"$f":"IF(LİSTE!$B8=0,\"\",LİSTE!$B8)","v":""},{"$f":"IF(LİSTE!$B9=0,\"\",LİSTE!$B9)","v":""},{"$f":"IF(LİSTE!$B10=0,\"\",LİSTE!$B10)","v":""},{"$f":"IF(LİSTE!$B11=0,\"\",LİSTE!$B11)","v":""},{"$f":"IF(LİSTE!$B12=0,\"\",LİSTE!$B12)","v":""},{"$f":"IF(LİSTE!$B13=0,\"\",LİSTE!$B13)","v":""},{"$f":"IF(LİSTE!$B14=0,\"\",LİSTE!$B14)","v":""},{"$f":"IF(LİSTE!$B15=0,\"\",LİSTE!$B15)","v":""},{"$f":"IF(LİSTE!$B16=0,\"\",LİSTE!$B16)","v":""},{"$f":"IF(LİSTE!$B17=0,\"\",LİSTE!$B17)","v":""},{"$f":"IF(LİSTE!$B18=0,\"\",LİSTE!$B18)","v":""},{"$f":"IF(LİSTE!$B19=0,\"\",LİSTE!$B19)","v":""},{"$f":"IF(LİSTE!$B20=0,\"\",LİSTE!$B20)","v":""},{"$f":"IF(LİSTE!$B21=0,\"\",LİSTE!$B21)","v":""},{"$f":"IF(LİSTE!$B22=0,\"\",LİSTE!$B22)","v":""},{"$f":"IF(LİSTE!$B23=0,\"\",LİSTE!$B23)","v":""},{"$f":"IF(LİSTE!$B24=0,\"\",LİSTE!$B24)","v":""},{"$f":"IF(LİSTE!$B25=0,\"\",LİSTE!$B25)","v":""},{"$f":"IF(LİSTE!$B26=0,\"\",LİSTE!$B26)","v":""},{"$f":"IF(LİSTE!$B27=0,\"\",LİSTE!$B27)","v":""},{"$f":"IF(LİSTE!$B28=0,\"\",LİSTE!$B28)","v":""},{"$f":"IF(LİSTE!$B29=0,\"\",LİSTE!$B29)","v":""},{"$f":"IF(LİSTE!$B30=0,\"\",LİSTE!$B30)","v":""},{"$f":"IF(LİSTE!$B31=0,\"\",LİSTE!$B31)","v":""},{"$f":"IF(LİSTE!$B32=0,\"\",LİSTE!$B32)","v":""},{"$f":"IF(LİSTE!$B33=0,\"\",LİSTE!$B33)","v":""},{"$f":"IF(LİSTE!$B34=0,\"\",LİSTE!$B34)","v":""},{"$f":"IF(LİSTE!$B35=0,\"\",LİSTE!$B35)","v":""},{"$f":"IF(LİSTE!$B36=0,\"\",LİSTE!$B36)","v":""},{"$f":"IF(LİSTE!$B37=0,\"\",LİSTE!$B37)","v":""},{"$f":"IF(LİSTE!$B38=0,\"\",LİSTE!$B38)","v":""},{"$f":"IF(LİSTE!$B39=0,\"\",LİSTE!$B39)","v":""},{"$f":"IF(LİSTE!$B40=0,\"\",LİSTE!$B40)","v":""},{"$f":"IF(LİSTE!$B41=0,\"\",LİSTE!$B41)","v":""}]
[null,"KAZANIMLAR",{"$f":"IF(LİSTE!$A3=0,\"\",LİSTE!$A3)","v":""},{"$f":"IF(LİSTE!$A4=0,\"\",LİSTE!$A4)","v":""},{"$f":"IF(LİSTE!$A5=0,\"\",LİSTE!$A5)","v":""},{"$f":"IF(LİSTE!$A6=0,\"\",LİSTE!$A6)","v":""},{"$f":"IF(LİSTE!$A7=0,\"\",LİSTE!$A7)","v":""},{"$f":"IF(LİSTE!$A8=0,\"\",LİSTE!$A8)","v":""},{"$f":"IF(LİSTE!$A9=0,\"\",LİSTE!$A9)","v":""},{"$f":"IF(LİSTE!$A10=0,\"\",LİSTE!$A10)","v":""},{"$f":"IF(LİSTE!$A11=0,\"\",LİSTE!$A11)","v":""},{"$f":"IF(LİSTE!$A12=0,\"\",LİSTE!$A12)","v":""},{"$f":"IF(LİSTE!$A13=0,\"\",LİSTE!$A13)","v":""},{"$f":"IF(LİSTE!$A14=0,\"\",LİSTE!$A14)","v":""},{"$f":"IF(LİSTE!$A15=0,\"\",LİSTE!$A15)","v":""},{"$f":"IF(LİSTE!$A16=0,\"\",LİSTE!$A16)","v":""},{"$f":"IF(LİSTE!$A17=0,\"\",LİSTE!$A17)","v":""},{"$f":"IF(LİSTE!$A18=0,\"\",LİSTE!$A18)","v":""},{"$f":"IF(LİSTE!$A19=0,\"\",LİSTE!$A19)","v":""},{"$f":"IF(LİSTE!$A20=0,\"\",LİSTE!$A20)","v":""},{"$f":"IF(LİSTE!$A21=0,\"\",LİSTE!$A21)","v":""},{"$f":"IF(LİSTE!$A22=0,\"\",LİSTE!$A22)","v":""},{"$f":"IF(LİSTE!$A23=0,\"\",LİSTE!$A23)","v":""},{"$f":"IF(LİSTE!$A24=0,\"\",LİSTE!$A24)","v":""},{"$f":"IF(LİSTE!$A25=0,\"\",LİSTE!$A25)","v":""},{"$f":"IF(LİSTE!$A26=0,\"\",LİSTE!$A26)","v":""},{"$f":"IF(LİSTE!$A27=0,\"\",LİSTE!$A27)","v":""},{"$f":"IF(LİSTE!$A28=0,\"\",LİSTE!$A28)","v":""},{"$f":"IF(LİSTE!$A29=0,\"\",LİSTE!$A29)","v":""},{"$f":"IF(LİSTE!$A30=0,\"\",LİSTE!$A30)","v":""},{"$f":"IF(LİSTE!$A31=0,\"\",LİSTE!$A31)","v":""},{"$f":"IF(LİSTE!$A32=0,\"\",LİSTE!$A32)","v":""},{"$f":"IF(LİSTE!$A33=0,\"\",LİSTE!$A33)","v":""},{"$f":"IF(LİSTE!$A34=0,\"\",LİSTE!$A34)","v":""},{"$f":"IF(LİSTE!$A35=0,\"\",LİSTE!$A35)","v":""},{"$f":"IF(LİSTE!$A36=0,\"\",LİSTE!$A36)","v":""},{"$f":"IF(LİSTE!$A37=0,\"\",LİSTE!$A37)","v":""},{"$f":"IF(LİSTE!$A38=0,\"\",LİSTE!$A38)","v":""},{"$f":"IF(LİSTE!$A39=0,\"\",LİSTE!$A39)","v":""},{"$f":"IF(LİSTE!$A40=0,\"\",LİSTE!$A40)","v":""},{"$f":"IF(LİSTE!$A41=0,\"\",LİSTE!$A41)","v":""}]
[null,"Derslere hazırlıklı gelme",2,4,4,2,3,2,3,4,3,4,3,3,3,2,4]
[null,"Verilen görevleri isteyerek ve zamanında yapma",3,4,3,2,2,2,2,4,4,4,4,3,3,3,4]
[null,"Ders araç-gereçlerini amacına uygun ve temiz kullanma",4,4,3,3,4,3,3,4,4,4,4,4,3,3,4]
[null,"Dikkatini derse yoğunlaştırma",2,4,4,2,3,2,2,4,4,4,4,4,3,2,3]
[null,"Derse katılımda istekli ve aktif olma, soru sorma, özgüven",2,4,4,2,3,1,2,4,3,4,4,3,3,2,3]
[null,"Görüşleriyle tartışmalara katılma",2,4,4,2,3,1,2,4,3,4,4,3,3,2,3]
[null,"İşbirliği yapma",3,4,4,3,3,2,2,4,4,4,4,4,4,3,4]
[null,"Etkinlik örneklerini özenli ve dikkatli yapma",3,4,3,3,3,2,1,4,4,4,4,3,3,2,4]
[null,"Türkçeyi doğru, güzel ve etkili kullanma",4,4,4,3,3,3,2,4,4,4,4,4,3,2,4]
[null,"Okuma becerisini geliştirmeye yönelik çalışmalar yapma",3,4,3,2,3,2,1,4,3,4,3,3,4,3,3]
[null,"TOPLAM PUAN",{"$f":"SUM(C4:C13)","v":28},40,36,24,30,20,20,40,36,40,38,34,32,24,36,0,0,0,0,0,0,0,0,0,0,0,0,0,0,0,0,0,0,0,0,0,0,0,0]
[null,"NOT KARŞILIĞI",{"$f":"(C14*100)/40","v":70},{"$f":"(D14*100)/40","v":100},90,60,75,50,50,100,90,100,95,85,80,60,90,0,0,0,0,0,0,0,0,0,0,0,0,0,0,0,0,0,0,0,0,0,0,0,0]
[null,null,null,null,null,null,null,null,null,null,null,null,null,null,null,null,null,null,null,null,null,null,null,null,null,null,null,null,null,null,null,null,null,{"$f":"LİSTE!D5","v":0}]
[null,null,null,null,null,null,null,null,null,null,null,null,null,null,null,null,null,null,null,null,null,null,null,null,null,null,null,null,null,null,null,null,null,{"$f":"CONCATENATE(LİSTE!D6,\" \",\"SINIF ÖĞRETMENİ\")","v":"4- SINIF ÖĞRETMENİ"}]